BEGIN:VCALENDAR
VERSION:2.0
PRODID:-//West Sound Brewers - ECPv6.15.20//NONSGML v1.0//EN
CALSCALE:GREGORIAN
METHOD:PUBLISH
X-ORIGINAL-URL:https://westsoundbrewers.com
X-WR-CALDESC:Events for West Sound Brewers
REFRESH-INTERVAL;VALUE=DURATION:PT1H
X-Robots-Tag:noindex
X-PUBLISHED-TTL:PT1H
BEGIN:VTIMEZONE
TZID:America/Los_Angeles
BEGIN:DAYLIGHT
TZOFFSETFROM:-0800
TZOFFSETTO:-0700
TZNAME:PDT
DTSTART:20250309T100000
END:DAYLIGHT
BEGIN:STANDARD
TZOFFSETFROM:-0700
TZOFFSETTO:-0800
TZNAME:PST
DTSTART:20251102T090000
END:STANDARD
BEGIN:DAYLIGHT
TZOFFSETFROM:-0800
TZOFFSETTO:-0700
TZNAME:PDT
DTSTART:20260308T100000
END:DAYLIGHT
BEGIN:STANDARD
TZOFFSETFROM:-0700
TZOFFSETTO:-0800
TZNAME:PST
DTSTART:20261101T090000
END:STANDARD
BEGIN:DAYLIGHT
TZOFFSETFROM:-0800
TZOFFSETTO:-0700
TZNAME:PDT
DTSTART:20270314T100000
END:DAYLIGHT
BEGIN:STANDARD
TZOFFSETFROM:-0700
TZOFFSETTO:-0800
TZNAME:PST
DTSTART:20271107T090000
END:STANDARD
END:VTIMEZONE
BEGIN:VEVENT
DTSTART;TZID=America/Los_Angeles:20260305T173000
DTEND;TZID=America/Los_Angeles:20260305T190000
DTSTAMP:20260423T100400
CREATED:20260225T022855Z
LAST-MODIFIED:20260226T040538Z
UID:3338-1772731800-1772737200@westsoundbrewers.com
SUMMARY:weekday wet your whistle - valholl
DESCRIPTION:
URL:https://westsoundbrewers.com/event/weekday-wet-your-whistle-valholl-4/
LOCATION:Valholl Brewing\, 18970 3rd Ave NE\, Poulsbo\, Washington\, 98370\, United States
CATEGORIES:Wet your Whistle Weekday
END:VEVENT
BEGIN:VEVENT
DTSTART;TZID=America/Los_Angeles:20260310T173000
DTEND;TZID=America/Los_Angeles:20260310T190000
DTSTAMP:20260423T100400
CREATED:20260308T203822Z
LAST-MODIFIED:20260309T144154Z
UID:3362-1773163800-1773169200@westsoundbrewers.com
SUMMARY:wsb board meeting ridgeline
DESCRIPTION:
URL:https://westsoundbrewers.com/event/wsb-board-meeting-ridgeline/
LOCATION:Ridgeline Brewing\, 941 North Callow Ave\, Bremerton\, WA\, 98312\, United States
CATEGORIES:Board Meeting,Wet your Whistle Weekday
END:VEVENT
BEGIN:VEVENT
DTSTART;TZID=America/Los_Angeles:20260311T173000
DTEND;TZID=America/Los_Angeles:20260311T235959
DTSTAMP:20260423T100400
CREATED:20260306T015802Z
LAST-MODIFIED:20260306T015802Z
UID:3352-1773250200-1773273599@westsoundbrewers.com
SUMMARY:weekday wet your whistle
DESCRIPTION:
URL:https://westsoundbrewers.com/event/weekday-wet-your-whistle-17/
LOCATION:Silver City Brewery and Taproom\, 206 Katy Penman\, Bremerton\, WA\, 98312\, United States
CATEGORIES:Wet your Whistle Weekday
END:VEVENT
BEGIN:VEVENT
DTSTART;TZID=America/Los_Angeles:20260314T090000
DTEND;TZID=America/Los_Angeles:20260314T120000
DTSTAMP:20260423T100400
CREATED:20260116T164000Z
LAST-MODIFIED:20260116T164005Z
UID:3309-1773478800-1773489600@westsoundbrewers.com
SUMMARY:Poulsbo Beer Run
DESCRIPTION:
URL:https://westsoundbrewers.com/event/poulsbo-beer-run-4/
LOCATION:WA
CATEGORIES:Club Interest
END:VEVENT
BEGIN:VEVENT
DTSTART;TZID=America/Los_Angeles:20260319T173000
DTEND;TZID=America/Los_Angeles:20260319T235959
DTSTAMP:20260423T100400
CREATED:20260312T025410Z
LAST-MODIFIED:20260312T025410Z
UID:3369-1773941400-1773964799@westsoundbrewers.com
SUMMARY:weekday wet your whistle peninsula
DESCRIPTION:
URL:https://westsoundbrewers.com/event/weekday-wet-your-whistle-peninsula/
LOCATION:Peninsula Brewhouse\, 3388 Nw Byron St\, Silverdale\, Washington\, 98383\, United States
CATEGORIES:Wet your Whistle Weekday
END:VEVENT
BEGIN:VEVENT
DTSTART;TZID=America/Los_Angeles:20260321T140000
DTEND;TZID=America/Los_Angeles:20260321T170000
DTSTAMP:20260423T100400
CREATED:20260219T025032Z
LAST-MODIFIED:20260219T025037Z
UID:3333-1774101600-1774112400@westsoundbrewers.com
SUMMARY:Wood Touched
DESCRIPTION:Bring your beverage which has been kissed by the flavor of wood. We will be picking the club’s favorite by ballot. \n\n\n\nBring munchies to share. \n\n\n\nPlan to support our host with brews before and after.
URL:https://westsoundbrewers.com/event/wood-touched/
LOCATION:Echoes Brewing\, 19479 Viking Avenue Northwest\,\, Poulsbo\, WA\, 98370\, United States
END:VEVENT
BEGIN:VEVENT
DTSTART;TZID=America/Los_Angeles:20260325T173000
DTEND;TZID=America/Los_Angeles:20260325T235959
DTSTAMP:20260423T100400
CREATED:20260320T005425Z
LAST-MODIFIED:20260320T005425Z
UID:3375-1774459800-1774483199@westsoundbrewers.com
SUMMARY:weekday wet your whistle - moment
DESCRIPTION:
URL:https://westsoundbrewers.com/event/weekday-wet-your-whistle-moment-5/
LOCATION:Moment Brewing\, 10876 Myhre Pl NW Suite 112\, Silverdale\, WA\, 98383\, United States
CATEGORIES:Wet your Whistle Weekday
END:VEVENT
END:VCALENDAR