BEGIN:VCALENDAR
VERSION:2.0
PRODID:-//West Sound Brewers - ECPv6.15.20//NONSGML v1.0//EN
CALSCALE:GREGORIAN
METHOD:PUBLISH
X-ORIGINAL-URL:https://westsoundbrewers.com
X-WR-CALDESC:Events for West Sound Brewers
REFRESH-INTERVAL;VALUE=DURATION:PT1H
X-Robots-Tag:noindex
X-PUBLISHED-TTL:PT1H
BEGIN:VTIMEZONE
TZID:America/Los_Angeles
BEGIN:DAYLIGHT
TZOFFSETFROM:-0800
TZOFFSETTO:-0700
TZNAME:PDT
DTSTART:20240310T100000
END:DAYLIGHT
BEGIN:STANDARD
TZOFFSETFROM:-0700
TZOFFSETTO:-0800
TZNAME:PST
DTSTART:20241103T090000
END:STANDARD
BEGIN:DAYLIGHT
TZOFFSETFROM:-0800
TZOFFSETTO:-0700
TZNAME:PDT
DTSTART:20250309T100000
END:DAYLIGHT
BEGIN:STANDARD
TZOFFSETFROM:-0700
TZOFFSETTO:-0800
TZNAME:PST
DTSTART:20251102T090000
END:STANDARD
BEGIN:DAYLIGHT
TZOFFSETFROM:-0800
TZOFFSETTO:-0700
TZNAME:PDT
DTSTART:20260308T100000
END:DAYLIGHT
BEGIN:STANDARD
TZOFFSETFROM:-0700
TZOFFSETTO:-0800
TZNAME:PST
DTSTART:20261101T090000
END:STANDARD
END:VTIMEZONE
BEGIN:VEVENT
DTSTART;TZID=America/Los_Angeles:20251106T173000
DTEND;TZID=America/Los_Angeles:20251106T190000
DTSTAMP:20260423T160241
CREATED:20251030T002735Z
LAST-MODIFIED:20251107T001426Z
UID:3259-1762450200-1762455600@westsoundbrewers.com
SUMMARY:weekday wet your whistle - deep draft
DESCRIPTION:
URL:https://westsoundbrewers.com/event/weekday-wet-your-whistle-deep-draft-6/
LOCATION:Deep Draft Brewing\, 3536 W Belfair Valley Rd\, Bremerton\, WA\, 98312\, United States
END:VEVENT
BEGIN:VEVENT
DTSTART;TZID=America/Los_Angeles:20251111T173000
DTEND;TZID=America/Los_Angeles:20251111T190000
DTSTAMP:20260423T160241
CREATED:20250105T202936Z
LAST-MODIFIED:20250707T010444Z
UID:2991-1762882200-1762887600@westsoundbrewers.com
SUMMARY:WSB Board Meeting & WWYW - Ridgeline
DESCRIPTION:
URL:https://westsoundbrewers.com/event/board-meeting-and-weekday-wet-your-whistle-ridgeline-11/
LOCATION:Ridgeline Brewing\, 941 North Callow Ave\, Bremerton\, WA\, 98312\, United States
CATEGORIES:Board Meeting,Wet your Whistle Weekday
END:VEVENT
BEGIN:VEVENT
DTSTART;TZID=America/Los_Angeles:20251118T173000
DTEND;TZID=America/Los_Angeles:20251118T190000
DTSTAMP:20260423T160241
CREATED:20251115T202909Z
LAST-MODIFIED:20251115T202916Z
UID:3265-1763487000-1763492400@westsoundbrewers.com
SUMMARY:Weekday Wet Your Whistle - Grumble & Wine
DESCRIPTION:
URL:https://westsoundbrewers.com/event/weekday-wet-your-whistle-grumble-wine/
LOCATION:Grumble & Wine\, 322 Pacific Avenue\, Bremerton\, Washington\, 98337\, United States
CATEGORIES:Wet your Whistle Weekday
END:VEVENT
BEGIN:VEVENT
DTSTART;TZID=America/Los_Angeles:20251122T120000
DTEND;TZID=America/Los_Angeles:20251122T180000
DTSTAMP:20260423T160241
CREATED:20250901T013813Z
LAST-MODIFIED:20251017T033315Z
UID:3221-1763812800-1763834400@westsoundbrewers.com
SUMMARY:Beervent Boxing & Distribution
DESCRIPTION:Come early if you want to help the officers redistribute contributions into mixed cases. \n\n\n\nWe will be raffling ($5 per ticket) off some mixed cases (our 2025 Beervent Calendar). These are unknown beverages from brewers and will be tagged with a day in December to drink them. An email should come out describing the beverage on the day it is scheduled to drink. Brewers have donated a case of their beverage and will receive a mixed case with everybody’s contribution. Some overachievers have contributed more than one beverage and are donating the mixed case for this fundraiser. \n\n\n\nIf you have 24 or so roughly 12 ounce containers of something you want to share ready\, click this link to sign up for contributing. \n\n\n\nBring a potluck contribution\, your enthusiasm\, money for raffle tickets\, and a beverage to share (optional)
URL:https://westsoundbrewers.com/event/beervent-boxing-distribution/
LOCATION:Ridgeline Brewing\, 941 North Callow Ave\, Bremerton\, WA\, 98312\, United States
END:VEVENT
BEGIN:VEVENT
DTSTART;TZID=America/Los_Angeles:20251125T173000
DTEND;TZID=America/Los_Angeles:20251125T190000
DTSTAMP:20260423T160241
CREATED:20251124T225509Z
LAST-MODIFIED:20251124T225514Z
UID:3276-1764091800-1764097200@westsoundbrewers.com
SUMMARY:Weekday Wet Your Whistle - Crane's Castle
DESCRIPTION:
URL:https://westsoundbrewers.com/event/weekday-wet-your-whistle-cranes-castle-6/
LOCATION:Crane’s Castle Brewing\, 1550 NE Riddell Rd\, Suite #180\, Bremerton\, WA\, 98310\, United States
END:VEVENT
END:VCALENDAR