BEGIN:VCALENDAR
VERSION:2.0
PRODID:-//West Sound Brewers - ECPv6.15.20//NONSGML v1.0//EN
CALSCALE:GREGORIAN
METHOD:PUBLISH
X-ORIGINAL-URL:https://westsoundbrewers.com
X-WR-CALDESC:Events for West Sound Brewers
REFRESH-INTERVAL;VALUE=DURATION:PT1H
X-Robots-Tag:noindex
X-PUBLISHED-TTL:PT1H
BEGIN:VTIMEZONE
TZID:America/Los_Angeles
BEGIN:DAYLIGHT
TZOFFSETFROM:-0800
TZOFFSETTO:-0700
TZNAME:PDT
DTSTART:20240310T100000
END:DAYLIGHT
BEGIN:STANDARD
TZOFFSETFROM:-0700
TZOFFSETTO:-0800
TZNAME:PST
DTSTART:20241103T090000
END:STANDARD
BEGIN:DAYLIGHT
TZOFFSETFROM:-0800
TZOFFSETTO:-0700
TZNAME:PDT
DTSTART:20250309T100000
END:DAYLIGHT
BEGIN:STANDARD
TZOFFSETFROM:-0700
TZOFFSETTO:-0800
TZNAME:PST
DTSTART:20251102T090000
END:STANDARD
BEGIN:DAYLIGHT
TZOFFSETFROM:-0800
TZOFFSETTO:-0700
TZNAME:PDT
DTSTART:20260308T100000
END:DAYLIGHT
BEGIN:STANDARD
TZOFFSETFROM:-0700
TZOFFSETTO:-0800
TZNAME:PST
DTSTART:20261101T090000
END:STANDARD
END:VTIMEZONE
BEGIN:VEVENT
DTSTART;TZID=America/Los_Angeles:20251004T090000
DTEND;TZID=America/Los_Angeles:20251004T130000
DTSTAMP:20260423T173223
CREATED:20241009T152334Z
LAST-MODIFIED:20241009T152341Z
UID:2883-1759568400-1759582800@westsoundbrewers.com
SUMMARY:Poulsbo Beer Run
DESCRIPTION:
URL:https://westsoundbrewers.com/event/poulsbo-beer-run-3/
LOCATION:WA
CATEGORIES:Club Interest
END:VEVENT
BEGIN:VEVENT
DTSTART;TZID=America/Los_Angeles:20251008T173000
DTEND;TZID=America/Los_Angeles:20251008T235959
DTSTAMP:20260423T173223
CREATED:20251006T155124Z
LAST-MODIFIED:20251006T155124Z
UID:3244-1759944600-1759967999@westsoundbrewers.com
SUMMARY:weekday wet your whistle - western red
DESCRIPTION:
URL:https://westsoundbrewers.com/event/weekday-wet-your-whistle-western-red-5/
LOCATION:Western Red Brewing\, 19168 Jensen Way NE Box 2905\, poulsbo\, Washington\, 98370\, United States
CATEGORIES:Wet your Whistle Weekday
END:VEVENT
BEGIN:VEVENT
DTSTART;TZID=America/Los_Angeles:20251011T120000
DTEND;TZID=America/Los_Angeles:20251011T170000
DTSTAMP:20260423T173223
CREATED:20250928T230325Z
LAST-MODIFIED:20250928T230329Z
UID:3223-1760184000-1760202000@westsoundbrewers.com
SUMMARY:Strong & Dark Lagers - Alan Moum
DESCRIPTION:Join us at Alan Moum’s place 2300 NW Lutes Rd \n\n\n\nAlso featuring “The Blob” \n\n\n\nBring fancy Poo Poo’s (Finger Foods) to share. \n\n\n\nPlease carpool if possible. Parking is limited. Park at the top of the driveway.
URL:https://westsoundbrewers.com/event/strong-dark-lagers-alan-moum/
LOCATION:Alan Moum residence\, 2390 NW Lutes Road\, Poulsbo\, WA\, United States
END:VEVENT
BEGIN:VEVENT
DTSTART;TZID=America/Los_Angeles:20251014T173000
DTEND;TZID=America/Los_Angeles:20251014T190000
DTSTAMP:20260423T173223
CREATED:20250105T202825Z
LAST-MODIFIED:20250707T010459Z
UID:2989-1760463000-1760468400@westsoundbrewers.com
SUMMARY:WSB Board Meeting & WWYW - Ridgeline
DESCRIPTION:
URL:https://westsoundbrewers.com/event/board-meeting-and-weekday-wet-your-whistle-ridgeline-10/
LOCATION:Ridgeline Brewing\, 941 North Callow Ave\, Bremerton\, WA\, 98312\, United States
CATEGORIES:Board Meeting,Wet your Whistle Weekday
END:VEVENT
BEGIN:VEVENT
DTSTART;TZID=America/Los_Angeles:20251021T173000
DTEND;TZID=America/Los_Angeles:20251021T190000
DTSTAMP:20260423T173223
CREATED:20251015T010942Z
LAST-MODIFIED:20251017T033412Z
UID:3246-1761067800-1761073200@westsoundbrewers.com
SUMMARY:weekday wet your whistle - hood canal
DESCRIPTION:
URL:https://westsoundbrewers.com/event/weekday-wet-your-whistle-hood-canal-4/
LOCATION:Hood Canal Brewing\, 26499 Bond Rd NE\, Kingston\, WA\, 98346\, United States
CATEGORIES:Wet your Whistle Weekday
END:VEVENT
BEGIN:VEVENT
DTSTART;TZID=America/Los_Angeles:20251029T173000
DTEND;TZID=America/Los_Angeles:20251029T235959
DTSTAMP:20260423T173223
CREATED:20251022T175120Z
LAST-MODIFIED:20251022T175120Z
UID:3256-1761759000-1761782399@westsoundbrewers.com
SUMMARY:weekday wet your whistle
DESCRIPTION:
URL:https://westsoundbrewers.com/event/weekday-wet-your-whistle-14/
LOCATION:Dog Days Brewing\, 260 4th St\, Bremerton\, WA\, 98337\, United States
CATEGORIES:Wet your Whistle Weekday
END:VEVENT
END:VCALENDAR