BEGIN:VCALENDAR
VERSION:2.0
PRODID:-//West Sound Brewers - ECPv6.15.20//NONSGML v1.0//EN
CALSCALE:GREGORIAN
METHOD:PUBLISH
X-WR-CALNAME:West Sound Brewers
X-ORIGINAL-URL:https://westsoundbrewers.com
X-WR-CALDESC:Events for West Sound Brewers
REFRESH-INTERVAL;VALUE=DURATION:PT1H
X-Robots-Tag:noindex
X-PUBLISHED-TTL:PT1H
BEGIN:VTIMEZONE
TZID:America/Los_Angeles
BEGIN:DAYLIGHT
TZOFFSETFROM:-0800
TZOFFSETTO:-0700
TZNAME:PDT
DTSTART:20220313T100000
END:DAYLIGHT
BEGIN:STANDARD
TZOFFSETFROM:-0700
TZOFFSETTO:-0800
TZNAME:PST
DTSTART:20221106T090000
END:STANDARD
BEGIN:DAYLIGHT
TZOFFSETFROM:-0800
TZOFFSETTO:-0700
TZNAME:PDT
DTSTART:20230312T100000
END:DAYLIGHT
BEGIN:STANDARD
TZOFFSETFROM:-0700
TZOFFSETTO:-0800
TZNAME:PST
DTSTART:20231105T090000
END:STANDARD
BEGIN:DAYLIGHT
TZOFFSETFROM:-0800
TZOFFSETTO:-0700
TZNAME:PDT
DTSTART:20240310T100000
END:DAYLIGHT
BEGIN:STANDARD
TZOFFSETFROM:-0700
TZOFFSETTO:-0800
TZNAME:PST
DTSTART:20241103T090000
END:STANDARD
END:VTIMEZONE
BEGIN:VEVENT
DTSTART;TZID=America/Los_Angeles:20230906T173000
DTEND;TZID=America/Los_Angeles:20230906T190000
DTSTAMP:20260425T054133
CREATED:20230902T015315Z
LAST-MODIFIED:20230902T015317Z
UID:322-1694021400-1694026800@westsoundbrewers.com
SUMMARY:Weekday Wet Your Whistle
DESCRIPTION:
URL:https://westsoundbrewers.com/event/weekday-wet-your-whistle-4/
LOCATION:Ashley’s Pub\, 409 Pacific Ave Suite 105\, Bremerton\, WA\, 98337\, United States
END:VEVENT
BEGIN:VEVENT
DTSTART;TZID=America/Los_Angeles:20230912T173000
DTEND;TZID=America/Los_Angeles:20230912T190000
DTSTAMP:20260425T054133
CREATED:20230912T021632Z
LAST-MODIFIED:20230912T021633Z
UID:325-1694539800-1694545200@westsoundbrewers.com
SUMMARY:Weekly Wet Your Whistle - Tracyton Pub
DESCRIPTION:
URL:https://westsoundbrewers.com/event/weekly-wet-your-whistle-tracyton-pub/
LOCATION:WA
END:VEVENT
BEGIN:VEVENT
DTSTART;TZID=America/Los_Angeles:20230913T173000
DTEND;TZID=America/Los_Angeles:20230913T183000
DTSTAMP:20260425T054133
CREATED:20230706T005238Z
LAST-MODIFIED:20230706T005239Z
UID:284-1694626200-1694629800@westsoundbrewers.com
SUMMARY:Board Meeting
DESCRIPTION:
URL:https://westsoundbrewers.com/event/board-meeting-5/
LOCATION:Ridgeline Brewing\, 941 North Callow Ave\, Bremerton\, WA\, 98312\, United States
END:VEVENT
BEGIN:VEVENT
DTSTART;TZID=America/Los_Angeles:20230921T173000
DTEND;TZID=America/Los_Angeles:20230921T200000
DTSTAMP:20260425T054133
CREATED:20230920T190251Z
LAST-MODIFIED:20230920T190309Z
UID:339-1695317400-1695326400@westsoundbrewers.com
SUMMARY:Weekday Wet Your Whistle - Mark Lowe
DESCRIPTION:We’re switching things up this week and going to meet up at Mark Lowe’s House near the Keyport/Brownsville area (Near the park where we had our July Meeting). Mark states that he has too much beer and is need of some help\, so he is glad to graciously host us! For Address please reach out to Mark or a Club Officer! Potluck dishes\, snacks\, and beers to share are encouraged!
URL:https://westsoundbrewers.com/event/weekday-wet-your-whistle-mark-lowe/
LOCATION:WA
END:VEVENT
BEGIN:VEVENT
DTSTART;TZID=America/Los_Angeles:20230923T140000
DTEND;TZID=America/Los_Angeles:20230923T233000
DTSTAMP:20260425T054133
CREATED:20230621T030751Z
LAST-MODIFIED:20230914T020441Z
UID:261-1695477600-1695511800@westsoundbrewers.com
SUMMARY:Octoberfest Meeting
DESCRIPTION:Join us for a celebration of Oktoberfest at Bruce Zelazoski’s place. \n\n\n\nWe will prepare some kind of main dish and have a few appetizers and sides. I’ll have water and spare tasting glasses as well as tubs for ice for home brews that clubmembers bring. We’ve added seating on the deck but unfortunately my deck expansion plan which would have brought better sun cover is still pending a permit from Kitsap County. (Long sad story there for another time). \n\n\n\nI’ll have 3 of my own home brews on tap. Honey Lemon Yarrow Ale\, Wry Widgeon rye IPA and a Belgian Triple. \n\n\n\nWe have plenty of room inside in the event of bad weather. Right now the long term forecast is favorable for a comfortable day but we all know how accurate that can be (not). \n\n\n\nYou should be able to get through the gate by pressing the call box. \n\n\n\nPlenty of parking by the shop buildings. If anyone wants to drive right up to the deck to unload chairs or beer that is perfectly fine. The lawn is rock hard.
URL:https://westsoundbrewers.com/event/octoberfest-meeting/
LOCATION:WA
END:VEVENT
BEGIN:VEVENT
DTSTART;TZID=America/Los_Angeles:20230927T173000
DTEND;TZID=America/Los_Angeles:20230927T190000
DTSTAMP:20260425T054133
CREATED:20230925T042211Z
LAST-MODIFIED:20230925T042213Z
UID:344-1695835800-1695841200@westsoundbrewers.com
SUMMARY:Weekday Wet Your Whistle - Western Red
DESCRIPTION:
URL:https://westsoundbrewers.com/event/weekday-wet-your-whistle-western-red/
LOCATION:Western Red Brewing\, 19168 Jensen Way NE Box 2905\, poulsbo\, Washington\, 98370\, United States
END:VEVENT
BEGIN:VEVENT
DTSTART;TZID=America/Los_Angeles:20230929T000000
DTEND;TZID=America/Los_Angeles:20231013T235959
DTSTAMP:20260425T054133
CREATED:20230514T040656Z
LAST-MODIFIED:20230514T040658Z
UID:219-1695945600-1697241599@westsoundbrewers.com
SUMMARY:Lights Out - drop off at Oly Brew?
DESCRIPTION:https://reggiebeer.com/ReggieEntry.php?CompetitionID=LOXYUN1000794
URL:https://westsoundbrewers.com/event/lights-out-drop-off-at-oly-brew/
LOCATION:WA
END:VEVENT
END:VCALENDAR