BEGIN:VCALENDAR
VERSION:2.0
PRODID:-//West Sound Brewers - ECPv6.15.20//NONSGML v1.0//EN
CALSCALE:GREGORIAN
METHOD:PUBLISH
X-ORIGINAL-URL:https://westsoundbrewers.com
X-WR-CALDESC:Events for West Sound Brewers
REFRESH-INTERVAL;VALUE=DURATION:PT1H
X-Robots-Tag:noindex
X-PUBLISHED-TTL:PT1H
BEGIN:VTIMEZONE
TZID:America/Los_Angeles
BEGIN:DAYLIGHT
TZOFFSETFROM:-0800
TZOFFSETTO:-0700
TZNAME:PDT
DTSTART:20220313T100000
END:DAYLIGHT
BEGIN:STANDARD
TZOFFSETFROM:-0700
TZOFFSETTO:-0800
TZNAME:PST
DTSTART:20221106T090000
END:STANDARD
BEGIN:DAYLIGHT
TZOFFSETFROM:-0800
TZOFFSETTO:-0700
TZNAME:PDT
DTSTART:20230312T100000
END:DAYLIGHT
BEGIN:STANDARD
TZOFFSETFROM:-0700
TZOFFSETTO:-0800
TZNAME:PST
DTSTART:20231105T090000
END:STANDARD
BEGIN:DAYLIGHT
TZOFFSETFROM:-0800
TZOFFSETTO:-0700
TZNAME:PDT
DTSTART:20240310T100000
END:DAYLIGHT
BEGIN:STANDARD
TZOFFSETFROM:-0700
TZOFFSETTO:-0800
TZNAME:PST
DTSTART:20241103T090000
END:STANDARD
END:VTIMEZONE
BEGIN:VEVENT
DTSTART;TZID=America/Los_Angeles:20230801T000000
DTEND;TZID=America/Los_Angeles:20230801T235959
DTSTAMP:20260425T070703
CREATED:20230414T043802Z
LAST-MODIFIED:20230522T042639Z
UID:190-1690848000-1690934399@westsoundbrewers.com
SUMMARY:Start Drinking Summer "Advent" Beers
DESCRIPTION:Sign up form
URL:https://westsoundbrewers.com/event/start-drinking-summer-advent-beers/
LOCATION:WA
END:VEVENT
BEGIN:VEVENT
DTSTART;TZID=America/Los_Angeles:20230803T173000
DTEND;TZID=America/Los_Angeles:20230803T190000
DTSTAMP:20260425T070703
CREATED:20230729T063055Z
LAST-MODIFIED:20230729T063154Z
UID:300-1691083800-1691089200@westsoundbrewers.com
SUMMARY:Weekday Wet your Whistle - Hood Canal
DESCRIPTION:
URL:https://westsoundbrewers.com/event/300/
LOCATION:Hood Canal Brewing\, 26499 Bond Rd NE\, Kingston\, WA\, 98346\, United States
END:VEVENT
BEGIN:VEVENT
DTSTART;TZID=America/Los_Angeles:20230805T100000
DTEND;TZID=America/Los_Angeles:20230806T120000
DTSTAMP:20260425T070703
CREATED:20230321T044748Z
LAST-MODIFIED:20230729T063653Z
UID:149-1691229600-1691323200@westsoundbrewers.com
SUMMARY:Beerstock
DESCRIPTION:BEERSTOCK will be Saturday August 5th. The theme is the movie “Strange Brew” \n\n\n\nInformation \n\n\n\nSign up sheet
URL:https://westsoundbrewers.com/event/beerstock/
LOCATION:WA
END:VEVENT
BEGIN:VEVENT
DTSTART;TZID=America/Los_Angeles:20230809T173000
DTEND;TZID=America/Los_Angeles:20230809T183000
DTSTAMP:20260425T070703
CREATED:20230514T044223Z
LAST-MODIFIED:20230514T044224Z
UID:230-1691602200-1691605800@westsoundbrewers.com
SUMMARY:August Board meeting
DESCRIPTION:
URL:https://westsoundbrewers.com/event/august-board-meeting/
LOCATION:Ridgeline Brewing\, 941 North Callow Ave\, Bremerton\, WA\, 98312\, United States
END:VEVENT
BEGIN:VEVENT
DTSTART;TZID=America/Los_Angeles:20230809T173000
DTEND;TZID=America/Los_Angeles:20230809T183000
DTSTAMP:20260425T070703
CREATED:20230706T005143Z
LAST-MODIFIED:20230706T005145Z
UID:282-1691602200-1691605800@westsoundbrewers.com
SUMMARY:Board Meeting
DESCRIPTION:
URL:https://westsoundbrewers.com/event/board-meeting-4/
LOCATION:Ridgeline Brewing\, 941 North Callow Ave\, Bremerton\, WA\, 98312\, United States
END:VEVENT
BEGIN:VEVENT
DTSTART;TZID=America/Los_Angeles:20230810T160000
DTEND;TZID=America/Los_Angeles:20230810T190000
DTSTAMP:20260425T070703
CREATED:20230809T011422Z
LAST-MODIFIED:20230809T011424Z
UID:306-1691683200-1691694000@westsoundbrewers.com
SUMMARY:Weekday Wet your Whistle - Ernie & Marti
DESCRIPTION:Bring a potluck dish and some beer to the garden. Contact Marti\, Ernie or Jeff for directions.
URL:https://westsoundbrewers.com/event/weekday-wet-your-whistle-ernie-marti/
LOCATION:WA
END:VEVENT
BEGIN:VEVENT
DTSTART;TZID=America/Los_Angeles:20230812T000000
DTEND;TZID=America/Los_Angeles:20230813T235959
DTSTAMP:20260425T070703
CREATED:20230514T040832Z
LAST-MODIFIED:20230514T041430Z
UID:221-1691798400-1691971199@westsoundbrewers.com
SUMMARY:Evergreen State Fair - Judging
DESCRIPTION:https://www.evergreenfair.org/DocumentCenter/View/604/OC-Homemade-Beverages
URL:https://westsoundbrewers.com/event/evergreen-state-fair-judging/
LOCATION:WA
END:VEVENT
BEGIN:VEVENT
DTSTART;TZID=America/Los_Angeles:20230816T173000
DTEND;TZID=America/Los_Angeles:20230816T193000
DTSTAMP:20260425T070703
CREATED:20230814T043630Z
LAST-MODIFIED:20230814T043631Z
UID:308-1692207000-1692214200@westsoundbrewers.com
SUMMARY:Weekday Wet Your Whistle
DESCRIPTION:
URL:https://westsoundbrewers.com/event/weekday-wet-your-whistle-2/
LOCATION:Rainy Daze Brewing\, 650 NW Bovela Ln Suite 3\, Poulsbo\, WA\, 98370\, United States
END:VEVENT
BEGIN:VEVENT
DTSTART;TZID=America/Los_Angeles:20230819T140000
DTEND;TZID=America/Los_Angeles:20230819T190000
DTSTAMP:20260425T070703
CREATED:20230616T173244Z
LAST-MODIFIED:20230815T034710Z
UID:256-1692453600-1692471600@westsoundbrewers.com
SUMMARY:Garden of Eatin'
DESCRIPTION:If you are seeing this\, then you and yours are cordially invited to the 12th Annual Party in the Garden of Eatin’ \n\n\n\nWho: You\, a Friend\, and Anybody who you think worthy to see this invite. \n\n\n\nWhat: 12th almost annual Ogden Garden Party and coincidentally the August social meeting of the West Sound Brewers. \n\n\n\nWhen: Saturday\, 19 August from 2–> when the last peeps leave. \n\n\n\nWhere: Ogden Garden\, 2900 NW Paul Benjamin Rd\, Bremerton WA \n\n\n\nSpecifics: This is an Open House invitation\, come when you can\, leave when you must\, time is flexible. As usual\, the Theme for Beverages is “Refreshing”\, there will be craft brews on tap as well as non-alcohol options\, and many bottles of refreshing bevs will be brought. There will be smoked brisket\, pork loin and sausages aplenty. Feel free to bring your favorite side dish but its not a prerequisite for coming. Got little ones\, that’s okay\, there should be berries to pick and bring a change of clothes to play in the wading pool (not the koi pond). \n\n\n\nOh\, and did I mention Soft Serve Ice Cream on Tap?!? \n\n\n\nAny questions\, you know how to reach Oggie.
URL:https://westsoundbrewers.com/event/garden-of-eatin/
LOCATION:Ogden Garden\, 2900 NW Paul Benjamin Rd\, Bremerton\, WA\, 98312\, United States
END:VEVENT
BEGIN:VEVENT
DTSTART;TZID=America/Los_Angeles:20230820T000000
DTEND;TZID=America/Los_Angeles:20230820T235959
DTSTAMP:20260425T070703
CREATED:20230514T041058Z
LAST-MODIFIED:20230514T041345Z
UID:224-1692489600-1692575999@westsoundbrewers.com
SUMMARY:Puyallup Fair - Judging
DESCRIPTION:https://www.datocms-assets.com/6258/1679521052-wsf23_amateur_wine_beer.pdf
URL:https://westsoundbrewers.com/event/puyallup-fair-judging/
LOCATION:WA
END:VEVENT
BEGIN:VEVENT
DTSTART;TZID=America/Los_Angeles:20230823T173000
DTEND;TZID=America/Los_Angeles:20230823T190000
DTSTAMP:20260425T070703
CREATED:20230821T024814Z
LAST-MODIFIED:20230821T024844Z
UID:315-1692811800-1692817200@westsoundbrewers.com
SUMMARY:Weekday Wet Your Whistle - Valholl Brewing
DESCRIPTION:
URL:https://westsoundbrewers.com/event/weekday-wet-your-whistle-3/
LOCATION:Valholl Brewing\, 18970 3rd Ave NE\, Poulsbo\, Washington\, 98370\, United States
END:VEVENT
BEGIN:VEVENT
DTSTART;TZID=America/Los_Angeles:20230826T000000
DTEND;TZID=America/Los_Angeles:20230826T235959
DTSTAMP:20260425T070703
CREATED:20230414T042209Z
LAST-MODIFIED:20230414T042210Z
UID:177-1693008000-1693094399@westsoundbrewers.com
SUMMARY:Ridgeline Brewing One Year Anniversary
DESCRIPTION:Ridgeline turns 1
URL:https://westsoundbrewers.com/event/ridgeline-brewing-one-year-anniversary/
LOCATION:Ridgeline Brewing\, 941 North Callow Ave\, Bremerton\, WA\, 98312\, United States
END:VEVENT
BEGIN:VEVENT
DTSTART;TZID=America/Los_Angeles:20230831T173000
DTEND;TZID=America/Los_Angeles:20230831T193000
DTSTAMP:20260425T070703
CREATED:20230828T231910Z
LAST-MODIFIED:20230828T231911Z
UID:319-1693503000-1693510200@westsoundbrewers.com
SUMMARY:Weekday Wet Your Whistle - 884 Pub
DESCRIPTION:
URL:https://westsoundbrewers.com/event/weekday-wet-your-whistle-884-pub/
LOCATION:The 884 Pub\, 757 S National Ave\, Bremerton\, Washington\, 98312\, United States
END:VEVENT
END:VCALENDAR