BEGIN:VCALENDAR
VERSION:2.0
PRODID:-//West Sound Brewers - ECPv6.15.20//NONSGML v1.0//EN
CALSCALE:GREGORIAN
METHOD:PUBLISH
X-WR-CALNAME:West Sound Brewers
X-ORIGINAL-URL:https://westsoundbrewers.com
X-WR-CALDESC:Events for West Sound Brewers
REFRESH-INTERVAL;VALUE=DURATION:PT1H
X-Robots-Tag:noindex
X-PUBLISHED-TTL:PT1H
BEGIN:VTIMEZONE
TZID:America/Los_Angeles
BEGIN:DAYLIGHT
TZOFFSETFROM:-0800
TZOFFSETTO:-0700
TZNAME:PDT
DTSTART:20220313T100000
END:DAYLIGHT
BEGIN:STANDARD
TZOFFSETFROM:-0700
TZOFFSETTO:-0800
TZNAME:PST
DTSTART:20221106T090000
END:STANDARD
BEGIN:DAYLIGHT
TZOFFSETFROM:-0800
TZOFFSETTO:-0700
TZNAME:PDT
DTSTART:20230312T100000
END:DAYLIGHT
BEGIN:STANDARD
TZOFFSETFROM:-0700
TZOFFSETTO:-0800
TZNAME:PST
DTSTART:20231105T090000
END:STANDARD
BEGIN:DAYLIGHT
TZOFFSETFROM:-0800
TZOFFSETTO:-0700
TZNAME:PDT
DTSTART:20240310T100000
END:DAYLIGHT
BEGIN:STANDARD
TZOFFSETFROM:-0700
TZOFFSETTO:-0800
TZNAME:PST
DTSTART:20241103T090000
END:STANDARD
END:VTIMEZONE
BEGIN:VEVENT
DTSTART;TZID=America/Los_Angeles:20230502T173000
DTEND;TZID=America/Los_Angeles:20230502T190000
DTSTAMP:20260425T112149
CREATED:20230428T014012Z
LAST-MODIFIED:20230428T014014Z
UID:200-1683048600-1683054000@westsoundbrewers.com
SUMMARY:Weekday Wet your Whistle - Rainy Daze
DESCRIPTION:
URL:https://westsoundbrewers.com/event/weekday-wet-your-whistle-rainy-daze/
LOCATION:Rainy Daze Brewing\, 650 NW Bovela Ln Suite 3\, Poulsbo\, WA\, 98370\, United States
END:VEVENT
BEGIN:VEVENT
DTSTART;TZID=America/Los_Angeles:20230506T080000
DTEND;TZID=America/Los_Angeles:20230506T170000
DTSTAMP:20260425T112149
CREATED:20230124T040006Z
LAST-MODIFIED:20230501T015410Z
UID:82-1683360000-1683392400@westsoundbrewers.com
SUMMARY:Big Brew
DESCRIPTION:Brew with the club and virtually with Home Brewers all over. Jessie (through Josh says 8:00 am. is ok) \n\n\n\nhttps://www.homebrewersassociation.org/aha-events/big-brew-national-homebrew-day/ Nearly Nirvana Pale Ale is the “official recipe” \n\n\n\nHot water will be available. Bring your equipment (and a buddy). Let Jessie know if you need electricity. Bring extension cords!!! \n\n\n\nNote: food will not be available at Ridgeline until they officially open at noon.
URL:https://westsoundbrewers.com/event/big-brew-2/
LOCATION:Ridgeline Brewing\, 941 North Callow Ave\, Bremerton\, WA\, 98312\, United States
END:VEVENT
BEGIN:VEVENT
DTSTART;TZID=America/Los_Angeles:20230510T173000
DTEND;TZID=America/Los_Angeles:20230510T183000
DTSTAMP:20260425T112149
CREATED:20230504T012953Z
LAST-MODIFIED:20230504T012955Z
UID:210-1683739800-1683743400@westsoundbrewers.com
SUMMARY:Board meeting
DESCRIPTION:
URL:https://westsoundbrewers.com/event/board-meeting-2/
LOCATION:Ridgeline Brewing\, 941 North Callow Ave\, Bremerton\, WA\, 98312\, United States
END:VEVENT
BEGIN:VEVENT
DTSTART;TZID=America/Los_Angeles:20230510T173000
DTEND;TZID=America/Los_Angeles:20230510T190000
DTSTAMP:20260425T112149
CREATED:20230503T040734Z
LAST-MODIFIED:20230503T040736Z
UID:208-1683739800-1683745200@westsoundbrewers.com
SUMMARY:Weekday Wet your Whistle - Moment Brewing
DESCRIPTION:
URL:https://westsoundbrewers.com/event/weekday-wet-your-whistle-moment-brewing-2/
LOCATION:Moment Brewing\, 10876 Myhre Pl NW Suite 112\, Silverdale\, WA\, 98383\, United States
END:VEVENT
BEGIN:VEVENT
DTSTART;TZID=America/Los_Angeles:20230516T173000
DTEND;TZID=America/Los_Angeles:20230516T190000
DTSTAMP:20260425T112149
CREATED:20230514T044110Z
LAST-MODIFIED:20230514T044111Z
UID:228-1684258200-1684263600@westsoundbrewers.com
SUMMARY:Weekday Wet your Whistle - Ridgeline
DESCRIPTION:
URL:https://westsoundbrewers.com/event/weekday-wet-your-whistle-ridgeline-2/
LOCATION:Ridgeline Brewing\, 941 North Callow Ave\, Bremerton\, WA\, 98312\, United States
END:VEVENT
BEGIN:VEVENT
DTSTART;TZID=America/Los_Angeles:20230523T173000
DTEND;TZID=America/Los_Angeles:20230523T180000
DTSTAMP:20260425T112149
CREATED:20230517T032802Z
LAST-MODIFIED:20230517T032803Z
UID:232-1684863000-1684864800@westsoundbrewers.com
SUMMARY:Weekday Wet your Whistle - Bainbridge Brewing
DESCRIPTION:
URL:https://westsoundbrewers.com/event/weekday-wet-your-whistle-bainbridge-brewing/
LOCATION:Bainbridge Brewing\, 9415 Coppertop Loop NE\, Bainbridge Island\, wa\, 98110\, United States
END:VEVENT
BEGIN:VEVENT
DTSTART;TZID=America/Los_Angeles:20230524T180000
DTEND;TZID=America/Los_Angeles:20230524T200000
DTSTAMP:20260425T112149
CREATED:20230414T043539Z
LAST-MODIFIED:20230414T043540Z
UID:184-1684951200-1684958400@westsoundbrewers.com
SUMMARY:Technical Meeting - Hop Tasting
DESCRIPTION:John is sharing some hops with us to taste.
URL:https://westsoundbrewers.com/event/technical-meeting-hop-tasting/
LOCATION:Olympic Brewing Supplies\, 2817 Wheaton Way #102\, Bremerton\, Washington\, 98310\, United States
END:VEVENT
END:VCALENDAR