BEGIN:VCALENDAR
VERSION:2.0
PRODID:-//West Sound Brewers - ECPv6.15.20//NONSGML v1.0//EN
CALSCALE:GREGORIAN
METHOD:PUBLISH
X-ORIGINAL-URL:https://westsoundbrewers.com
X-WR-CALDESC:Events for West Sound Brewers
REFRESH-INTERVAL;VALUE=DURATION:PT1H
X-Robots-Tag:noindex
X-PUBLISHED-TTL:PT1H
BEGIN:VTIMEZONE
TZID:America/Los_Angeles
BEGIN:DAYLIGHT
TZOFFSETFROM:-0800
TZOFFSETTO:-0700
TZNAME:PDT
DTSTART:20220313T100000
END:DAYLIGHT
BEGIN:STANDARD
TZOFFSETFROM:-0700
TZOFFSETTO:-0800
TZNAME:PST
DTSTART:20221106T090000
END:STANDARD
BEGIN:DAYLIGHT
TZOFFSETFROM:-0800
TZOFFSETTO:-0700
TZNAME:PDT
DTSTART:20230312T100000
END:DAYLIGHT
BEGIN:STANDARD
TZOFFSETFROM:-0700
TZOFFSETTO:-0800
TZNAME:PST
DTSTART:20231105T090000
END:STANDARD
BEGIN:DAYLIGHT
TZOFFSETFROM:-0800
TZOFFSETTO:-0700
TZNAME:PDT
DTSTART:20240310T100000
END:DAYLIGHT
BEGIN:STANDARD
TZOFFSETFROM:-0700
TZOFFSETTO:-0800
TZNAME:PST
DTSTART:20241103T090000
END:STANDARD
END:VTIMEZONE
BEGIN:VEVENT
DTSTART;TZID=America/Los_Angeles:20230403T173000
DTEND;TZID=America/Los_Angeles:20230403T190000
DTSTAMP:20260425T125348
CREATED:20230330T231845Z
LAST-MODIFIED:20230330T231848Z
UID:167-1680543000-1680548400@westsoundbrewers.com
SUMMARY:Weekday Wet your Whistle (Ridgeline)
DESCRIPTION:
URL:https://westsoundbrewers.com/event/weekday-wet-your-whistle-ridgeline/
LOCATION:Ridgeline Brewing\, 941 North Callow Ave\, Bremerton\, WA\, 98312\, United States
END:VEVENT
BEGIN:VEVENT
DTSTART;TZID=America/Los_Angeles:20230412T173000
DTEND;TZID=America/Los_Angeles:20230412T183000
DTSTAMP:20260425T125348
CREATED:20230316T040906Z
LAST-MODIFIED:20230316T040908Z
UID:145-1681320600-1681324200@westsoundbrewers.com
SUMMARY:Board Meeting
DESCRIPTION:meeting about upcoming events and other club business
URL:https://westsoundbrewers.com/event/board-meeting/
LOCATION:Ridgeline Brewing\, 941 North Callow Ave\, Bremerton\, WA\, 98312\, United States
END:VEVENT
BEGIN:VEVENT
DTSTART;TZID=America/Los_Angeles:20230413T173000
DTEND;TZID=America/Los_Angeles:20230413T190000
DTSTAMP:20260425T125348
CREATED:20230405T010916Z
LAST-MODIFIED:20230405T010918Z
UID:172-1681407000-1681412400@westsoundbrewers.com
SUMMARY:Weekday Wet your Whistle (Crane's Castle)
DESCRIPTION:
URL:https://westsoundbrewers.com/event/weekday-wet-your-whistle-cranes-castle/
LOCATION:WA
END:VEVENT
BEGIN:VEVENT
DTSTART;TZID=America/Los_Angeles:20230416T140000
DTEND;TZID=America/Los_Angeles:20230416T180000
DTSTAMP:20260425T125348
CREATED:20230120T063828Z
LAST-MODIFIED:20230501T012007Z
UID:73-1681653600-1681668000@westsoundbrewers.com
SUMMARY:Club IPA competition
DESCRIPTION:Results: 1st place Steve Goldrick\, 2nd place Bruce Zelazoski\, 3rd place Rob Baysden\, HM Ryan Hess. \n\n\n\nHi gang…..with regards to the IPA taste off at Western Red Brewing next Sunday the 16th:  \n\n\n\nWe have 14 total entries\, with three brewers submitting two entries. No need to label your bottles….they will be assigned an entry number label soon as they are turned in.  \n\n\n\nTrays with numbered samples will come out one entry at a time for tasting. There are no assigned judges…..everyone is encouraged to sample and vote for their top 3 favorites!!  \n\n\n\nPlease bring at least three 12 oz bottles for sampling….(little more is always better so the sample pour can be just a little bigger). Guessing 25 – 30 people will be at the meeting\, so that’s how many samples need to be poured for each entry.  \n\n\n\nAlso remember to bring your recipes…..Denver will need them to scale up for possibly getting brewed at the brewery!! \n\n\n\nNO outside commercial beverages. Let’s support our host.
URL:https://westsoundbrewers.com/event/club-ipa-competition/
LOCATION:Western Red Brewing\, 19168 Jensen Way NE Box 2905\, poulsbo\, Washington\, 98370\, United States
END:VEVENT
BEGIN:VEVENT
DTSTART;TZID=America/Los_Angeles:20230420T173000
DTEND;TZID=America/Los_Angeles:20230420T190000
DTSTAMP:20260425T125348
CREATED:20230416T052322Z
LAST-MODIFIED:20230416T052324Z
UID:193-1682011800-1682017200@westsoundbrewers.com
SUMMARY:Weekday Wet your Whistle (Silver City Taproom)
DESCRIPTION:
URL:https://westsoundbrewers.com/event/weekday-wet-your-whistle-silver-city-taproom/
LOCATION:Silver City Brewery and Taproom\, 206 Katy Penman\, Bremerton\, WA\, 98312\, United States
END:VEVENT
BEGIN:VEVENT
DTSTART;TZID=America/Los_Angeles:20230426T173000
DTEND;TZID=America/Los_Angeles:20230426T190000
DTSTAMP:20260425T125348
CREATED:20230421T033345Z
LAST-MODIFIED:20230421T033346Z
UID:195-1682530200-1682535600@westsoundbrewers.com
SUMMARY:Weekday Wet your Whistle
DESCRIPTION:Informal get together
URL:https://westsoundbrewers.com/event/weekday-wet-your-whistle/
LOCATION:Valholl Brewing\, 18970 3rd Ave NE\, Poulsbo\, Washington\, 98370\, United States
END:VEVENT
END:VCALENDAR