BEGIN:VCALENDAR
VERSION:2.0
PRODID:-//West Sound Brewers - ECPv6.15.20//NONSGML v1.0//EN
CALSCALE:GREGORIAN
METHOD:PUBLISH
X-ORIGINAL-URL:https://westsoundbrewers.com
X-WR-CALDESC:Events for West Sound Brewers
REFRESH-INTERVAL;VALUE=DURATION:PT1H
X-Robots-Tag:noindex
X-PUBLISHED-TTL:PT1H
BEGIN:VTIMEZONE
TZID:America/Los_Angeles
BEGIN:DAYLIGHT
TZOFFSETFROM:-0800
TZOFFSETTO:-0700
TZNAME:PDT
DTSTART:20220313T100000
END:DAYLIGHT
BEGIN:STANDARD
TZOFFSETFROM:-0700
TZOFFSETTO:-0800
TZNAME:PST
DTSTART:20221106T090000
END:STANDARD
BEGIN:DAYLIGHT
TZOFFSETFROM:-0800
TZOFFSETTO:-0700
TZNAME:PDT
DTSTART:20230312T100000
END:DAYLIGHT
BEGIN:STANDARD
TZOFFSETFROM:-0700
TZOFFSETTO:-0800
TZNAME:PST
DTSTART:20231105T090000
END:STANDARD
BEGIN:DAYLIGHT
TZOFFSETFROM:-0800
TZOFFSETTO:-0700
TZNAME:PDT
DTSTART:20240310T100000
END:DAYLIGHT
BEGIN:STANDARD
TZOFFSETFROM:-0700
TZOFFSETTO:-0800
TZNAME:PST
DTSTART:20241103T090000
END:STANDARD
END:VTIMEZONE
BEGIN:VEVENT
DTSTART;TZID=America/Los_Angeles:20230302T173000
DTEND;TZID=America/Los_Angeles:20230302T200000
DTSTAMP:20260425T141735
CREATED:20230301T031047Z
LAST-MODIFIED:20230307T055749Z
UID:110-1677778200-1677787200@westsoundbrewers.com
SUMMARY:Wet your Whistle Weekday
DESCRIPTION:OOPS\, I got the date wrong.
URL:https://westsoundbrewers.com/event/wet-your-whistle-weekday-2/
LOCATION:Rainy Daze Brewing\, 650 NW Bovela Ln Suite 3\, Poulsbo\, WA\, 98370\, United States
END:VEVENT
BEGIN:VEVENT
DTSTART;TZID=America/Los_Angeles:20230308T173000
DTEND;TZID=America/Los_Angeles:20230308T190000
DTSTAMP:20260425T141735
CREATED:20230307T055930Z
LAST-MODIFIED:20230309T000034Z
UID:121-1678296600-1678302000@westsoundbrewers.com
SUMMARY:Weekday Wet your Whistle (Slippery Pig)
DESCRIPTION:
URL:https://westsoundbrewers.com/event/weekly-wet-your-whistle-ridgeline/
LOCATION:Slippery Pig Brewery\, 18801 Front St NE\, Poulsbo\, WA\, 98370\, United States
END:VEVENT
BEGIN:VEVENT
DTSTART;TZID=America/Los_Angeles:20230311T080000
DTEND;TZID=America/Los_Angeles:20230311T150000
DTSTAMP:20260425T141735
CREATED:20230120T062325Z
LAST-MODIFIED:20230120T062650Z
UID:61-1678521600-1678546800@westsoundbrewers.com
SUMMARY:Poulsbo Beer Run
DESCRIPTION:Check in at 8:00“Run” starts at 9:00 \n\n\n\n\nHome
URL:https://westsoundbrewers.com/event/poulsbo-beer-run/
LOCATION:WA
END:VEVENT
BEGIN:VEVENT
DTSTART;TZID=America/Los_Angeles:20230314T170000
DTEND;TZID=America/Los_Angeles:20230314T183000
DTSTAMP:20260425T141735
CREATED:20230309T043414Z
LAST-MODIFIED:20230309T043416Z
UID:134-1678813200-1678818600@westsoundbrewers.com
SUMMARY:Weekly Wet your Whistle (Echoes)
DESCRIPTION:
URL:https://westsoundbrewers.com/event/weekly-wet-your-whistle-echoes/
LOCATION:Echoes Brewing\, 19479 Viking Avenue Northwest\,\, Poulsbo\, WA\, 98370\, United States
END:VEVENT
BEGIN:VEVENT
DTSTART;TZID=America/Los_Angeles:20230315T173000
DTEND;TZID=America/Los_Angeles:20230315T190000
DTSTAMP:20260425T141735
CREATED:20230307T060253Z
LAST-MODIFIED:20230307T060900Z
UID:124-1678901400-1678906800@westsoundbrewers.com
SUMMARY:WSB Board Meeting
DESCRIPTION:Join the board to see what is being planned and to provide your suggestions
URL:https://westsoundbrewers.com/event/wsb-board-meeting/
LOCATION:Ridgeline Brewing\, 941 North Callow Ave\, Bremerton\, WA\, 98312\, United States
CATEGORIES:Board Meeting
END:VEVENT
BEGIN:VEVENT
DTSTART;TZID=America/Los_Angeles:20230319T140000
DTEND;TZID=America/Los_Angeles:20230319T180000
DTSTAMP:20260425T141735
CREATED:20230124T040211Z
LAST-MODIFIED:20230316T035209Z
UID:65-1679234400-1679248800@westsoundbrewers.com
SUMMARY:Woodfest
DESCRIPTION:Wood plus brewed concoctions. \n\n\n\nWe will share our wood-inspired creations and hang out together. \n\n\n\nThere will be a competition for the best/favorite beer with wood. \n\n\n\nCommercial beers are allowed for this event.
URL:https://westsoundbrewers.com/event/woodfest/
LOCATION:Dog Days Brewing\, 260 4th St\, Bremerton\, WA\, 98337\, United States
END:VEVENT
BEGIN:VEVENT
DTSTART;TZID=America/Los_Angeles:20230321T173000
DTEND;TZID=America/Los_Angeles:20230321T193000
DTSTAMP:20260425T141735
CREATED:20230316T040653Z
LAST-MODIFIED:20230316T040654Z
UID:143-1679419800-1679427000@westsoundbrewers.com
SUMMARY:Weekday Wet your Whistle (Wig Wam Pub)
DESCRIPTION:Call or Order ahead if you want food. This may be a busy night.
URL:https://westsoundbrewers.com/event/weekday-wet-your-whistle-wig-wam-pub/
LOCATION:Wig Wam Pub\, 3536 WEST BELFAIR VALLE\,Y\, Bremerton\, WA\, United States
END:VEVENT
BEGIN:VEVENT
DTSTART;TZID=America/Los_Angeles:20230326T140000
DTEND;TZID=America/Los_Angeles:20230326T153000
DTSTAMP:20260425T141735
CREATED:20230301T033415Z
LAST-MODIFIED:20230322T021834Z
UID:114-1679839200-1679844600@westsoundbrewers.com
SUMMARY:Technical Meeting - Off Flavors
DESCRIPTION:Meet to experience some off flavors. Meet at the packing line side of the Silver City Brewery (Across the street from the tap room). \n\n\n\n5 (acetaldehyde\, DMS\, diacetyl\, papery\, contamination) \n\n\n\nClass size is limited to the first 12 who sign up. Text your reservation to (530) 300-7609
URL:https://westsoundbrewers.com/event/technical-meeting-off-flavors/
LOCATION:Silver City Brewery and Taproom\, 206 Katy Penman\, Bremerton\, WA\, 98312\, United States
END:VEVENT
BEGIN:VEVENT
DTSTART;TZID=America/Los_Angeles:20230329T173000
DTEND;TZID=America/Los_Angeles:20230329T190000
DTSTAMP:20260425T141735
CREATED:20230323T050938Z
LAST-MODIFIED:20230323T050939Z
UID:163-1680111000-1680116400@westsoundbrewers.com
SUMMARY:Weekday Wet your Whistle (Moment Brewing)
DESCRIPTION:Last chance to catch Diane’s art this round at Moment Brewing
URL:https://westsoundbrewers.com/event/weekday-wet-your-whistle-moment-brewing/
LOCATION:Moment Brewing\, 10876 Myhre Pl NW Suite 112\, Silverdale\, WA\, 98383\, United States
END:VEVENT
END:VCALENDAR