BEGIN:VCALENDAR
VERSION:2.0
PRODID:-//West Sound Brewers - ECPv6.15.20//NONSGML v1.0//EN
CALSCALE:GREGORIAN
METHOD:PUBLISH
X-ORIGINAL-URL:https://westsoundbrewers.com
X-WR-CALDESC:Events for West Sound Brewers
REFRESH-INTERVAL;VALUE=DURATION:PT1H
X-Robots-Tag:noindex
X-PUBLISHED-TTL:PT1H
BEGIN:VTIMEZONE
TZID:America/Los_Angeles
BEGIN:DAYLIGHT
TZOFFSETFROM:-0800
TZOFFSETTO:-0700
TZNAME:PDT
DTSTART:20230312T100000
END:DAYLIGHT
BEGIN:STANDARD
TZOFFSETFROM:-0700
TZOFFSETTO:-0800
TZNAME:PST
DTSTART:20231105T090000
END:STANDARD
BEGIN:DAYLIGHT
TZOFFSETFROM:-0800
TZOFFSETTO:-0700
TZNAME:PDT
DTSTART:20240310T100000
END:DAYLIGHT
BEGIN:STANDARD
TZOFFSETFROM:-0700
TZOFFSETTO:-0800
TZNAME:PST
DTSTART:20241103T090000
END:STANDARD
BEGIN:DAYLIGHT
TZOFFSETFROM:-0800
TZOFFSETTO:-0700
TZNAME:PDT
DTSTART:20250309T100000
END:DAYLIGHT
BEGIN:STANDARD
TZOFFSETFROM:-0700
TZOFFSETTO:-0800
TZNAME:PST
DTSTART:20251102T090000
END:STANDARD
END:VTIMEZONE
BEGIN:VEVENT
DTSTART;TZID=America/Los_Angeles:20240813T173000
DTEND;TZID=America/Los_Angeles:20240813T190000
DTSTAMP:20260425T071319
CREATED:20240111T020604Z
LAST-MODIFIED:20240111T020605Z
UID:2637-1723570200-1723575600@westsoundbrewers.com
SUMMARY:Board Meeting & Weekday Wet Your Whistle
DESCRIPTION:
URL:https://westsoundbrewers.com/event/board-meeting-weekday-wet-your-whistle-7/
LOCATION:Ridgeline Brewing\, 941 North Callow Ave\, Bremerton\, WA\, 98312\, United States
CATEGORIES:Board Meeting,Wet your Whistle Weekday
END:VEVENT
BEGIN:VEVENT
DTSTART;TZID=America/Los_Angeles:20240814T170000
DTEND;TZID=America/Los_Angeles:20240814T190000
DTSTAMP:20260425T071319
CREATED:20240731T141812Z
LAST-MODIFIED:20240731T141819Z
UID:2814-1723654800-1723662000@westsoundbrewers.com
SUMMARY:Yeast Presentation
DESCRIPTION:
URL:https://westsoundbrewers.com/event/yeast-presentation/
LOCATION:Silver City Brewery and Taproom\, 206 Katy Penman\, Bremerton\, WA\, 98312\, United States
END:VEVENT
BEGIN:VEVENT
DTSTART;TZID=America/Los_Angeles:20240818T093000
DTEND;TZID=America/Los_Angeles:20240818T174500
DTSTAMP:20260425T071319
CREATED:20240710T215446Z
LAST-MODIFIED:20240814T035333Z
UID:2798-1723973400-1724003100@westsoundbrewers.com
SUMMARY:North Peninsula Yellow Van Beer Tour
DESCRIPTION:Sign up form \n\n\n\nTake a tour of five of the North Peninsula’s Breweries in a unique convertible van. Tyler is your DD for the day and excited to chauffeur you around.  \n\n\n\nLimited Seating Available – DO NOT SIGN UP IF YOU ARE NOT SURE YOU WILL ATTEND. First come First Served.  \n\n\n\nBring your own travel cup for some special treats along the way.  \n\n\n\nWear your club attire and/or tie-die.  \n\n\n\nBeer sure to dress for the weather and bring layers—the van is not enclosed and it could get chilly.  \n\n\n\nSuggested gas money contribution is $20 a head cash or Venmo @TylerSchuldt.  \n\n\n\nAdditional appreciation of bombers or other packaged beer for the driver to enjoy later are appreciated.  \n\n\n\nBeer is buy your own at each stop.  \n\n\n\nThis is a private personal offering\, not a ticketed event or official club event.  \n\n\n\nItinerary \n\n\n\nYour choice\, you can begin the tour at either:1st Meeting Location 9:30 AMRidgeline Brewing – Park at Safeway 900 N Callow Ave\, Bremerton\, WA 98312 parking lot at 9:30 AM – park in the back of the parking lot. DO NOT park in Ridgeline’s spots. Then come to the van across the street.  \n\n\n\n2nd Meeting Location – Slippery Pig Brewing \n\n\n\nBeer Church is from 10:15 to about 10:45. Show up at Slippery Pig before 11:45 to catch the bus! \n\n\n\nLoose Itinerary – subject to change depending on preferences of attendees.  \n\n\n\n10:15 to 11:45 – First stop – Beer Church at the Slippery Pig – depart at 11:45 \n\n\n\nNoon to 1:45 – Second Stop –  Bushel and Barrel\, depart at 2:00 \n\n\n\n2:15 to 3:15 – Hood Canal Brewing – depart at 3:30 \n\n\n\n3:45 to 4:45 – Downpour Brewing – Depart of 5:00 \n\n\n\n5:15 – Return to the Pig – Folks who started here disembark – then proceed to Ridgeline  \n\n\n\n5:45 – Arrive at Ridgeline
URL:https://westsoundbrewers.com/event/north-end-kitsap-brewery-bus-tour/
LOCATION:Slippery Pig Brewery\, 18801 Front St NE\, Poulsbo\, WA\, 98370\, United States
END:VEVENT
BEGIN:VEVENT
DTSTART;TZID=America/Los_Angeles:20240820T173000
DTEND;TZID=America/Los_Angeles:20240820T190000
DTSTAMP:20260425T071319
CREATED:20240814T033958Z
LAST-MODIFIED:20240814T034006Z
UID:2817-1724175000-1724180400@westsoundbrewers.com
SUMMARY:Weekday Wet Your Whistle - Tracyton Pub
DESCRIPTION:
URL:https://westsoundbrewers.com/event/weekday-wet-your-whistle-tracyton-pub-2/
LOCATION:Tracyton Pub\, 403 Tracy Ave\, Bremerton\, Washington\, 98311\, United States
END:VEVENT
BEGIN:VEVENT
DTSTART;TZID=America/Los_Angeles:20240824T140000
DTEND;TZID=America/Los_Angeles:20240824T180000
DTSTAMP:20260425T071319
CREATED:20240319T020922Z
LAST-MODIFIED:20240814T042133Z
UID:2688-1724508000-1724522400@westsoundbrewers.com
SUMMARY:Oggie's Garden of Eatin' Party
DESCRIPTION:Oggie’s Garden of Eatin’ \n\n\n\nFacebook Link to Event for RSVP \n\n\n\nWhat to expect \n\n\n\nIf you are seeing this\, then you and yours are cordially invited to the 13th Annual Party in the Garden of Eatin’ \n\n\n\nWho: You\, a Friend\, and Anybody who you think worthy to see this invite.What: 13th almost annual Ogden Garden Party and coincidentally the August social meeting of the West Sound Brewers.When: Saturday\, 24 August from 2–> when the last peeps leave.Where: Ogden Garden\, 2900 NW Paul Benjamin Rd\, Bremerton WASpecifics: This is an Open House invitation\, come when you can\, leave when you must\, time is flexible. \n\n\n\nAs usual\, the Theme for Beverages is “Refreshing”\, there will be craft brews on tap as well as non-alcohol options\, and many bottles of refreshing bevs will be brought. \n\n\n\nThere will be smoked brisket\, pork loin and sausages aplenty. Feel free to bring your favorite side dish but its not a prerequisite for coming. \n\n\n\nGot little ones\, that’s okay\, there should be berries to pick and bring a change of clothes to play in the wading pool (not the koi pond). \n\n\n\nSo\, if you see THIS and you and yours plan on attending\, please mark as going or maybe\, with a note about how many I can expect. \n\n\n\nAnd as always\, Parking is catch as catch can and carpooling is a plus. \n\n\n\nAlso\, if you are/know a friend of a friend who won’t see this\, put a few comments in a message so I know. \n\n\n\nAnd another Also: This coincides with the Ridgeline Brewing 2nd Anniversary Party. Plan to swing by either before or after the Garden of Eatin’. I’ll be there around noon. \n\n\n\nCheers!!
URL:https://westsoundbrewers.com/event/oggies-garden-party/
LOCATION:WA
CATEGORIES:Monthly Social
END:VEVENT
BEGIN:VEVENT
DTSTART;TZID=America/Los_Angeles:20240827T173000
DTEND;TZID=America/Los_Angeles:20240827T190000
DTSTAMP:20260425T071319
CREATED:20240824T152333Z
LAST-MODIFIED:20240824T152342Z
UID:2829-1724779800-1724785200@westsoundbrewers.com
SUMMARY:Weekday Wet Your Whistle - Moment
DESCRIPTION:
URL:https://westsoundbrewers.com/event/weekday-wet-your-whistle-moment/
LOCATION:Moment Brewing\, 10876 Myhre Pl NW Suite 112\, Silverdale\, WA\, 98383\, United States
CATEGORIES:Wet your Whistle Weekday
END:VEVENT
BEGIN:VEVENT
DTSTART;TZID=America/Los_Angeles:20240904T180000
DTEND;TZID=America/Los_Angeles:20240904T200000
DTSTAMP:20260425T071319
CREATED:20240824T152939Z
LAST-MODIFIED:20240824T152946Z
UID:2831-1725472800-1725480000@westsoundbrewers.com
SUMMARY:Belgian Beer Styles Virtual Tasting
DESCRIPTION:Zoom meeting information below:Join Zoom Meetinghttps://us06web.zoom.us/j/88536267338?pwd=91rcVaPe8Fm2ZW6Rq1RCt4CMom82gd.1Meeting ID: 885 3626 7338Passcode: 425283—One tap mobile+12532050468\,\,88536267338#\,\,\,\,*425283# US+12532158782\,\,88536267338#\,\,\,\,*425283# US (Tacoma)—Dial by your location* +1 253 205 0468 US* +1 253 215 8782 US (Tacoma)* +1 669 900 6833 US (San Jose)* +1 719 359 4580 US* +1 346 248 7799 US (Houston)* +1 669 444 9171 US* +1 689 278 1000 US* +1 929 205 6099 US (New York)* +1 301 715 8592 US (Washington DC)* +1 305 224 1968 US* +1 309 205 3325 US* +1 312 626 6799 US (Chicago)* +1 360 209 5623 US* +1 386 347 5053 US* +1 507 473 4847 US* +1 564 217 2000 US* +1 646 931 3860 USMeeting ID: 885 3626 7338Passcode: 425283Find your local number: https://us06web.zoom.us/u/kdHAALHOz6
URL:https://westsoundbrewers.com/event/belgian-beer-styles-virtual-tasting/
LOCATION:WA
CATEGORIES:Technical Meeting
END:VEVENT
BEGIN:VEVENT
DTSTART;TZID=America/Los_Angeles:20240905T173000
DTEND;TZID=America/Los_Angeles:20240905T190000
DTSTAMP:20260425T071319
CREATED:20240828T225836Z
LAST-MODIFIED:20240828T225930Z
UID:2838-1725557400-1725562800@westsoundbrewers.com
SUMMARY:Weekday Wet Your Whistle - Deep Draft
DESCRIPTION:Taco Thursday
URL:https://westsoundbrewers.com/event/weekday-wet-your-whistle-deep-draft-2/
LOCATION:Deep Draft Brewing\, 3536 W Belfair Valley Rd\, Bremerton\, WA\, 98312\, United States
CATEGORIES:Wet your Whistle Weekday
END:VEVENT
BEGIN:VEVENT
DTSTART;TZID=America/Los_Angeles:20240910T173000
DTEND;TZID=America/Los_Angeles:20240910T190000
DTSTAMP:20260425T071319
CREATED:20240111T020649Z
LAST-MODIFIED:20240111T020650Z
UID:2639-1725989400-1725994800@westsoundbrewers.com
SUMMARY:Board Meeting & Weekday Wet Your Whistle
DESCRIPTION:
URL:https://westsoundbrewers.com/event/board-meeting-weekday-wet-your-whistle-8/
LOCATION:Ridgeline Brewing\, 941 North Callow Ave\, Bremerton\, WA\, 98312\, United States
CATEGORIES:Board Meeting,Wet your Whistle Weekday
END:VEVENT
BEGIN:VEVENT
DTSTART;TZID=America/Los_Angeles:20240917T173000
DTEND;TZID=America/Los_Angeles:20240917T190000
DTSTAMP:20260425T071319
CREATED:20240912T230918Z
LAST-MODIFIED:20240912T230924Z
UID:2845-1726594200-1726599600@westsoundbrewers.com
SUMMARY:Weekday Wet Your Whistle - 884 Pub
DESCRIPTION:
URL:https://westsoundbrewers.com/event/weekday-wet-your-whistle-884-pub-2/
LOCATION:The 884 Pub\, 757 S National Ave\, Bremerton\, Washington\, 98312\, United States
END:VEVENT
BEGIN:VEVENT
DTSTART;TZID=America/Los_Angeles:20240924T173000
DTEND;TZID=America/Los_Angeles:20240924T190000
DTSTAMP:20260425T071319
CREATED:20240918T141236Z
LAST-MODIFIED:20240918T141244Z
UID:2861-1727199000-1727204400@westsoundbrewers.com
SUMMARY:Weekday Wet Your Whistle - Echoes
DESCRIPTION:Bingo?
URL:https://westsoundbrewers.com/event/weekday-wet-your-whistle-echoes-3/
LOCATION:Echoes Brewing\, 19479 Viking Avenue Northwest\,\, Poulsbo\, WA\, 98370\, United States
CATEGORIES:Wet your Whistle Weekday
END:VEVENT
BEGIN:VEVENT
DTSTART;TZID=America/Los_Angeles:20240928T140000
DTEND;TZID=America/Los_Angeles:20240928T180000
DTSTAMP:20260425T071319
CREATED:20240613T034129Z
LAST-MODIFIED:20240925T165157Z
UID:2772-1727532000-1727546400@westsoundbrewers.com
SUMMARY:Oktoberfest hosted by Lou S
DESCRIPTION:Contact Lou Strowger for address by Facebook private message or reach out to an officer.
URL:https://westsoundbrewers.com/event/oktoberfest/
LOCATION:WA
END:VEVENT
BEGIN:VEVENT
DTSTART;TZID=America/Los_Angeles:20241003T173000
DTEND;TZID=America/Los_Angeles:20241003T190000
DTSTAMP:20260425T071319
CREATED:20240925T165343Z
LAST-MODIFIED:20240925T165506Z
UID:2865-1727976600-1727982000@westsoundbrewers.com
SUMMARY:Weekday Wet Your Whistle - Valholl
DESCRIPTION:Also Scruffy Man’s birthday!
URL:https://westsoundbrewers.com/event/weekday-wet-your-whistle-valholl-2/
LOCATION:Valholl Brewing\, 18970 3rd Ave NE\, Poulsbo\, Washington\, 98370\, United States
CATEGORIES:Wet your Whistle Weekday
END:VEVENT
BEGIN:VEVENT
DTSTART;TZID=America/Los_Angeles:20241005T090000
DTEND;TZID=America/Los_Angeles:20241005T130000
DTSTAMP:20260425T071319
CREATED:20240926T143258Z
LAST-MODIFIED:20240926T143307Z
UID:2868-1728118800-1728133200@westsoundbrewers.com
SUMMARY:Mini Brewing Demo at Poulsbo Beer Run
DESCRIPTION:West Sound Brewers has been invited to showcase our club at the Oktoberfest Poulsbo Beer Run! \n\n\n\nWe’re setting up by the Viking to demonstrate brewing processes\, give out samples of hot wort\, and engage with the brewers of the future! \n\n\n\nWe need your help – please contact Oggie and/or Tyler if you’d like to come hang out at the booth and talk about brewing and the club with the folks stopping by. The run starts at 9 and goes until 1\, so feel free to commit to as little as an hour. \n\n\n\nQ&AWhat if I’m already committed to the beer run?No Problem! Stop by\, say hi\, enjoy yourself! Encourage others in the run to stop by too. \n\n\n\nWhat’s the plan?We’ll be setting up a pop-up or two with our banner and cards. We’ll have samples of malts and hops to smell and taste\, and we’ll be passing out virgin hot scotchies to warm up the runners
URL:https://westsoundbrewers.com/event/mini-brewing-demo-at-poulsbo-beer-run/
LOCATION:WA
END:VEVENT
BEGIN:VEVENT
DTSTART;TZID=America/Los_Angeles:20241008T173000
DTEND;TZID=America/Los_Angeles:20241008T190000
DTSTAMP:20260425T071319
CREATED:20240111T020733Z
LAST-MODIFIED:20240111T020734Z
UID:2641-1728408600-1728414000@westsoundbrewers.com
SUMMARY:Board Meeting & Weekday Wet Your Whistle
DESCRIPTION:
URL:https://westsoundbrewers.com/event/board-meeting-weekday-wet-your-whistle-9/
LOCATION:Ridgeline Brewing\, 941 North Callow Ave\, Bremerton\, WA\, 98312\, United States
CATEGORIES:Board Meeting,Wet your Whistle Weekday
END:VEVENT
BEGIN:VEVENT
DTSTART;TZID=America/Los_Angeles:20241009T180000
DTEND;TZID=America/Los_Angeles:20241009T200000
DTSTAMP:20260425T071319
CREATED:20240912T231228Z
LAST-MODIFIED:20240912T231236Z
UID:2847-1728496800-1728504000@westsoundbrewers.com
SUMMARY:German Beer Styles Virtual Tasting
DESCRIPTION:Join Zoom Meetinghttps://us06web.zoom.us/j/88653747157?pwd=C357yAViTxmO1dYqrfpVzz9CJFVpag.1Meeting ID: 886 5374 7157Passcode: 821058
URL:https://westsoundbrewers.com/event/german-beer-styles-virtual-tasting/
LOCATION:WA
CATEGORIES:Technical Meeting
END:VEVENT
BEGIN:VEVENT
DTSTART;TZID=America/Los_Angeles:20241012T140000
DTEND;TZID=America/Los_Angeles:20241012T190000
DTSTAMP:20260425T071319
CREATED:20240814T040437Z
LAST-MODIFIED:20240912T230619Z
UID:2823-1728741600-1728759600@westsoundbrewers.com
SUMMARY:October Meeting hosted by Bruce Z
DESCRIPTION:Date moved to October 12 to avoid conflict with Lights Out Judging \n\n\n\nContact Bruce Zelazoski for directions or contact a Club Officer.
URL:https://westsoundbrewers.com/event/october-meeting-hosted-by-bruce-z/
LOCATION:WA
CATEGORIES:Monthly Social
END:VEVENT
BEGIN:VEVENT
DTSTART;TZID=America/Los_Angeles:20241015T173000
DTEND;TZID=America/Los_Angeles:20241015T190000
DTSTAMP:20260425T071319
CREATED:20241009T152503Z
LAST-MODIFIED:20241009T152510Z
UID:2885-1729013400-1729018800@westsoundbrewers.com
SUMMARY:Weekday Wet Your Whistle - Ashley's Pub
DESCRIPTION:
URL:https://westsoundbrewers.com/event/weekday-wet-your-whistle-ashleys-pub-2/
LOCATION:Ashley’s Pub\, 409 Pacific Ave Suite 105\, Bremerton\, WA\, 98337\, United States
CATEGORIES:Wet your Whistle Weekday
END:VEVENT
BEGIN:VEVENT
DTSTART;TZID=America/Los_Angeles:20241023T173000
DTEND;TZID=America/Los_Angeles:20241023T190000
DTSTAMP:20260425T071319
CREATED:20241018T155634Z
LAST-MODIFIED:20241018T155645Z
UID:2894-1729704600-1729710000@westsoundbrewers.com
SUMMARY:Weekday Wet Your Whistle - Crane's Castle
DESCRIPTION:
URL:https://westsoundbrewers.com/event/weekday-wet-your-whistle-cranes-castle-4/
LOCATION:Crane’s Castle Brewing\, 1550 NE Riddell Rd\, Suite #180\, Bremerton\, WA\, 98310\, United States
END:VEVENT
BEGIN:VEVENT
DTSTART;TZID=America/Los_Angeles:20241029T173000
DTEND;TZID=America/Los_Angeles:20241029T190000
DTSTAMP:20260425T071319
CREATED:20241025T010135Z
LAST-MODIFIED:20241025T010141Z
UID:2898-1730223000-1730228400@westsoundbrewers.com
SUMMARY:Weekday Wet Your Whistle - Rainy Daze
DESCRIPTION:
URL:https://westsoundbrewers.com/event/weekday-wet-your-whistle-rainy-daze-3/
LOCATION:Rainy Daze Brewing\, 650 NW Bovela Ln Suite 3\, Poulsbo\, WA\, 98370\, United States
CATEGORIES:Wet your Whistle Weekday
END:VEVENT
BEGIN:VEVENT
DTSTART;TZID=America/Los_Angeles:20241102T140000
DTEND;TZID=America/Los_Angeles:20241102T153000
DTSTAMP:20260425T071319
CREATED:20240912T231354Z
LAST-MODIFIED:20240912T231956Z
UID:2850-1730556000-1730561400@westsoundbrewers.com
SUMMARY:Teach a Friend to Brew - Poulsbo Library
DESCRIPTION:https://krl.bibliocommons.com/events/669ebe70d8f18e575813398b \n\n\n\nCurious about how to brew your own beer? Enid Lints of Silver City Brewery will talk about the necessary ingredients\, equipment\, fermentation\, and what’s involved in the brewing process. This program is geared to cover the basics of brewing so you can decide if the craft of right for you.  \n\n\n\nBonus: In honor of National Home Brewing Day a free homebrewing kit will be raffled off at the end of the session.
URL:https://westsoundbrewers.com/event/teach-a-friend-to-brew-poulsbo-library/
LOCATION:KRL – Poulsbo\, 700 NE Lincoln Road\, Poulsbo\, Washington\, 98370\, United States
CATEGORIES:Technical Meeting
END:VEVENT
BEGIN:VEVENT
DTSTART;TZID=America/Los_Angeles:20241106T173000
DTEND;TZID=America/Los_Angeles:20241106T190000
DTSTAMP:20260425T071319
CREATED:20241025T010250Z
LAST-MODIFIED:20241025T011136Z
UID:2900-1730914200-1730919600@westsoundbrewers.com
SUMMARY:Weekday Wet Your Whistle - Dog Days
DESCRIPTION:
URL:https://westsoundbrewers.com/event/weekday-wet-your-whistle-dog-days/
LOCATION:Dog Days Brewing\, 260 4th St\, Bremerton\, WA\, 98337\, United States
CATEGORIES:Wet your Whistle Weekday
END:VEVENT
BEGIN:VEVENT
DTSTART;TZID=America/Los_Angeles:20241112T173000
DTEND;TZID=America/Los_Angeles:20241112T190000
DTSTAMP:20260425T071319
CREATED:20240111T020827Z
LAST-MODIFIED:20240111T020828Z
UID:2643-1731432600-1731438000@westsoundbrewers.com
SUMMARY:Board Meeting & Weekday Wet Your Whistle
DESCRIPTION:
URL:https://westsoundbrewers.com/event/board-meeting-weekday-wet-your-whistle-10/
LOCATION:Ridgeline Brewing\, 941 North Callow Ave\, Bremerton\, WA\, 98312\, United States
CATEGORIES:Board Meeting,Wet your Whistle Weekday
END:VEVENT
BEGIN:VEVENT
DTSTART;TZID=America/Los_Angeles:20241116T140000
DTEND;TZID=America/Los_Angeles:20241116T180000
DTSTAMP:20260425T071319
CREATED:20241008T022148Z
LAST-MODIFIED:20241112T231215Z
UID:2857-1731765600-1731780000@westsoundbrewers.com
SUMMARY:Sake Tasting
DESCRIPTION:Razz will guide us through some sake. \n\n\n\nSake signup document \n\n\n\nMeeting place Oggie’s house. 2900 NW Paul Benjamin Rd\, Bremerton WA
URL:https://westsoundbrewers.com/event/sake-tasting/
LOCATION:WA
CATEGORIES:Technical Meeting
END:VEVENT
BEGIN:VEVENT
DTSTART;TZID=America/Los_Angeles:20241119T173000
DTEND;TZID=America/Los_Angeles:20241119T190000
DTSTAMP:20260425T071319
CREATED:20241113T151239Z
LAST-MODIFIED:20241113T151247Z
UID:2924-1732037400-1732042800@westsoundbrewers.com
SUMMARY:Weekday Wet Your Whistle - Silver City
DESCRIPTION:
URL:https://westsoundbrewers.com/event/weekday-wet-your-whistle-silver-city-4/
LOCATION:Silver City Brewery and Taproom\, 206 Katy Penman\, Bremerton\, WA\, 98312\, United States
CATEGORIES:Wet your Whistle Weekday
END:VEVENT
BEGIN:VEVENT
DTSTART;TZID=America/Los_Angeles:20241126T173000
DTEND;TZID=America/Los_Angeles:20241126T190000
DTSTAMP:20260425T071319
CREATED:20241123T195553Z
LAST-MODIFIED:20241123T195558Z
UID:2928-1732642200-1732647600@westsoundbrewers.com
SUMMARY:Weekday Wet Your Whistle - Deep Draft
DESCRIPTION:
URL:https://westsoundbrewers.com/event/weekday-wet-your-whistle-deep-draft-3/
LOCATION:Deep Draft Brewing\, 3536 W Belfair Valley Rd\, Bremerton\, WA\, 98312\, United States
CATEGORIES:Wet your Whistle Weekday
END:VEVENT
BEGIN:VEVENT
DTSTART;TZID=America/Los_Angeles:20241130T120000
DTEND;TZID=America/Los_Angeles:20241130T133000
DTSTAMP:20260425T071319
CREATED:20240710T215748Z
LAST-MODIFIED:20241127T174314Z
UID:2800-1732968000-1732973400@westsoundbrewers.com
SUMMARY:Advent Box Drop Off & Case Set Up
DESCRIPTION:Drop off and construct cases for the Advent Calendar. \n\n\n\nNote that the Social meeting is the same day (in the afternoon). \n\n\n\nTo register that you are sharing for this event\, click the signup link \n\n\n\nPlan for next year too!
URL:https://westsoundbrewers.com/event/advent-box-raffle/
LOCATION:Ridgeline Brewing\, 941 North Callow Ave\, Bremerton\, WA\, 98312\, United States
END:VEVENT
BEGIN:VEVENT
DTSTART;TZID=America/Los_Angeles:20241130T140000
DTEND;TZID=America/Los_Angeles:20241130T180000
DTSTAMP:20260425T071319
CREATED:20241025T011431Z
LAST-MODIFIED:20241025T011922Z
UID:2902-1732975200-1732989600@westsoundbrewers.com
SUMMARY:November Social Meeting
DESCRIPTION:Join us for an afternoon of sharing our fermentation results. \n\n\n\nBring a potluck dish to share. \n\n\n\nWe will auction off any extra cases from the Advent Beer Calendar.
URL:https://westsoundbrewers.com/event/november-social-meeting-2/
LOCATION:Ridgeline Brewing\, 941 North Callow Ave\, Bremerton\, WA\, 98312\, United States
CATEGORIES:Monthly Social
END:VEVENT
BEGIN:VEVENT
DTSTART;TZID=America/Los_Angeles:20241201T080000
DTEND;TZID=America/Los_Angeles:20241201T140000
DTSTAMP:20260425T071319
CREATED:20241009T152106Z
LAST-MODIFIED:20241009T152113Z
UID:2879-1733040000-1733061600@westsoundbrewers.com
SUMMARY:Bloody Mary Crawl - Poulsbo
DESCRIPTION:
URL:https://westsoundbrewers.com/event/bloody-mary-crawl-poulsbo/
LOCATION:WA
CATEGORIES:Club Interest
END:VEVENT
BEGIN:VEVENT
DTSTART;TZID=America/Los_Angeles:20241204T173000
DTEND;TZID=America/Los_Angeles:20241204T190000
DTSTAMP:20260425T071319
CREATED:20241204T014750Z
LAST-MODIFIED:20241204T014755Z
UID:2937-1733333400-1733338800@westsoundbrewers.com
SUMMARY:canceled wwyw rainy daze
DESCRIPTION:
URL:https://westsoundbrewers.com/event/canceled-wwyw-rainy-daze/
LOCATION:WA
END:VEVENT
END:VCALENDAR