BEGIN:VCALENDAR
VERSION:2.0
PRODID:-//West Sound Brewers - ECPv6.15.20//NONSGML v1.0//EN
CALSCALE:GREGORIAN
METHOD:PUBLISH
X-ORIGINAL-URL:https://westsoundbrewers.com
X-WR-CALDESC:Events for West Sound Brewers
REFRESH-INTERVAL;VALUE=DURATION:PT1H
X-Robots-Tag:noindex
X-PUBLISHED-TTL:PT1H
BEGIN:VTIMEZONE
TZID:America/Los_Angeles
BEGIN:DAYLIGHT
TZOFFSETFROM:-0800
TZOFFSETTO:-0700
TZNAME:PDT
DTSTART:20220313T100000
END:DAYLIGHT
BEGIN:STANDARD
TZOFFSETFROM:-0700
TZOFFSETTO:-0800
TZNAME:PST
DTSTART:20221106T090000
END:STANDARD
BEGIN:DAYLIGHT
TZOFFSETFROM:-0800
TZOFFSETTO:-0700
TZNAME:PDT
DTSTART:20230312T100000
END:DAYLIGHT
BEGIN:STANDARD
TZOFFSETFROM:-0700
TZOFFSETTO:-0800
TZNAME:PST
DTSTART:20231105T090000
END:STANDARD
BEGIN:DAYLIGHT
TZOFFSETFROM:-0800
TZOFFSETTO:-0700
TZNAME:PDT
DTSTART:20240310T100000
END:DAYLIGHT
BEGIN:STANDARD
TZOFFSETFROM:-0700
TZOFFSETTO:-0800
TZNAME:PST
DTSTART:20241103T090000
END:STANDARD
BEGIN:DAYLIGHT
TZOFFSETFROM:-0800
TZOFFSETTO:-0700
TZNAME:PDT
DTSTART:20250309T100000
END:DAYLIGHT
BEGIN:STANDARD
TZOFFSETFROM:-0700
TZOFFSETTO:-0800
TZNAME:PST
DTSTART:20251102T090000
END:STANDARD
END:VTIMEZONE
BEGIN:VEVENT
DTSTART;TZID=America/Los_Angeles:20231130T173000
DTEND;TZID=America/Los_Angeles:20231130T193000
DTSTAMP:20260425T071129
CREATED:20231125T184710Z
LAST-MODIFIED:20231126T203116Z
UID:2591-1701365400-1701372600@westsoundbrewers.com
SUMMARY:Weekday Wet your Whistle
DESCRIPTION:
URL:https://westsoundbrewers.com/event/weekday-wet-your-whistle-7/
LOCATION:Valholl Brewing\, 18970 3rd Ave NE\, Poulsbo\, Washington\, 98370\, United States
END:VEVENT
BEGIN:VEVENT
DTSTART;TZID=America/Los_Angeles:20231206T173000
DTEND;TZID=America/Los_Angeles:20231206T193000
DTSTAMP:20260425T071129
CREATED:20231201T181722Z
LAST-MODIFIED:20231201T182452Z
UID:2595-1701883800-1701891000@westsoundbrewers.com
SUMMARY:Weekday Wet your Whistle - Slippery Pig
DESCRIPTION:
URL:https://westsoundbrewers.com/event/weekday-wet-your-whistle-8/
LOCATION:Slippery Pig Brewery\, 18801 Front St NE\, Poulsbo\, WA\, 98370\, United States
END:VEVENT
BEGIN:VEVENT
DTSTART;TZID=America/Los_Angeles:20231210T140000
DTEND;TZID=America/Los_Angeles:20231210T180000
DTSTAMP:20260425T071129
CREATED:20231012T030548Z
LAST-MODIFIED:20231113T011402Z
UID:354-1702216800-1702231200@westsoundbrewers.com
SUMMARY:Christmas Party & Election of Officers
DESCRIPTION:Olympic View Community Center \n\n\n\nOfficer Elections \n\n\n\nBring a Bottle – Take a Bottle. Bring a wrapped beverage to exchange in the holiday spirit. \n\n\n\nBring a holiday favorite food to go with our beverages to share. \n\n\n\nCommercial beverages are ok at this one.
URL:https://westsoundbrewers.com/event/christmas-party-election-of-officers/
LOCATION:Olympic View Community Center\, 13931 Lester Rd NW\, Silverdale\, Washington\, 98383\, United States
END:VEVENT
BEGIN:VEVENT
DTSTART;TZID=America/Los_Angeles:20231213T173000
DTEND;TZID=America/Los_Angeles:20231213T183000
DTSTAMP:20260425T071129
CREATED:20230706T005526Z
LAST-MODIFIED:20230706T005527Z
UID:290-1702488600-1702492200@westsoundbrewers.com
SUMMARY:Board Meeting
DESCRIPTION:
URL:https://westsoundbrewers.com/event/board-meeting-8/
LOCATION:Ridgeline Brewing\, 941 North Callow Ave\, Bremerton\, WA\, 98312\, United States
END:VEVENT
BEGIN:VEVENT
DTSTART;TZID=America/Los_Angeles:20231214T173000
DTEND;TZID=America/Los_Angeles:20231214T190000
DTSTAMP:20260425T071129
CREATED:20231201T182425Z
LAST-MODIFIED:20231201T182426Z
UID:2597-1702575000-1702580400@westsoundbrewers.com
SUMMARY:Weekday Wet your Whistle - Bushel & Barrel
DESCRIPTION:
URL:https://westsoundbrewers.com/event/weekday-wet-your-whistle-bushel-barrel/
LOCATION:Bushel & Barrel Ciderhouse\, 201 NW Beaver Ridge Lane\, Poulsbo\, WA\, United States
END:VEVENT
BEGIN:VEVENT
DTSTART;TZID=America/Los_Angeles:20231220T173000
DTEND;TZID=America/Los_Angeles:20231220T190000
DTSTAMP:20260425T071129
CREATED:20231218T191232Z
LAST-MODIFIED:20231218T191233Z
UID:2608-1703093400-1703098800@westsoundbrewers.com
SUMMARY:Weekday Wet Your Whistle
DESCRIPTION:
URL:https://westsoundbrewers.com/event/weekday-wet-your-whistle-9/
LOCATION:Local Boys Tap Room – Bremerton\, 519 4th ST\, Bremerton\, Washington\, 98312\, United States
END:VEVENT
BEGIN:VEVENT
DTSTART;TZID=America/Los_Angeles:20240103T173000
DTEND;TZID=America/Los_Angeles:20240103T190000
DTSTAMP:20260425T071129
CREATED:20240102T015025Z
LAST-MODIFIED:20240102T015027Z
UID:2616-1704303000-1704308400@westsoundbrewers.com
SUMMARY:Weekday Wet Your Whistle - Western Red
DESCRIPTION:
URL:https://westsoundbrewers.com/event/weekday-wet-your-whistle-western-red-2/
LOCATION:Western Red Brewing\, 19168 Jensen Way NE Box 2905\, poulsbo\, Washington\, 98370\, United States
END:VEVENT
BEGIN:VEVENT
DTSTART;TZID=America/Los_Angeles:20240109T173000
DTEND;TZID=America/Los_Angeles:20240109T183000
DTSTAMP:20260425T071129
CREATED:20231110T214639Z
LAST-MODIFIED:20240111T021045Z
UID:374-1704821400-1704825000@westsoundbrewers.com
SUMMARY:Weekday Wet your Whistle & Board Meeting
DESCRIPTION:
URL:https://westsoundbrewers.com/event/board-meeting-9/
LOCATION:Ridgeline Brewing\, 941 North Callow Ave\, Bremerton\, WA\, 98312\, United States
CATEGORIES:Board Meeting,Wet your Whistle Weekday
END:VEVENT
BEGIN:VEVENT
DTSTART;TZID=America/Los_Angeles:20240113T140000
DTEND;TZID=America/Los_Angeles:20240113T180000
DTSTAMP:20260425T071129
CREATED:20231108T195038Z
LAST-MODIFIED:20240112T060321Z
UID:370-1705154400-1705168800@westsoundbrewers.com
SUMMARY:"Imperial" meeting
DESCRIPTION:Join us at Dog Days (weather permitting) to share high ABV beers.Bring a potluck dish to share \n\n\n\nWe will have a server pouring our beers\, so bring tip jar money. \n\n\n\nIf Jeff decides it is too bad to open\, we will send out an email cancelling the event\, but I am guessing it will still happen. \n\n\n\nI forgot to add the notes to the email.
URL:https://westsoundbrewers.com/event/imperial-meeting/
LOCATION:Dog Days Brewing\, 260 4th St\, Bremerton\, WA\, 98337\, United States
CATEGORIES:Monthly Social
END:VEVENT
BEGIN:VEVENT
DTSTART;TZID=America/Los_Angeles:20240117T173000
DTEND;TZID=America/Los_Angeles:20240117T190000
DTSTAMP:20260425T071129
CREATED:20240112T061200Z
LAST-MODIFIED:20240112T061202Z
UID:2649-1705512600-1705518000@westsoundbrewers.com
SUMMARY:Weekday Wet Your Whistle - Crane's Castle
DESCRIPTION:
URL:https://westsoundbrewers.com/event/weekday-wet-your-whistle-cranes-castle-2/
LOCATION:Crane’s Castle Brewing\, 1550 NE Riddell Rd\, Suite #180\, Bremerton\, WA\, 98310\, United States
CATEGORIES:Wet your Whistle Weekday
END:VEVENT
BEGIN:VEVENT
DTSTART;TZID=America/Los_Angeles:20240123T173000
DTEND;TZID=America/Los_Angeles:20240123T190000
DTSTAMP:20260425T071129
CREATED:20240120T185002Z
LAST-MODIFIED:20240120T185005Z
UID:2652-1706031000-1706036400@westsoundbrewers.com
SUMMARY:Weekday Wet Your Whistle - Chaos Bay
DESCRIPTION:
URL:https://westsoundbrewers.com/event/weekday-wet-your-whistle-chaos-bay/
LOCATION:Chaos Bay Brewing Co.\, 2901 Perry Avenue\, Bremerton\, WA\, 98310\, United States
END:VEVENT
BEGIN:VEVENT
DTSTART;TZID=America/Los_Angeles:20240130T173000
DTEND;TZID=America/Los_Angeles:20240130T190000
DTSTAMP:20260425T071129
CREATED:20240120T185103Z
LAST-MODIFIED:20240120T185104Z
UID:2654-1706635800-1706641200@westsoundbrewers.com
SUMMARY:Weekday Wet Your Whistle - Deep Draft
DESCRIPTION:
URL:https://westsoundbrewers.com/event/weekday-wet-your-whistle-deep-draft/
LOCATION:Deep Draft Brewing\, 3536 W Belfair Valley Rd\, Bremerton\, WA\, 98312\, United States
END:VEVENT
BEGIN:VEVENT
DTSTART;TZID=America/Los_Angeles:20240208T173000
DTEND;TZID=America/Los_Angeles:20240208T190000
DTSTAMP:20260425T071129
CREATED:20240202T232502Z
LAST-MODIFIED:20240208T023722Z
UID:2658-1707413400-1707418800@westsoundbrewers.com
SUMMARY:Weekly Wet Your Whistle - Bushel & Barrel
DESCRIPTION:
URL:https://westsoundbrewers.com/event/weekly-wet-your-whistle-bushel-barrel/
LOCATION:Bushel & Barrel Ciderhouse\, 201 NW Beaver Ridge Lane\, Poulsbo\, WA\, United States
END:VEVENT
BEGIN:VEVENT
DTSTART;TZID=America/Los_Angeles:20240213T173000
DTEND;TZID=America/Los_Angeles:20240213T190000
DTSTAMP:20260425T071129
CREATED:20240111T015741Z
LAST-MODIFIED:20240111T015743Z
UID:2625-1707845400-1707850800@westsoundbrewers.com
SUMMARY:Board Meeting & Weekday Wet Your Whistle
DESCRIPTION:
URL:https://westsoundbrewers.com/event/board-meeting-weekday-wet-your-whistle/
LOCATION:Ridgeline Brewing\, 941 North Callow Ave\, Bremerton\, WA\, 98312\, United States
CATEGORIES:Board Meeting,Wet your Whistle Weekday
END:VEVENT
BEGIN:VEVENT
DTSTART;TZID=America/Los_Angeles:20240217T140000
DTEND;TZID=America/Los_Angeles:20240217T180000
DTSTAMP:20260425T071129
CREATED:20240111T014906Z
LAST-MODIFIED:20240111T014907Z
UID:2621-1708178400-1708192800@westsoundbrewers.com
SUMMARY:STRANGE Brew uary
DESCRIPTION:Bring your strange brews to sample and compare. We will have a friendly competition for the best beer. everybody present will rank their top 3 favorites and a score will be computed based on these ballots. \n\n\n\nBring food to share because you may need energy to sample all of these beverages. \n\n\n\nPlease only bring homebrews and support our host by purchasing from her. Bring small bills to tip our host and servers. \n\n\n\nRemember to drink responsibly.
URL:https://westsoundbrewers.com/event/strange-brew-uary/
LOCATION:Ashley’s Pub\, 409 Pacific Ave Suite 105\, Bremerton\, WA\, 98337\, United States
CATEGORIES:Monthly Social
END:VEVENT
BEGIN:VEVENT
DTSTART;TZID=America/Los_Angeles:20240221T173000
DTEND;TZID=America/Los_Angeles:20240221T190000
DTSTAMP:20260425T071129
CREATED:20240216T002549Z
LAST-MODIFIED:20240216T002550Z
UID:2661-1708536600-1708542000@westsoundbrewers.com
SUMMARY:Weekday Wet Your Whistle - Rainy Daze
DESCRIPTION:
URL:https://westsoundbrewers.com/event/weekday-wet-your-whistle-rainy-daze-2/
LOCATION:Rainy Daze Brewing\, 650 NW Bovela Ln Suite 3\, Poulsbo\, WA\, 98370\, United States
END:VEVENT
BEGIN:VEVENT
DTSTART;TZID=America/Los_Angeles:20240228T173000
DTEND;TZID=America/Los_Angeles:20240228T190000
DTSTAMP:20260425T071129
CREATED:20240226T011846Z
LAST-MODIFIED:20240226T011847Z
UID:2671-1709141400-1709146800@westsoundbrewers.com
SUMMARY:Weekday Wet Your Whistle - Moment Brewing
DESCRIPTION:
URL:https://westsoundbrewers.com/event/weekday-wet-your-whistle-moment-brewing-5/
LOCATION:Moment Brewing\, 10876 Myhre Pl NW Suite 112\, Silverdale\, WA\, 98383\, United States
CATEGORIES:Wet your Whistle Weekday
END:VEVENT
BEGIN:VEVENT
DTSTART;TZID=America/Los_Angeles:20240307T173000
DTEND;TZID=America/Los_Angeles:20240307T190000
DTSTAMP:20260425T071129
CREATED:20240303T182656Z
LAST-MODIFIED:20240303T182745Z
UID:2673-1709832600-1709838000@westsoundbrewers.com
SUMMARY:weekly wet your whistle -- Valholl
DESCRIPTION:
URL:https://westsoundbrewers.com/event/weekly-wet-your-whistle-valholl/
LOCATION:Valholl Brewing\, 18970 3rd Ave NE\, Poulsbo\, Washington\, 98370\, United States
CATEGORIES:Wet your Whistle Weekday
END:VEVENT
BEGIN:VEVENT
DTSTART;TZID=America/Los_Angeles:20240312T173000
DTEND;TZID=America/Los_Angeles:20240312T190000
DTSTAMP:20260425T071129
CREATED:20240111T015857Z
LAST-MODIFIED:20240111T015858Z
UID:2627-1710264600-1710270000@westsoundbrewers.com
SUMMARY:Board Meeting & Weekday Wet Your Whistle
DESCRIPTION:
URL:https://westsoundbrewers.com/event/board-meeting-weekday-wet-your-whistle-2/
LOCATION:Ridgeline Brewing\, 941 North Callow Ave\, Bremerton\, WA\, 98312\, United States
CATEGORIES:Board Meeting,Wet your Whistle Weekday
END:VEVENT
BEGIN:VEVENT
DTSTART;TZID=America/Los_Angeles:20240319T173000
DTEND;TZID=America/Los_Angeles:20240319T190000
DTSTAMP:20260425T071129
CREATED:20240311T024616Z
LAST-MODIFIED:20240311T024618Z
UID:2683-1710869400-1710874800@westsoundbrewers.com
SUMMARY:Weekly Wet Your Whistle - Tracyton Pub
DESCRIPTION:
URL:https://westsoundbrewers.com/event/weekly-wet-your-whistle-tracyton-pub-2/
LOCATION:Tracyton Pub\, 403 Tracy Ave\, Bremerton\, Washington\, 98311\, United States
END:VEVENT
BEGIN:VEVENT
DTSTART;TZID=America/Los_Angeles:20240323T140000
DTEND;TZID=America/Los_Angeles:20240323T180000
DTSTAMP:20260425T071129
CREATED:20240111T015403Z
LAST-MODIFIED:20240111T015405Z
UID:2623-1711202400-1711216800@westsoundbrewers.com
SUMMARY:Wood Fest Competition
DESCRIPTION:Bring your wood-touched and wood-inspired creations to sample and compare. We will have a populace choice ballot for determining a winner. \n\n\n\nPotluck to share. Maybe consider wood inspired food too? \n\n\n\nTips to our host are appreciated.
URL:https://westsoundbrewers.com/event/wood-fest-competition/
LOCATION:Western Red Brewing\, 19168 Jensen Way NE Box 2905\, poulsbo\, Washington\, 98370\, United States
CATEGORIES:Monthly Social
END:VEVENT
BEGIN:VEVENT
DTSTART;TZID=America/Los_Angeles:20240324T120000
DTEND;TZID=America/Los_Angeles:20240324T170000
DTSTAMP:20260425T071129
CREATED:20240319T021119Z
LAST-MODIFIED:20240319T021122Z
UID:2690-1711281600-1711299600@westsoundbrewers.com
SUMMARY:Moment Belgian Yeast Share
DESCRIPTION:Pickup yeast at Moment
URL:https://westsoundbrewers.com/event/moment-belgian-yeast-share/
LOCATION:Moment Brewing\, 10876 Myhre Pl NW Suite 112\, Silverdale\, WA\, 98383\, United States
CATEGORIES:Technical Meeting
END:VEVENT
BEGIN:VEVENT
DTSTART;TZID=America/Los_Angeles:20240327T173000
DTEND;TZID=America/Los_Angeles:20240327T190000
DTSTAMP:20260425T071129
CREATED:20240325T043739Z
LAST-MODIFIED:20240325T043742Z
UID:2699-1711560600-1711566000@westsoundbrewers.com
SUMMARY:Weekday Wet Your Whistle - Ashley's Pub
DESCRIPTION:
URL:https://westsoundbrewers.com/event/weekday-wet-your-whistle-ashleys-pub/
LOCATION:Ashley’s Pub\, 409 Pacific Ave Suite 105\, Bremerton\, WA\, 98337\, United States
CATEGORIES:Wet your Whistle Weekday
END:VEVENT
BEGIN:VEVENT
DTSTART;TZID=America/Los_Angeles:20240404T180000
DTEND;TZID=America/Los_Angeles:20240404T200000
DTSTAMP:20260425T071129
CREATED:20240319T021434Z
LAST-MODIFIED:20240319T024427Z
UID:2692-1712253600-1712260800@westsoundbrewers.com
SUMMARY:Technical Meeting - Yeast
DESCRIPTION:Please do not bring any beer\, there are lots of excellent beers available for purchase (Happy Hour starts at 7:00 p.m.). \n\n\n\nThe topic is Beginning\, Intermediate\, and Advanced Yeast Propagation for Homebrewers. \n\n\n\nThere will be a short presentation by Enid Lints and lots of time for questions and discussion. \n\n\n\nThis tech meeting is in place of the WWYW\, so please join us for a beer.
URL:https://westsoundbrewers.com/event/technical-meeting-yeast/
LOCATION:Silver City Brewery and Taproom\, 206 Katy Penman\, Bremerton\, WA\, 98312\, United States
CATEGORIES:Technical Meeting
END:VEVENT
BEGIN:VEVENT
DTSTART;TZID=America/Los_Angeles:20240409T173000
DTEND;TZID=America/Los_Angeles:20240409T190000
DTSTAMP:20260425T071129
CREATED:20240111T015946Z
LAST-MODIFIED:20240111T020422Z
UID:2629-1712683800-1712689200@westsoundbrewers.com
SUMMARY:Board Meeting & Weekday Wet Your Whistle
DESCRIPTION:
URL:https://westsoundbrewers.com/event/board-meeting-weekday-wet-your-whistle-3/
LOCATION:Ridgeline Brewing\, 941 North Callow Ave\, Bremerton\, WA\, 98312\, United States
CATEGORIES:Board Meeting,Wet your Whistle Weekday
END:VEVENT
BEGIN:VEVENT
DTSTART;TZID=America/Los_Angeles:20240416T173000
DTEND;TZID=America/Los_Angeles:20240416T190000
DTSTAMP:20260425T071129
CREATED:20240410T023142Z
LAST-MODIFIED:20240410T024022Z
UID:2713-1713288600-1713294000@westsoundbrewers.com
SUMMARY:Weekday Wet Your Whistle - Damn Fine Pizza
DESCRIPTION:
URL:https://westsoundbrewers.com/event/weekday-wet-your-whistle-damn-fine-pizza/
LOCATION:Damn Fine Pizza\, 1307 Bay Street\, Port Orchard\, WA\, 98366\, United States
CATEGORIES:Wet your Whistle Weekday
END:VEVENT
BEGIN:VEVENT
DTSTART;TZID=America/Los_Angeles:20240420T140000
DTEND;TZID=America/Los_Angeles:20240420T190000
DTSTAMP:20260425T071129
CREATED:20240216T003209Z
LAST-MODIFIED:20240319T021653Z
UID:2663-1713621600-1713639600@westsoundbrewers.com
SUMMARY:Beer Thirty meet Four Twenty
DESCRIPTION:Light Spring and Summer beverages \n\n\n\nParking is Discover Pass or $10. Tyler Shuldt may be shuttling people (more details to come or reach out to him directly)
URL:https://westsoundbrewers.com/event/beer-thirty-meet-four-twenty/
LOCATION:Illahee State Park\, 3540 NE Sylvan Way\, Bremerton\, WA\, 98310\, United States
CATEGORIES:Monthly Social
END:VEVENT
BEGIN:VEVENT
DTSTART;TZID=America/Los_Angeles:20240424T173000
DTEND;TZID=America/Los_Angeles:20240424T190000
DTSTAMP:20260425T071129
CREATED:20240418T152310Z
LAST-MODIFIED:20240418T152314Z
UID:2718-1713979800-1713985200@westsoundbrewers.com
SUMMARY:Weekday Wet Your Whistle - Bainbridge Brewing
DESCRIPTION:
URL:https://westsoundbrewers.com/event/weekday-wet-your-whistle-bainbridge-brewing-2/
LOCATION:Bainbridge Brewing\, 9415 Coppertop Loop NE\, Bainbridge Island\, wa\, 98110\, United States
CATEGORIES:Wet your Whistle Weekday
END:VEVENT
BEGIN:VEVENT
DTSTART;TZID=America/Los_Angeles:20240430T173000
DTEND;TZID=America/Los_Angeles:20240430T190000
DTSTAMP:20260425T071129
CREATED:20240425T145823Z
LAST-MODIFIED:20240425T150023Z
UID:2733-1714498200-1714503600@westsoundbrewers.com
SUMMARY:Weekday Wet Your Whistle - Crane's Castle
DESCRIPTION:
URL:https://westsoundbrewers.com/event/weekday-wet-your-whistle-cranes-castle-3/
LOCATION:Crane’s Castle Brewing\, 1550 NE Riddell Rd\, Suite #180\, Bremerton\, WA\, 98310\, United States
CATEGORIES:Wet your Whistle Weekday
END:VEVENT
BEGIN:VEVENT
DTSTART;TZID=America/Los_Angeles:20240504T080000
DTEND;TZID=America/Los_Angeles:20240504T170000
DTSTAMP:20260425T071129
CREATED:20240216T003737Z
LAST-MODIFIED:20240404T211316Z
UID:2667-1714809600-1714842000@westsoundbrewers.com
SUMMARY:Big Brew
DESCRIPTION:Join us for fun and demonstrations of our brewing processes. We are participating in this annual event to promote our hobby of homebrewing. \n\n\n\nAt 10:00 we will be sharing a virtual toast with brewers around the country. \n\n\n\nDownloadable Event Flyer
URL:https://westsoundbrewers.com/event/big-brew/
LOCATION:Ridgeline Brewing\, 941 North Callow Ave\, Bremerton\, WA\, 98312\, United States
CATEGORIES:Monthly Social,Technical Meeting
END:VEVENT
END:VCALENDAR