BEGIN:VCALENDAR
VERSION:2.0
PRODID:-//West Sound Brewers - ECPv6.15.20//NONSGML v1.0//EN
CALSCALE:GREGORIAN
METHOD:PUBLISH
X-WR-CALNAME:West Sound Brewers
X-ORIGINAL-URL:https://westsoundbrewers.com
X-WR-CALDESC:Events for West Sound Brewers
REFRESH-INTERVAL;VALUE=DURATION:PT1H
X-Robots-Tag:noindex
X-PUBLISHED-TTL:PT1H
BEGIN:VTIMEZONE
TZID:America/Los_Angeles
BEGIN:DAYLIGHT
TZOFFSETFROM:-0800
TZOFFSETTO:-0700
TZNAME:PDT
DTSTART:20250309T100000
END:DAYLIGHT
BEGIN:STANDARD
TZOFFSETFROM:-0700
TZOFFSETTO:-0800
TZNAME:PST
DTSTART:20251102T090000
END:STANDARD
BEGIN:DAYLIGHT
TZOFFSETFROM:-0800
TZOFFSETTO:-0700
TZNAME:PDT
DTSTART:20260308T100000
END:DAYLIGHT
BEGIN:STANDARD
TZOFFSETFROM:-0700
TZOFFSETTO:-0800
TZNAME:PST
DTSTART:20261101T090000
END:STANDARD
BEGIN:DAYLIGHT
TZOFFSETFROM:-0800
TZOFFSETTO:-0700
TZNAME:PDT
DTSTART:20270314T100000
END:DAYLIGHT
BEGIN:STANDARD
TZOFFSETFROM:-0700
TZOFFSETTO:-0800
TZNAME:PST
DTSTART:20271107T090000
END:STANDARD
END:VTIMEZONE
BEGIN:VEVENT
DTSTART;TZID=America/Los_Angeles:20260414T173000
DTEND;TZID=America/Los_Angeles:20260414T190000
DTSTAMP:20260423T170041
CREATED:20260308T191023Z
LAST-MODIFIED:20260308T191710Z
UID:3356-1776187800-1776193200@westsoundbrewers.com
SUMMARY:WSB Board Meeting – Ridgeline
DESCRIPTION:
URL:https://westsoundbrewers.com/event/wsb-board-meeting-ridgeline-2/
LOCATION:Ridgeline Brewing\, 941 North Callow Ave\, Bremerton\, WA\, 98312\, United States
CATEGORIES:Board Meeting,Wet your Whistle Weekday
END:VEVENT
BEGIN:VEVENT
DTSTART;TZID=America/Los_Angeles:20260419T130000
DTEND;TZID=America/Los_Angeles:20260419T170000
DTSTAMP:20260423T170041
CREATED:20260309T144325Z
LAST-MODIFIED:20260309T144330Z
UID:3365-1776603600-1776618000@westsoundbrewers.com
SUMMARY:Brewing 101
DESCRIPTION:Please pre-register at Olympic Brewing Supplies
URL:https://westsoundbrewers.com/event/brewing-101/
LOCATION:Olympic Brewing Supplies\, 2817 Wheaton Way #102\, Bremerton\, Washington\, 98310\, United States
CATEGORIES:Technical Meeting
END:VEVENT
BEGIN:VEVENT
DTSTART;TZID=America/Los_Angeles:20260422T173000
DTEND;TZID=America/Los_Angeles:20260422T190000
DTSTAMP:20260423T170041
CREATED:20260419T164132Z
LAST-MODIFIED:20260419T164134Z
UID:3387-1776879000-1776884400@westsoundbrewers.com
SUMMARY:Weekday Wet your Whistle - Crane's Castle
DESCRIPTION:
URL:https://westsoundbrewers.com/event/weekday-wet-your-whistle-cranes-castle-7/
LOCATION:Crane’s Castle Brewing\, 1550 NE Riddell Rd\, Suite #180\, Bremerton\, WA\, 98310\, United States
END:VEVENT
BEGIN:VEVENT
DTSTART;TZID=America/Los_Angeles:20260429T173000
DTEND;TZID=America/Los_Angeles:20260429T235959
DTSTAMP:20260423T170041
CREATED:20260423T005738Z
LAST-MODIFIED:20260423T005738Z
UID:3389-1777483800-1777507199@westsoundbrewers.com
SUMMARY:weekday wet your whistle - moment
DESCRIPTION:
URL:https://westsoundbrewers.com/event/weekday-wet-your-whistle-moment-6/
LOCATION:Moment Brewing\, 10876 Myhre Pl NW Suite 112\, Silverdale\, WA\, 98383\, United States
CATEGORIES:Wet your Whistle Weekday
END:VEVENT
BEGIN:VEVENT
DTSTART;TZID=America/Los_Angeles:20260502T080000
DTEND;TZID=America/Los_Angeles:20260502T170000
DTSTAMP:20260423T170041
CREATED:20260226T040059Z
LAST-MODIFIED:20260226T040104Z
UID:3342-1777708800-1777741200@westsoundbrewers.com
SUMMARY:Big Brew - Rainy Daze
DESCRIPTION:Big Brew for National Homebrew Day — May 2\, 2026
URL:https://westsoundbrewers.com/event/big-brew-rainy-daze/
LOCATION:Rainy Daze Brewing\, 650 NW Bovela Ln Suite 3\, Poulsbo\, WA\, 98370\, United States
CATEGORIES:Monthly Social
END:VEVENT
BEGIN:VEVENT
DTSTART;TZID=America/Los_Angeles:20260512T173000
DTEND;TZID=America/Los_Angeles:20260512T190000
DTSTAMP:20260423T170041
CREATED:20260308T191135Z
LAST-MODIFIED:20260308T191203Z
UID:3358-1778607000-1778612400@westsoundbrewers.com
SUMMARY:WSB Board Meeting – Ridgeline
DESCRIPTION:
URL:https://westsoundbrewers.com/event/wsb-board-meeting-ridgeline-3/
LOCATION:Ridgeline Brewing\, 941 North Callow Ave\, Bremerton\, WA\, 98312\, United States
END:VEVENT
BEGIN:VEVENT
DTSTART;TZID=America/Los_Angeles:20260516T170000
DTEND;TZID=America/Los_Angeles:20260516T200000
DTSTAMP:20260423T170041
CREATED:20260226T035808Z
LAST-MODIFIED:20260226T035812Z
UID:3340-1778950800-1778961600@westsoundbrewers.com
SUMMARY:Grainpiece invites West Sound Brewers
DESCRIPTION:The West Sound Brewers are invited to join the Grainpiece Brewers for our May meeting on Saturday\, May 16th. It will be held at Blaine Wilson’s house in Manchester at 5 pm till 8 pm. \n\n\n\nAddress in Manchester hidden for privacy. Contact an officer for details.  \n\n\n\nCarpool when possible. Bring beer and appetizers.
URL:https://westsoundbrewers.com/event/grainpiece-invites-west-sound-brewers/
LOCATION:WA
CATEGORIES:Club Interest
END:VEVENT
BEGIN:VEVENT
DTSTART;TZID=America/Los_Angeles:20260517T130000
DTEND;TZID=America/Los_Angeles:20260517T170000
DTSTAMP:20260423T170041
CREATED:20260309T144550Z
LAST-MODIFIED:20260309T144554Z
UID:3367-1779022800-1779037200@westsoundbrewers.com
SUMMARY:Advanced Brewing Concepts
DESCRIPTION:Please pre-register at Olympic Brewing Supplies
URL:https://westsoundbrewers.com/event/advanced-brewing-concepts/
LOCATION:Olympic Brewing Supplies\, 2817 Wheaton Way #102\, Bremerton\, Washington\, 98310\, United States
CATEGORIES:Technical Meeting
END:VEVENT
BEGIN:VEVENT
DTSTART;TZID=America/Los_Angeles:20260616T173000
DTEND;TZID=America/Los_Angeles:20260616T190000
DTSTAMP:20260423T170041
CREATED:20260308T191301Z
LAST-MODIFIED:20260308T191307Z
UID:3360-1781631000-1781636400@westsoundbrewers.com
SUMMARY:WSB Board Meeting – Ridgeline
DESCRIPTION:
URL:https://westsoundbrewers.com/event/wsb-board-meeting-ridgeline-4/
LOCATION:Ridgeline Brewing\, 941 North Callow Ave\, Bremerton\, WA\, 98312\, United States
END:VEVENT
BEGIN:VEVENT
DTSTART;TZID=America/Los_Angeles:20260620T140000
DTEND;TZID=America/Los_Angeles:20260620T190000
DTSTAMP:20260423T170041
CREATED:20260226T040409Z
LAST-MODIFIED:20260226T040414Z
UID:3344-1781964000-1781982000@westsoundbrewers.com
SUMMARY:Solstice Party
DESCRIPTION:Bring brews and food to share \n\n\n\nMarti Gwaltney’s Place\, ask an officer for details.
URL:https://westsoundbrewers.com/event/solstice-party/
LOCATION:WA
END:VEVENT
BEGIN:VEVENT
DTSTART;TZID=America/Los_Angeles:20260718T120000
DTEND;TZID=America/Los_Angeles:20260719T110000
DTSTAMP:20260423T170041
CREATED:20260317T033956Z
LAST-MODIFIED:20260317T034003Z
UID:3371-1784376000-1784458800@westsoundbrewers.com
SUMMARY:Beerstock
DESCRIPTION:
URL:https://westsoundbrewers.com/event/beerstock-3/
LOCATION:WA
END:VEVENT
BEGIN:VEVENT
DTSTART;TZID=America/Los_Angeles:20260829T140000
DTEND;TZID=America/Los_Angeles:20260829T180000
DTSTAMP:20260423T170041
CREATED:20260317T034122Z
LAST-MODIFIED:20260317T034128Z
UID:3373-1788012000-1788026400@westsoundbrewers.com
SUMMARY:Oggie's Garden of Eatin'
DESCRIPTION:
URL:https://westsoundbrewers.com/event/oggies-garden-of-eatin-2/
LOCATION:WA
END:VEVENT
END:VCALENDAR