BEGIN:VCALENDAR
VERSION:2.0
PRODID:-//West Sound Brewers - ECPv6.15.20//NONSGML v1.0//EN
CALSCALE:GREGORIAN
METHOD:PUBLISH
X-ORIGINAL-URL:https://westsoundbrewers.com
X-WR-CALDESC:Events for West Sound Brewers
REFRESH-INTERVAL;VALUE=DURATION:PT1H
X-Robots-Tag:noindex
X-PUBLISHED-TTL:PT1H
BEGIN:VTIMEZONE
TZID:America/Los_Angeles
BEGIN:DAYLIGHT
TZOFFSETFROM:-0800
TZOFFSETTO:-0700
TZNAME:PDT
DTSTART:20240310T100000
END:DAYLIGHT
BEGIN:STANDARD
TZOFFSETFROM:-0700
TZOFFSETTO:-0800
TZNAME:PST
DTSTART:20241103T090000
END:STANDARD
BEGIN:DAYLIGHT
TZOFFSETFROM:-0800
TZOFFSETTO:-0700
TZNAME:PDT
DTSTART:20250309T100000
END:DAYLIGHT
BEGIN:STANDARD
TZOFFSETFROM:-0700
TZOFFSETTO:-0800
TZNAME:PST
DTSTART:20251102T090000
END:STANDARD
BEGIN:DAYLIGHT
TZOFFSETFROM:-0800
TZOFFSETTO:-0700
TZNAME:PDT
DTSTART:20260308T100000
END:DAYLIGHT
BEGIN:STANDARD
TZOFFSETFROM:-0700
TZOFFSETTO:-0800
TZNAME:PST
DTSTART:20261101T090000
END:STANDARD
END:VTIMEZONE
BEGIN:VEVENT
DTSTART;TZID=America/Los_Angeles:20250909T173000
DTEND;TZID=America/Los_Angeles:20250909T190000
DTSTAMP:20260423T143332
CREATED:20250105T202734Z
LAST-MODIFIED:20250707T010520Z
UID:2987-1757439000-1757444400@westsoundbrewers.com
SUMMARY:WSB Board Meeting & WWYW - Ridgeline
DESCRIPTION:
URL:https://westsoundbrewers.com/event/board-meeting-and-weekday-wet-your-whistle-ridgeline-9/
LOCATION:Ridgeline Brewing\, 941 North Callow Ave\, Bremerton\, WA\, 98312\, United States
CATEGORIES:Board Meeting,Wet your Whistle Weekday
END:VEVENT
BEGIN:VEVENT
DTSTART;TZID=America/Los_Angeles:20250904T173000
DTEND;TZID=America/Los_Angeles:20250904T190000
DTSTAMP:20260423T143332
CREATED:20250901T013318Z
LAST-MODIFIED:20250901T013322Z
UID:3217-1757007000-1757012400@westsoundbrewers.com
SUMMARY:Weekday Wet Your Whistle - Local Boys
DESCRIPTION:
URL:https://westsoundbrewers.com/event/weekday-wet-your-whistle-local-boys/
LOCATION:Local Boys Tap Room – Bremerton\, 519 4th ST\, Bremerton\, Washington\, 98312\, United States
CATEGORIES:Wet your Whistle Weekday
END:VEVENT
BEGIN:VEVENT
DTSTART;TZID=America/Los_Angeles:20250827T173000
DTEND;TZID=America/Los_Angeles:20250827T235959
DTSTAMP:20260423T143332
CREATED:20250820T020440Z
LAST-MODIFIED:20250820T020440Z
UID:3211-1756315800-1756339199@westsoundbrewers.com
SUMMARY:weekday wet your whistle - moment
DESCRIPTION:
URL:https://westsoundbrewers.com/event/weekday-wet-your-whistle-moment-3/
LOCATION:Moment Brewing\, 10876 Myhre Pl NW Suite 112\, Silverdale\, WA\, 98383\, United States
CATEGORIES:Wet your Whistle Weekday
END:VEVENT
BEGIN:VEVENT
DTSTART;TZID=America/Los_Angeles:20250819T173000
DTEND;TZID=America/Los_Angeles:20250819T190000
DTSTAMP:20260423T143332
CREATED:20250802T021621Z
LAST-MODIFIED:20250802T021626Z
UID:3193-1755624600-1755630000@westsoundbrewers.com
SUMMARY:Weekday Wet Your Whistle - Rainy Daze
DESCRIPTION:
URL:https://westsoundbrewers.com/event/weekday-wet-your-whistle-rainy-daze-6/
LOCATION:Rainy Daze Brewing\, 650 NW Bovela Ln Suite 3\, Poulsbo\, WA\, 98370\, United States
CATEGORIES:Wet your Whistle Weekday
END:VEVENT
BEGIN:VEVENT
DTSTART;TZID=America/Los_Angeles:20250812T173000
DTEND;TZID=America/Los_Angeles:20250812T190000
DTSTAMP:20260423T143332
CREATED:20250105T202641Z
LAST-MODIFIED:20250809T033535Z
UID:2985-1755019800-1755025200@westsoundbrewers.com
SUMMARY:WSB Board Meeting & WWYW - Ridgeline
DESCRIPTION:
URL:https://westsoundbrewers.com/event/board-meeting-and-weekday-wet-your-whistle-ridgeline-8/
LOCATION:Ridgeline Brewing\, 941 North Callow Ave\, Bremerton\, WA\, 98312\, United States
CATEGORIES:Board Meeting,Wet your Whistle Weekday
END:VEVENT
BEGIN:VEVENT
DTSTART;TZID=America/Los_Angeles:20250806T173000
DTEND;TZID=America/Los_Angeles:20250806T190000
DTSTAMP:20260423T143332
CREATED:20250802T021427Z
LAST-MODIFIED:20250802T021433Z
UID:3191-1754501400-1754506800@westsoundbrewers.com
SUMMARY:Weekday Wet Your Whistle - Silver City
DESCRIPTION:
URL:https://westsoundbrewers.com/event/weekday-wet-your-whistle-silver-city-6/
LOCATION:Silver City Brewery and Taproom\, 206 Katy Penman\, Bremerton\, WA\, 98312\, United States
CATEGORIES:Wet your Whistle Weekday
END:VEVENT
BEGIN:VEVENT
DTSTART;TZID=America/Los_Angeles:20250731T173000
DTEND;TZID=America/Los_Angeles:20250731T235959
DTSTAMP:20260423T143332
CREATED:20250725T025911Z
LAST-MODIFIED:20250725T025911Z
UID:3187-1753983000-1754006399@westsoundbrewers.com
SUMMARY:weekday wet your whistle - yoked
DESCRIPTION:
URL:https://westsoundbrewers.com/event/weekday-wet-your-whistle-yoked-2/
LOCATION:Yoked Farmhouse & Brewery\, 525 SW Pine Rd\, Port Orchard\, Washington\, 98367\, United States
CATEGORIES:Wet your Whistle Weekday
END:VEVENT
BEGIN:VEVENT
DTSTART;TZID=America/Los_Angeles:20250724T173000
DTEND;TZID=America/Los_Angeles:20250724T190000
DTSTAMP:20260423T143332
CREATED:20250721T143005Z
LAST-MODIFIED:20250721T143055Z
UID:3182-1753378200-1753383600@westsoundbrewers.com
SUMMARY:Weekday Wet Your Whistle - Hard Hat Winery
DESCRIPTION:
URL:https://westsoundbrewers.com/event/weekday-wet-your-whistle-hard-hat-winery/
LOCATION:Hard Hat Winery\, 27055 State Hwy 3 N.E.\, Poulsbo\, Washington\, 98370\, United States
CATEGORIES:Wet your Whistle Weekday
END:VEVENT
BEGIN:VEVENT
DTSTART;TZID=America/Los_Angeles:20250717T173000
DTEND;TZID=America/Los_Angeles:20250717T235959
DTSTAMP:20260423T143332
CREATED:20250709T010716Z
LAST-MODIFIED:20250709T010716Z
UID:3180-1752773400-1752796799@westsoundbrewers.com
SUMMARY:weekday wet your whistle - bushel & barrel
DESCRIPTION:
URL:https://westsoundbrewers.com/event/weekday-wet-your-whistle-bushel-barrel-2/
LOCATION:Bushel & Barrel Ciderhouse\, 201 NW Beaver Ridge Lane\, Poulsbo\, WA\, United States
CATEGORIES:Wet your Whistle Weekday
END:VEVENT
BEGIN:VEVENT
DTSTART;TZID=America/Los_Angeles:20250708T173000
DTEND;TZID=America/Los_Angeles:20250708T190000
DTSTAMP:20260423T143332
CREATED:20250105T202544Z
LAST-MODIFIED:20250707T010551Z
UID:2983-1751995800-1752001200@westsoundbrewers.com
SUMMARY:WSB Board Meeting & WWYW - Ridgeline
DESCRIPTION:
URL:https://westsoundbrewers.com/event/board-meeting-and-weekday-wet-your-whistle-ridgeline-7/
LOCATION:Ridgeline Brewing\, 941 North Callow Ave\, Bremerton\, WA\, 98312\, United States
CATEGORIES:Board Meeting,Wet your Whistle Weekday
END:VEVENT
BEGIN:VEVENT
DTSTART;TZID=America/Los_Angeles:20250702T173000
DTEND;TZID=America/Los_Angeles:20250702T235959
DTSTAMP:20260423T143332
CREATED:20250626T013304Z
LAST-MODIFIED:20250626T013304Z
UID:3164-1751477400-1751500799@westsoundbrewers.com
SUMMARY:weekday wet your whistle - hood canal
DESCRIPTION:
URL:https://westsoundbrewers.com/event/weekday-wet-your-whistle-hood-canal-3/
LOCATION:Hood Canal Brewing\, 26499 Bond Rd NE\, Kingston\, WA\, 98346\, United States
CATEGORIES:Wet your Whistle Weekday
END:VEVENT
BEGIN:VEVENT
DTSTART;TZID=America/Los_Angeles:20250625T173000
DTEND;TZID=America/Los_Angeles:20250625T235959
DTSTAMP:20260423T143332
CREATED:20250618T015508Z
LAST-MODIFIED:20250618T015508Z
UID:3163-1750872600-1750895999@westsoundbrewers.com
SUMMARY:weekday wet your whistle - moment
DESCRIPTION:
URL:https://westsoundbrewers.com/event/weekday-wet-your-whistle-moment-2/
LOCATION:Moment Brewing\, 10876 Myhre Pl NW Suite 112\, Silverdale\, WA\, 98383\, United States
CATEGORIES:Wet your Whistle Weekday
END:VEVENT
BEGIN:VEVENT
DTSTART;TZID=America/Los_Angeles:20250617T173000
DTEND;TZID=America/Los_Angeles:20250617T235959
DTSTAMP:20260423T143332
CREATED:20250616T222417Z
LAST-MODIFIED:20250616T222417Z
UID:3162-1750181400-1750204799@westsoundbrewers.com
SUMMARY:weekday wet your whistle - tracyton
DESCRIPTION:
URL:https://westsoundbrewers.com/event/weekday-wet-your-whistle-tracyton/
LOCATION:Tracyton Pub\, 403 Tracy Ave\, Bremerton\, Washington\, 98311\, United States
CATEGORIES:Wet your Whistle Weekday
END:VEVENT
BEGIN:VEVENT
DTSTART;TZID=America/Los_Angeles:20250610T173000
DTEND;TZID=America/Los_Angeles:20250610T190000
DTSTAMP:20260423T143332
CREATED:20250105T202448Z
LAST-MODIFIED:20250105T202452Z
UID:2981-1749576600-1749582000@westsoundbrewers.com
SUMMARY:Board Meeting and Weekday Wet Your Whistle – Ridgeline
DESCRIPTION:
URL:https://westsoundbrewers.com/event/board-meeting-and-weekday-wet-your-whistle-ridgeline-6/
LOCATION:Ridgeline Brewing\, 941 North Callow Ave\, Bremerton\, WA\, 98312\, United States
CATEGORIES:Board Meeting,Wet your Whistle Weekday
END:VEVENT
BEGIN:VEVENT
DTSTART;TZID=America/Los_Angeles:20250605T173000
DTEND;TZID=America/Los_Angeles:20250605T190000
DTSTAMP:20260423T143332
CREATED:20250529T012454Z
LAST-MODIFIED:20250529T152402Z
UID:3151-1749144600-1749150000@westsoundbrewers.com
SUMMARY:weekly wet your whistle - deep draft
DESCRIPTION:
URL:https://westsoundbrewers.com/event/weekly-wet-your-whistle-deep-draft-7/
LOCATION:Deep Draft Brewing\, 3536 W Belfair Valley Rd\, Bremerton\, WA\, 98312\, United States
CATEGORIES:Wet your Whistle Weekday
END:VEVENT
BEGIN:VEVENT
DTSTART;TZID=America/Los_Angeles:20250528T173000
DTEND;TZID=America/Los_Angeles:20250528T190000
DTSTAMP:20260423T143332
CREATED:20250521T010058Z
LAST-MODIFIED:20250526T203805Z
UID:3132-1748453400-1748458800@westsoundbrewers.com
SUMMARY:weekday wet your whistle - Valholl
DESCRIPTION:
URL:https://westsoundbrewers.com/event/weekday-wet-your-whistle-12/
LOCATION:Valholl Brewing\, 18970 3rd Ave NE\, Poulsbo\, Washington\, 98370\, United States
CATEGORIES:Wet your Whistle Weekday
END:VEVENT
BEGIN:VEVENT
DTSTART;TZID=America/Los_Angeles:20250520T173000
DTEND;TZID=America/Los_Angeles:20250520T235959
DTSTAMP:20260423T143332
CREATED:20250514T012435Z
LAST-MODIFIED:20250514T012435Z
UID:3131-1747762200-1747785599@westsoundbrewers.com
SUMMARY:weekday wet your whistle - cranes castle
DESCRIPTION:
URL:https://westsoundbrewers.com/event/weekday-wet-your-whistle-cranes-castle-5/
LOCATION:Crane’s Castle Brewing\, 1550 NE Riddell Rd\, Suite #180\, Bremerton\, WA\, 98310\, United States
CATEGORIES:Wet your Whistle Weekday
END:VEVENT
BEGIN:VEVENT
DTSTART;TZID=America/Los_Angeles:20250513T173000
DTEND;TZID=America/Los_Angeles:20250513T190000
DTSTAMP:20260423T143332
CREATED:20250105T202332Z
LAST-MODIFIED:20250105T202336Z
UID:2979-1747157400-1747162800@westsoundbrewers.com
SUMMARY:Board Meeting and Weekday Wet Your Whistle – Ridgeline
DESCRIPTION:
URL:https://westsoundbrewers.com/event/board-meeting-and-weekday-wet-your-whistle-ridgeline-5/
LOCATION:Ridgeline Brewing\, 941 North Callow Ave\, Bremerton\, WA\, 98312\, United States
CATEGORIES:Board Meeting,Wet your Whistle Weekday
END:VEVENT
BEGIN:VEVENT
DTSTART;TZID=America/Los_Angeles:20250508T173000
DTEND;TZID=America/Los_Angeles:20250508T190000
DTSTAMP:20260423T143332
CREATED:20250504T180827Z
LAST-MODIFIED:20250504T180832Z
UID:3129-1746725400-1746730800@westsoundbrewers.com
SUMMARY:Release Day - Blaine at Crane's Castle
DESCRIPTION:Blaine’s American Wheat Pro-Am with Crane’s Castle is going on tap today. \n\n\n\nWet your whistle a second (or third) time this week
URL:https://westsoundbrewers.com/event/release-day-blaine-at-cranes-castle/
LOCATION:Crane’s Castle Brewing\, 1550 NE Riddell Rd\, Suite #180\, Bremerton\, WA\, 98310\, United States
CATEGORIES:Club Interest,Wet your Whistle Weekday
END:VEVENT
BEGIN:VEVENT
DTSTART;TZID=America/Los_Angeles:20250507T170000
DTEND;TZID=America/Los_Angeles:20250507T190000
DTSTAMP:20260423T143332
CREATED:20250504T175912Z
LAST-MODIFIED:20250504T175917Z
UID:3126-1746637200-1746644400@westsoundbrewers.com
SUMMARY:Weekday Wet Your Whistle - Silver City Taproom
DESCRIPTION:
URL:https://westsoundbrewers.com/event/weekday-wet-your-whistle-silver-city-taproom-2/
LOCATION:Silver City Brewery and Taproom\, 206 Katy Penman\, Bremerton\, WA\, 98312\, United States
CATEGORIES:Wet your Whistle Weekday
END:VEVENT
BEGIN:VEVENT
DTSTART;TZID=America/Los_Angeles:20250424T173000
DTEND;TZID=America/Los_Angeles:20250424T190000
DTSTAMP:20260423T143332
CREATED:20250417T160136Z
LAST-MODIFIED:20250417T160140Z
UID:3080-1745515800-1745521200@westsoundbrewers.com
SUMMARY:Weekday Wet Your Whistle - Peninsula Brewhouse
DESCRIPTION:
URL:https://westsoundbrewers.com/event/weekday-wet-your-whistle-peninsula-brewhouse/
LOCATION:Peninsula Brewhouse\, 3388 Nw Byron St\, Silverdale\, Washington\, 98383\, United States
CATEGORIES:Wet your Whistle Weekday
END:VEVENT
BEGIN:VEVENT
DTSTART;TZID=America/Los_Angeles:20250415T173000
DTEND;TZID=America/Los_Angeles:20250415T190000
DTSTAMP:20260423T143332
CREATED:20250409T010604Z
LAST-MODIFIED:20250410T033204Z
UID:3070-1744738200-1744743600@westsoundbrewers.com
SUMMARY:Weekday Wet Your Whistle - Tracyton Pub
DESCRIPTION:
URL:https://westsoundbrewers.com/event/wwyw-tracyton/
LOCATION:Tracyton Pub\, 403 Tracy Ave\, Bremerton\, Washington\, 98311\, United States
CATEGORIES:Wet your Whistle Weekday
END:VEVENT
BEGIN:VEVENT
DTSTART;TZID=America/Los_Angeles:20250408T173000
DTEND;TZID=America/Los_Angeles:20250408T190000
DTSTAMP:20260423T143332
CREATED:20250105T202219Z
LAST-MODIFIED:20250105T202223Z
UID:2977-1744133400-1744138800@westsoundbrewers.com
SUMMARY:Board Meeting and Weekday Wet Your Whistle – Ridgeline
DESCRIPTION:
URL:https://westsoundbrewers.com/event/board-meeting-and-weekday-wet-your-whistle-ridgeline-4/
LOCATION:Ridgeline Brewing\, 941 North Callow Ave\, Bremerton\, WA\, 98312\, United States
CATEGORIES:Board Meeting,Wet your Whistle Weekday
END:VEVENT
BEGIN:VEVENT
DTSTART;TZID=America/Los_Angeles:20250402T173000
DTEND;TZID=America/Los_Angeles:20250402T190000
DTSTAMP:20260423T143332
CREATED:20250330T200709Z
LAST-MODIFIED:20250330T200713Z
UID:3068-1743615000-1743620400@westsoundbrewers.com
SUMMARY:Weekday Wet Your Whistle - Rainy Daze
DESCRIPTION:
URL:https://westsoundbrewers.com/event/weekday-wet-your-whistle-rainy-daze-5/
LOCATION:Rainy Daze Brewing\, 650 NW Bovela Ln Suite 3\, Poulsbo\, WA\, 98370\, United States
CATEGORIES:Wet your Whistle Weekday
END:VEVENT
BEGIN:VEVENT
DTSTART;TZID=America/Los_Angeles:20250325T173000
DTEND;TZID=America/Los_Angeles:20250325T190000
DTSTAMP:20260423T143332
CREATED:20250319T010846Z
LAST-MODIFIED:20250319T025322Z
UID:3058-1742923800-1742929200@westsoundbrewers.com
SUMMARY:weekday wet your whistle - western red
DESCRIPTION:
URL:https://westsoundbrewers.com/event/weekday-wet-your-whistle-western-red-4/
LOCATION:Western Red Brewing\, 19168 Jensen Way NE Box 2905\, poulsbo\, Washington\, 98370\, United States
CATEGORIES:Wet your Whistle Weekday
END:VEVENT
BEGIN:VEVENT
DTSTART;TZID=America/Los_Angeles:20250318T173000
DTEND;TZID=America/Los_Angeles:20250318T190000
DTSTAMP:20260423T143332
CREATED:20250312T013141Z
LAST-MODIFIED:20250313T223011Z
UID:3050-1742319000-1742324400@westsoundbrewers.com
SUMMARY:weekday wet your whistle - deep draft
DESCRIPTION:
URL:https://westsoundbrewers.com/event/weekday-wet-your-whistle-11/
LOCATION:Deep Draft Brewing\, 3536 W Belfair Valley Rd\, Bremerton\, WA\, 98312\, United States
CATEGORIES:Wet your Whistle Weekday
END:VEVENT
BEGIN:VEVENT
DTSTART;TZID=America/Los_Angeles:20250311T173000
DTEND;TZID=America/Los_Angeles:20250311T190000
DTSTAMP:20260423T143332
CREATED:20250105T202059Z
LAST-MODIFIED:20250105T202104Z
UID:2974-1741714200-1741719600@westsoundbrewers.com
SUMMARY:Board Meeting and Weekday Wet Your Whistle – Ridgeline
DESCRIPTION:
URL:https://westsoundbrewers.com/event/board-meeting-and-weekday-wet-your-whistle-ridgeline-3/
LOCATION:Ridgeline Brewing\, 941 North Callow Ave\, Bremerton\, WA\, 98312\, United States
CATEGORIES:Board Meeting,Wet your Whistle Weekday
END:VEVENT
BEGIN:VEVENT
DTSTART;TZID=America/Los_Angeles:20250305T173000
DTEND;TZID=America/Los_Angeles:20250305T190000
DTSTAMP:20260423T143332
CREATED:20250228T165734Z
LAST-MODIFIED:20250303T170253Z
UID:3044-1741195800-1741201200@westsoundbrewers.com
SUMMARY:Weekday Wet your Whistle - Echoes
DESCRIPTION:
URL:https://westsoundbrewers.com/event/weekday-wet-your-whistle-10/
LOCATION:Echoes Brewing\, 19479 Viking Avenue Northwest\,\, Poulsbo\, WA\, 98370\, United States
CATEGORIES:Wet your Whistle Weekday
END:VEVENT
BEGIN:VEVENT
DTSTART;TZID=America/Los_Angeles:20250301T140000
DTEND;TZID=America/Los_Angeles:20250301T220000
DTSTAMP:20260423T143332
CREATED:20250228T051734Z
LAST-MODIFIED:20250228T051953Z
UID:3040-1740837600-1740866400@westsoundbrewers.com
SUMMARY:Slippery Pig takover
DESCRIPTION:
URL:https://westsoundbrewers.com/event/slippery-pig-takover/
LOCATION:Dog Days Brewing\, 260 4th St\, Bremerton\, WA\, 98337\, United States
CATEGORIES:Club Interest,Wet your Whistle Weekday
END:VEVENT
BEGIN:VEVENT
DTSTART;TZID=America/Los_Angeles:20250226T173000
DTEND;TZID=America/Los_Angeles:20250226T190000
DTSTAMP:20260423T143332
CREATED:20250219T153150Z
LAST-MODIFIED:20250219T153154Z
UID:3026-1740591000-1740596400@westsoundbrewers.com
SUMMARY:Weekly Wet Your Whistle & Bingo - Moment
DESCRIPTION:We are trying Bingo night at Moment Brewing this time. Bingo starts at 6:00 p.m.
URL:https://westsoundbrewers.com/event/weekly-wet-your-whistle-bingo-moment/
LOCATION:Moment Brewing\, 10876 Myhre Pl NW Suite 112\, Silverdale\, WA\, 98383\, United States
CATEGORIES:Wet your Whistle Weekday
END:VEVENT
END:VCALENDAR