BEGIN:VCALENDAR
VERSION:2.0
PRODID:-//West Sound Brewers - ECPv6.15.20//NONSGML v1.0//EN
CALSCALE:GREGORIAN
METHOD:PUBLISH
X-WR-CALNAME:West Sound Brewers
X-ORIGINAL-URL:https://westsoundbrewers.com
X-WR-CALDESC:Events for West Sound Brewers
REFRESH-INTERVAL;VALUE=DURATION:PT1H
X-Robots-Tag:noindex
X-PUBLISHED-TTL:PT1H
BEGIN:VTIMEZONE
TZID:America/Los_Angeles
BEGIN:DAYLIGHT
TZOFFSETFROM:-0800
TZOFFSETTO:-0700
TZNAME:PDT
DTSTART:20240310T100000
END:DAYLIGHT
BEGIN:STANDARD
TZOFFSETFROM:-0700
TZOFFSETTO:-0800
TZNAME:PST
DTSTART:20241103T090000
END:STANDARD
BEGIN:DAYLIGHT
TZOFFSETFROM:-0800
TZOFFSETTO:-0700
TZNAME:PDT
DTSTART:20250309T100000
END:DAYLIGHT
BEGIN:STANDARD
TZOFFSETFROM:-0700
TZOFFSETTO:-0800
TZNAME:PST
DTSTART:20251102T090000
END:STANDARD
BEGIN:DAYLIGHT
TZOFFSETFROM:-0800
TZOFFSETTO:-0700
TZNAME:PDT
DTSTART:20260308T100000
END:DAYLIGHT
BEGIN:STANDARD
TZOFFSETFROM:-0700
TZOFFSETTO:-0800
TZNAME:PST
DTSTART:20261101T090000
END:STANDARD
BEGIN:DAYLIGHT
TZOFFSETFROM:-0800
TZOFFSETTO:-0700
TZNAME:PDT
DTSTART:20270314T100000
END:DAYLIGHT
BEGIN:STANDARD
TZOFFSETFROM:-0700
TZOFFSETTO:-0800
TZNAME:PST
DTSTART:20271107T090000
END:STANDARD
END:VTIMEZONE
BEGIN:VEVENT
DTSTART;TZID=America/Los_Angeles:20251203T173000
DTEND;TZID=America/Los_Angeles:20251203T190000
DTSTAMP:20260424T032025
CREATED:20251130T171733Z
LAST-MODIFIED:20251130T171738Z
UID:3278-1764783000-1764788400@westsoundbrewers.com
SUMMARY:Weekday  Wet Your Whistle - Moment - Ugly Sweater & Potluck & Bingo
DESCRIPTION:
URL:https://westsoundbrewers.com/event/weekday-wet-your-whistle-moment-ugly-sweater-potluck-bingo/
LOCATION:Moment Brewing\, 10876 Myhre Pl NW Suite 112\, Silverdale\, WA\, 98383\, United States
CATEGORIES:Wet your Whistle Weekday
END:VEVENT
BEGIN:VEVENT
DTSTART;TZID=America/Los_Angeles:20251209T173000
DTEND;TZID=America/Los_Angeles:20251209T190000
DTSTAMP:20260424T032025
CREATED:20250105T203023Z
LAST-MODIFIED:20250707T010428Z
UID:2993-1765301400-1765306800@westsoundbrewers.com
SUMMARY:WSB Board Meeting & WWYW - Ridgeline
DESCRIPTION:
URL:https://westsoundbrewers.com/event/board-meeting-and-weekday-wet-your-whistle-ridgeline-12/
LOCATION:Ridgeline Brewing\, 941 North Callow Ave\, Bremerton\, WA\, 98312\, United States
CATEGORIES:Board Meeting,Wet your Whistle Weekday
END:VEVENT
BEGIN:VEVENT
DTSTART;TZID=America/Los_Angeles:20251216T173000
DTEND;TZID=America/Los_Angeles:20251216T235959
DTSTAMP:20260424T032025
CREATED:20251213T221953Z
LAST-MODIFIED:20251213T221953Z
UID:3286-1765906200-1765929599@westsoundbrewers.com
SUMMARY:additional wwyw
DESCRIPTION:
URL:https://westsoundbrewers.com/event/additional-wwyw/
LOCATION:Valholl Brewing\, 18970 3rd Ave NE\, Poulsbo\, Washington\, 98370\, United States
CATEGORIES:Wet your Whistle Weekday
END:VEVENT
BEGIN:VEVENT
DTSTART;TZID=America/Los_Angeles:20251216T173000
DTEND;TZID=America/Los_Angeles:20251216T235959
DTSTAMP:20260424T032025
CREATED:20251213T222001Z
LAST-MODIFIED:20251213T222001Z
UID:3287-1765906200-1765929599@westsoundbrewers.com
SUMMARY:additional wwyw
DESCRIPTION:
URL:https://westsoundbrewers.com/event/additional-wwyw-2/
LOCATION:Valholl Brewing\, 18970 3rd Ave NE\, Poulsbo\, Washington\, 98370\, United States
CATEGORIES:Wet your Whistle Weekday
END:VEVENT
BEGIN:VEVENT
DTSTART;TZID=America/Los_Angeles:20251217T173000
DTEND;TZID=America/Los_Angeles:20251217T190000
DTSTAMP:20260424T032025
CREATED:20251211T013846Z
LAST-MODIFIED:20251211T013851Z
UID:3284-1765992600-1765998000@westsoundbrewers.com
SUMMARY:Weekday Wet Your Whistle - Moment
DESCRIPTION:Coincides with Ugly Sweater Bingo and Potluck
URL:https://westsoundbrewers.com/event/weekday-wet-your-whistle-moment-4/
LOCATION:Moment Brewing\, 10876 Myhre Pl NW Suite 112\, Silverdale\, WA\, 98383\, United States
CATEGORIES:Wet your Whistle Weekday
END:VEVENT
BEGIN:VEVENT
DTSTART;TZID=America/Los_Angeles:20260122T173000
DTEND;TZID=America/Los_Angeles:20260122T190000
DTSTAMP:20260424T032025
CREATED:20260114T065359Z
LAST-MODIFIED:20260114T065422Z
UID:3303-1769103000-1769108400@westsoundbrewers.com
SUMMARY:Weekday Wet your Whistle - Echoes
DESCRIPTION:
URL:https://westsoundbrewers.com/event/weekday-wet-your-whistle-15/
LOCATION:Echoes Brewing\, 19479 Viking Avenue Northwest\,\, Poulsbo\, WA\, 98370\, United States
CATEGORIES:Wet your Whistle Weekday
END:VEVENT
BEGIN:VEVENT
DTSTART;TZID=America/Los_Angeles:20260127T173000
DTEND;TZID=America/Los_Angeles:20260127T190000
DTSTAMP:20260424T032025
CREATED:20260114T065526Z
LAST-MODIFIED:20260114T065531Z
UID:3307-1769535000-1769540400@westsoundbrewers.com
SUMMARY:Weekday Wet your Whistle - Yoked
DESCRIPTION:
URL:https://westsoundbrewers.com/event/weekday-wet-your-whistle-yoked-3/
LOCATION:Yoked Farmhouse & Brewery\, 525 SW Pine Rd\, Port Orchard\, Washington\, 98367\, United States
CATEGORIES:Wet your Whistle Weekday
END:VEVENT
BEGIN:VEVENT
DTSTART;TZID=America/Los_Angeles:20260210T173000
DTEND;TZID=America/Los_Angeles:20260210T190000
DTSTAMP:20260424T032025
CREATED:20260130T215214Z
LAST-MODIFIED:20260130T215217Z
UID:3320-1770744600-1770750000@westsoundbrewers.com
SUMMARY:WSB Board Mtng & Wet Whistle - Ridgeline
DESCRIPTION:
URL:https://westsoundbrewers.com/event/wsb-board-mtng-wet-whistle-ridgeline/
LOCATION:Ridgeline Brewing\, 941 North Callow Ave\, Bremerton\, WA\, 98312\, United States
CATEGORIES:Board Meeting,Wet your Whistle Weekday
END:VEVENT
BEGIN:VEVENT
DTSTART;TZID=America/Los_Angeles:20260305T173000
DTEND;TZID=America/Los_Angeles:20260305T190000
DTSTAMP:20260424T032025
CREATED:20260225T022855Z
LAST-MODIFIED:20260226T040538Z
UID:3338-1772731800-1772737200@westsoundbrewers.com
SUMMARY:weekday wet your whistle - valholl
DESCRIPTION:
URL:https://westsoundbrewers.com/event/weekday-wet-your-whistle-valholl-4/
LOCATION:Valholl Brewing\, 18970 3rd Ave NE\, Poulsbo\, Washington\, 98370\, United States
CATEGORIES:Wet your Whistle Weekday
END:VEVENT
BEGIN:VEVENT
DTSTART;TZID=America/Los_Angeles:20260310T173000
DTEND;TZID=America/Los_Angeles:20260310T190000
DTSTAMP:20260424T032025
CREATED:20260308T203822Z
LAST-MODIFIED:20260309T144154Z
UID:3362-1773163800-1773169200@westsoundbrewers.com
SUMMARY:wsb board meeting ridgeline
DESCRIPTION:
URL:https://westsoundbrewers.com/event/wsb-board-meeting-ridgeline/
LOCATION:Ridgeline Brewing\, 941 North Callow Ave\, Bremerton\, WA\, 98312\, United States
CATEGORIES:Board Meeting,Wet your Whistle Weekday
END:VEVENT
BEGIN:VEVENT
DTSTART;TZID=America/Los_Angeles:20260311T173000
DTEND;TZID=America/Los_Angeles:20260311T235959
DTSTAMP:20260424T032025
CREATED:20260306T015802Z
LAST-MODIFIED:20260306T015802Z
UID:3352-1773250200-1773273599@westsoundbrewers.com
SUMMARY:weekday wet your whistle
DESCRIPTION:
URL:https://westsoundbrewers.com/event/weekday-wet-your-whistle-17/
LOCATION:Silver City Brewery and Taproom\, 206 Katy Penman\, Bremerton\, WA\, 98312\, United States
CATEGORIES:Wet your Whistle Weekday
END:VEVENT
BEGIN:VEVENT
DTSTART;TZID=America/Los_Angeles:20260319T173000
DTEND;TZID=America/Los_Angeles:20260319T235959
DTSTAMP:20260424T032025
CREATED:20260312T025410Z
LAST-MODIFIED:20260312T025410Z
UID:3369-1773941400-1773964799@westsoundbrewers.com
SUMMARY:weekday wet your whistle peninsula
DESCRIPTION:
URL:https://westsoundbrewers.com/event/weekday-wet-your-whistle-peninsula/
LOCATION:Peninsula Brewhouse\, 3388 Nw Byron St\, Silverdale\, Washington\, 98383\, United States
CATEGORIES:Wet your Whistle Weekday
END:VEVENT
BEGIN:VEVENT
DTSTART;TZID=America/Los_Angeles:20260325T173000
DTEND;TZID=America/Los_Angeles:20260325T235959
DTSTAMP:20260424T032025
CREATED:20260320T005425Z
LAST-MODIFIED:20260320T005425Z
UID:3375-1774459800-1774483199@westsoundbrewers.com
SUMMARY:weekday wet your whistle - moment
DESCRIPTION:
URL:https://westsoundbrewers.com/event/weekday-wet-your-whistle-moment-5/
LOCATION:Moment Brewing\, 10876 Myhre Pl NW Suite 112\, Silverdale\, WA\, 98383\, United States
CATEGORIES:Wet your Whistle Weekday
END:VEVENT
BEGIN:VEVENT
DTSTART;TZID=America/Los_Angeles:20260401T173000
DTEND;TZID=America/Los_Angeles:20260401T190000
DTSTAMP:20260424T032025
CREATED:20260326T013440Z
LAST-MODIFIED:20260327T141335Z
UID:3377-1775064600-1775070000@westsoundbrewers.com
SUMMARY:weekday wet your whistle western red
DESCRIPTION:
URL:https://westsoundbrewers.com/event/weekday-wet-your-whistle-western-red-6/
LOCATION:Western Red Brewing\, 19168 Jensen Way NE Box 2905\, poulsbo\, Washington\, 98370\, United States
CATEGORIES:Wet your Whistle Weekday
END:VEVENT
BEGIN:VEVENT
DTSTART;TZID=America/Los_Angeles:20260414T173000
DTEND;TZID=America/Los_Angeles:20260414T190000
DTSTAMP:20260424T032025
CREATED:20260308T191023Z
LAST-MODIFIED:20260308T191710Z
UID:3356-1776187800-1776193200@westsoundbrewers.com
SUMMARY:WSB Board Meeting – Ridgeline
DESCRIPTION:
URL:https://westsoundbrewers.com/event/wsb-board-meeting-ridgeline-2/
LOCATION:Ridgeline Brewing\, 941 North Callow Ave\, Bremerton\, WA\, 98312\, United States
CATEGORIES:Board Meeting,Wet your Whistle Weekday
END:VEVENT
BEGIN:VEVENT
DTSTART;TZID=America/Los_Angeles:20260429T173000
DTEND;TZID=America/Los_Angeles:20260429T235959
DTSTAMP:20260424T032025
CREATED:20260423T005738Z
LAST-MODIFIED:20260423T005738Z
UID:3389-1777483800-1777507199@westsoundbrewers.com
SUMMARY:weekday wet your whistle - moment
DESCRIPTION:
URL:https://westsoundbrewers.com/event/weekday-wet-your-whistle-moment-6/
LOCATION:Moment Brewing\, 10876 Myhre Pl NW Suite 112\, Silverdale\, WA\, 98383\, United States
CATEGORIES:Wet your Whistle Weekday
END:VEVENT
END:VCALENDAR