BEGIN:VCALENDAR
VERSION:2.0
PRODID:-//West Sound Brewers - ECPv6.15.20//NONSGML v1.0//EN
CALSCALE:GREGORIAN
METHOD:PUBLISH
X-ORIGINAL-URL:https://westsoundbrewers.com
X-WR-CALDESC:Events for West Sound Brewers
REFRESH-INTERVAL;VALUE=DURATION:PT1H
X-Robots-Tag:noindex
X-PUBLISHED-TTL:PT1H
BEGIN:VTIMEZONE
TZID:America/Los_Angeles
BEGIN:DAYLIGHT
TZOFFSETFROM:-0800
TZOFFSETTO:-0700
TZNAME:PDT
DTSTART:20240310T100000
END:DAYLIGHT
BEGIN:STANDARD
TZOFFSETFROM:-0700
TZOFFSETTO:-0800
TZNAME:PST
DTSTART:20241103T090000
END:STANDARD
BEGIN:DAYLIGHT
TZOFFSETFROM:-0800
TZOFFSETTO:-0700
TZNAME:PDT
DTSTART:20250309T100000
END:DAYLIGHT
BEGIN:STANDARD
TZOFFSETFROM:-0700
TZOFFSETTO:-0800
TZNAME:PST
DTSTART:20251102T090000
END:STANDARD
BEGIN:DAYLIGHT
TZOFFSETFROM:-0800
TZOFFSETTO:-0700
TZNAME:PDT
DTSTART:20260308T100000
END:DAYLIGHT
BEGIN:STANDARD
TZOFFSETFROM:-0700
TZOFFSETTO:-0800
TZNAME:PST
DTSTART:20261101T090000
END:STANDARD
END:VTIMEZONE
BEGIN:VEVENT
DTSTART;TZID=America/Los_Angeles:20250205T170000
DTEND;TZID=America/Los_Angeles:20250205T190000
DTSTAMP:20260424T070454
CREATED:20250124T172152Z
LAST-MODIFIED:20250124T172156Z
UID:3018-1738774800-1738782000@westsoundbrewers.com
SUMMARY:Weekday Wet Your Whistle - Silver City
DESCRIPTION:Enid Lints is presenting information about the Belgian Dark Strong
URL:https://westsoundbrewers.com/event/weekday-wet-your-whistle-silver-city-5/
LOCATION:Silver City Brewery and Taproom\, 206 Katy Penman\, Bremerton\, WA\, 98312\, United States
CATEGORIES:Wet your Whistle Weekday
END:VEVENT
BEGIN:VEVENT
DTSTART;TZID=America/Los_Angeles:20250212T173000
DTEND;TZID=America/Los_Angeles:20250212T190000
DTSTAMP:20260424T070454
CREATED:20250105T201843Z
LAST-MODIFIED:20250206T034328Z
UID:2971-1739381400-1739386800@westsoundbrewers.com
SUMMARY:Board Meeting and Weekday Wet Your Whistle – Ridgeline
DESCRIPTION:
URL:https://westsoundbrewers.com/event/board-meeting-and-weekday-wet-your-whistle-ridgeline-2/
LOCATION:Ridgeline Brewing\, 941 North Callow Ave\, Bremerton\, WA\, 98312\, United States
CATEGORIES:Board Meeting,Wet your Whistle Weekday
END:VEVENT
BEGIN:VEVENT
DTSTART;TZID=America/Los_Angeles:20250218T173000
DTEND;TZID=America/Los_Angeles:20250218T190000
DTSTAMP:20260424T070454
CREATED:20250216T001335Z
LAST-MODIFIED:20250216T001339Z
UID:3022-1739899800-1739905200@westsoundbrewers.com
SUMMARY:Weekday Wet Your Whistle - Local Boys Bremerton
DESCRIPTION:
URL:https://westsoundbrewers.com/event/weekday-wet-your-whistle-local-boys-bremerton/
LOCATION:Local Boys Tap Room – Bremerton\, 519 4th ST\, Bremerton\, Washington\, 98312\, United States
CATEGORIES:Wet your Whistle Weekday
END:VEVENT
BEGIN:VEVENT
DTSTART;TZID=America/Los_Angeles:20250226T173000
DTEND;TZID=America/Los_Angeles:20250226T190000
DTSTAMP:20260424T070454
CREATED:20250219T153150Z
LAST-MODIFIED:20250219T153154Z
UID:3026-1740591000-1740596400@westsoundbrewers.com
SUMMARY:Weekly Wet Your Whistle & Bingo - Moment
DESCRIPTION:We are trying Bingo night at Moment Brewing this time. Bingo starts at 6:00 p.m.
URL:https://westsoundbrewers.com/event/weekly-wet-your-whistle-bingo-moment/
LOCATION:Moment Brewing\, 10876 Myhre Pl NW Suite 112\, Silverdale\, WA\, 98383\, United States
CATEGORIES:Wet your Whistle Weekday
END:VEVENT
END:VCALENDAR