BEGIN:VCALENDAR
VERSION:2.0
PRODID:-//West Sound Brewers - ECPv6.15.20//NONSGML v1.0//EN
CALSCALE:GREGORIAN
METHOD:PUBLISH
X-ORIGINAL-URL:https://westsoundbrewers.com
X-WR-CALDESC:Events for West Sound Brewers
REFRESH-INTERVAL;VALUE=DURATION:PT1H
X-Robots-Tag:noindex
X-PUBLISHED-TTL:PT1H
BEGIN:VTIMEZONE
TZID:America/Los_Angeles
BEGIN:DAYLIGHT
TZOFFSETFROM:-0800
TZOFFSETTO:-0700
TZNAME:PDT
DTSTART:20240310T100000
END:DAYLIGHT
BEGIN:STANDARD
TZOFFSETFROM:-0700
TZOFFSETTO:-0800
TZNAME:PST
DTSTART:20241103T090000
END:STANDARD
BEGIN:DAYLIGHT
TZOFFSETFROM:-0800
TZOFFSETTO:-0700
TZNAME:PDT
DTSTART:20250309T100000
END:DAYLIGHT
BEGIN:STANDARD
TZOFFSETFROM:-0700
TZOFFSETTO:-0800
TZNAME:PST
DTSTART:20251102T090000
END:STANDARD
BEGIN:DAYLIGHT
TZOFFSETFROM:-0800
TZOFFSETTO:-0700
TZNAME:PDT
DTSTART:20260308T100000
END:DAYLIGHT
BEGIN:STANDARD
TZOFFSETFROM:-0700
TZOFFSETTO:-0800
TZNAME:PST
DTSTART:20261101T090000
END:STANDARD
END:VTIMEZONE
BEGIN:VEVENT
DTSTART;TZID=America/Los_Angeles:20250114T173000
DTEND;TZID=America/Los_Angeles:20250114T190000
DTSTAMP:20260424T083646
CREATED:20250105T201618Z
LAST-MODIFIED:20250105T201623Z
UID:2968-1736875800-1736881200@westsoundbrewers.com
SUMMARY:Board Meeting and Weekday Wet Your Whistle - Ridgeline
DESCRIPTION:
URL:https://westsoundbrewers.com/event/board-meeting-and-weekday-wet-your-whistle-ridgeline/
LOCATION:Ridgeline Brewing\, 941 North Callow Ave\, Bremerton\, WA\, 98312\, United States
CATEGORIES:Board Meeting,Wet your Whistle Weekday
END:VEVENT
BEGIN:VEVENT
DTSTART;TZID=America/Los_Angeles:20250122T170000
DTEND;TZID=America/Los_Angeles:20250122T190000
DTSTAMP:20260424T083646
CREATED:20250116T001850Z
LAST-MODIFIED:20250116T001854Z
UID:2997-1737565200-1737572400@westsoundbrewers.com
SUMMARY:Weekday Wet Your Whistle - Silver City (Ice Bock)
DESCRIPTION:Enid is presenting details on the new Ice Bock from Silver City
URL:https://westsoundbrewers.com/event/weekday-wet-your-whistle-silver-city-ice-bock/
LOCATION:Silver City Brewery and Taproom\, 206 Katy Penman\, Bremerton\, WA\, 98312\, United States
CATEGORIES:Wet your Whistle Weekday
END:VEVENT
BEGIN:VEVENT
DTSTART;TZID=America/Los_Angeles:20250128T173000
DTEND;TZID=America/Los_Angeles:20250128T190000
DTSTAMP:20260424T083646
CREATED:20250124T171933Z
LAST-MODIFIED:20250124T171938Z
UID:3016-1738085400-1738090800@westsoundbrewers.com
SUMMARY:Weekday Wet Your Whistle - Bainbridge Brewing
DESCRIPTION:
URL:https://westsoundbrewers.com/event/weekday-wet-your-whistle-bainbridge-brewing-3/
LOCATION:Bainbridge Brewing\, 9415 Coppertop Loop NE\, Bainbridge Island\, wa\, 98110\, United States
CATEGORIES:Wet your Whistle Weekday
END:VEVENT
END:VCALENDAR