BEGIN:VCALENDAR
VERSION:2.0
PRODID:-//West Sound Brewers - ECPv6.15.20//NONSGML v1.0//EN
CALSCALE:GREGORIAN
METHOD:PUBLISH
X-WR-CALNAME:West Sound Brewers
X-ORIGINAL-URL:https://westsoundbrewers.com
X-WR-CALDESC:Events for West Sound Brewers
REFRESH-INTERVAL;VALUE=DURATION:PT1H
X-Robots-Tag:noindex
X-PUBLISHED-TTL:PT1H
BEGIN:VTIMEZONE
TZID:America/Los_Angeles
BEGIN:DAYLIGHT
TZOFFSETFROM:-0800
TZOFFSETTO:-0700
TZNAME:PDT
DTSTART:20230312T100000
END:DAYLIGHT
BEGIN:STANDARD
TZOFFSETFROM:-0700
TZOFFSETTO:-0800
TZNAME:PST
DTSTART:20231105T090000
END:STANDARD
BEGIN:DAYLIGHT
TZOFFSETFROM:-0800
TZOFFSETTO:-0700
TZNAME:PDT
DTSTART:20240310T100000
END:DAYLIGHT
BEGIN:STANDARD
TZOFFSETFROM:-0700
TZOFFSETTO:-0800
TZNAME:PST
DTSTART:20241103T090000
END:STANDARD
BEGIN:DAYLIGHT
TZOFFSETFROM:-0800
TZOFFSETTO:-0700
TZNAME:PDT
DTSTART:20250309T100000
END:DAYLIGHT
BEGIN:STANDARD
TZOFFSETFROM:-0700
TZOFFSETTO:-0800
TZNAME:PST
DTSTART:20251102T090000
END:STANDARD
END:VTIMEZONE
BEGIN:VEVENT
DTSTART;TZID=America/Los_Angeles:20240709T173000
DTEND;TZID=America/Los_Angeles:20240709T190000
DTSTAMP:20260424T171918
CREATED:20240111T020327Z
LAST-MODIFIED:20240111T020502Z
UID:2635-1720546200-1720551600@westsoundbrewers.com
SUMMARY:Board Meeting & Weekday Wet Your Whistle
DESCRIPTION:
URL:https://westsoundbrewers.com/event/board-meeting-weekday-wet-your-whistle-6/
LOCATION:WA
CATEGORIES:Board Meeting,Wet your Whistle Weekday
END:VEVENT
BEGIN:VEVENT
DTSTART;TZID=America/Los_Angeles:20240718T173000
DTEND;TZID=America/Los_Angeles:20240718T190000
DTSTAMP:20260424T171918
CREATED:20240710T215920Z
LAST-MODIFIED:20240710T215927Z
UID:2802-1721323800-1721329200@westsoundbrewers.com
SUMMARY:Weekly Wet Your Whistle - Echoes
DESCRIPTION:
URL:https://westsoundbrewers.com/event/weekly-wet-your-whistle-echoes-2/
LOCATION:Echoes Brewing\, 19479 Viking Avenue Northwest\,\, Poulsbo\, WA\, 98370\, United States
CATEGORIES:Wet your Whistle Weekday
END:VEVENT
BEGIN:VEVENT
DTSTART;TZID=America/Los_Angeles:20240724T170000
DTEND;TZID=America/Los_Angeles:20240724T190000
DTSTAMP:20260424T171918
CREATED:20240710T220113Z
LAST-MODIFIED:20240722T145132Z
UID:2804-1721840400-1721847600@westsoundbrewers.com
SUMMARY:Weekday Wet Your Whistle - Silver City
DESCRIPTION:Enid is also discussing Hops at a basic level
URL:https://westsoundbrewers.com/event/weekday-wet-your-whistle-silver-city-3/
LOCATION:Silver City Brewery and Taproom\, 206 Katy Penman\, Bremerton\, WA\, 98312\, United States
CATEGORIES:Technical Meeting,Wet your Whistle Weekday
END:VEVENT
END:VCALENDAR