BEGIN:VCALENDAR
VERSION:2.0
PRODID:-//West Sound Brewers - ECPv6.15.20//NONSGML v1.0//EN
CALSCALE:GREGORIAN
METHOD:PUBLISH
X-ORIGINAL-URL:https://westsoundbrewers.com
X-WR-CALDESC:Events for West Sound Brewers
REFRESH-INTERVAL;VALUE=DURATION:PT1H
X-Robots-Tag:noindex
X-PUBLISHED-TTL:PT1H
BEGIN:VTIMEZONE
TZID:America/Los_Angeles
BEGIN:DAYLIGHT
TZOFFSETFROM:-0800
TZOFFSETTO:-0700
TZNAME:PDT
DTSTART:20250309T100000
END:DAYLIGHT
BEGIN:STANDARD
TZOFFSETFROM:-0700
TZOFFSETTO:-0800
TZNAME:PST
DTSTART:20251102T090000
END:STANDARD
BEGIN:DAYLIGHT
TZOFFSETFROM:-0800
TZOFFSETTO:-0700
TZNAME:PDT
DTSTART:20260308T100000
END:DAYLIGHT
BEGIN:STANDARD
TZOFFSETFROM:-0700
TZOFFSETTO:-0800
TZNAME:PST
DTSTART:20261101T090000
END:STANDARD
BEGIN:DAYLIGHT
TZOFFSETFROM:-0800
TZOFFSETTO:-0700
TZNAME:PDT
DTSTART:20270314T100000
END:DAYLIGHT
BEGIN:STANDARD
TZOFFSETFROM:-0700
TZOFFSETTO:-0800
TZNAME:PST
DTSTART:20271107T090000
END:STANDARD
END:VTIMEZONE
BEGIN:VEVENT
DTSTART;TZID=America/Los_Angeles:20260221T140000
DTEND;TZID=America/Los_Angeles:20260221T180000
DTSTAMP:20260425T053154
CREATED:20260103T235949Z
LAST-MODIFIED:20260105T155806Z
UID:3292-1771682400-1771696800@westsoundbrewers.com
SUMMARY:strange brew meeting
DESCRIPTION:
URL:https://westsoundbrewers.com/event/strange-brew-meeting/
LOCATION:Dog Days Brewing\, 260 4th St\, Bremerton\, WA\, 98337\, United States
CATEGORIES:Monthly Social
END:VEVENT
BEGIN:VEVENT
DTSTART;TZID=America/Los_Angeles:20260411T140000
DTEND;TZID=America/Los_Angeles:20260411T235959
DTSTAMP:20260425T053154
CREATED:20260323T035758Z
LAST-MODIFIED:20260323T035758Z
UID:3376-1775916000-1775951999@westsoundbrewers.com
SUMMARY:Prohibition Ends! Social meeting
DESCRIPTION:
URL:https://westsoundbrewers.com/event/prohibition-ends-social-meeting/
LOCATION:Friends and Neighbors Brewing\, 10991 NE State Hwy 104\, Kingston\, Washington\, 98346\, United States
CATEGORIES:Monthly Social
END:VEVENT
BEGIN:VEVENT
DTSTART;TZID=America/Los_Angeles:20260502T080000
DTEND;TZID=America/Los_Angeles:20260502T170000
DTSTAMP:20260425T053154
CREATED:20260226T040059Z
LAST-MODIFIED:20260226T040104Z
UID:3342-1777708800-1777741200@westsoundbrewers.com
SUMMARY:Big Brew - Rainy Daze
DESCRIPTION:Big Brew for National Homebrew Day — May 2\, 2026
URL:https://westsoundbrewers.com/event/big-brew-rainy-daze/
LOCATION:Rainy Daze Brewing\, 650 NW Bovela Ln Suite 3\, Poulsbo\, WA\, 98370\, United States
CATEGORIES:Monthly Social
END:VEVENT
END:VCALENDAR