BEGIN:VCALENDAR
VERSION:2.0
PRODID:-//West Sound Brewers - ECPv6.15.20//NONSGML v1.0//EN
CALSCALE:GREGORIAN
METHOD:PUBLISH
X-WR-CALNAME:West Sound Brewers
X-ORIGINAL-URL:https://westsoundbrewers.com
X-WR-CALDESC:Events for West Sound Brewers
REFRESH-INTERVAL;VALUE=DURATION:PT1H
X-Robots-Tag:noindex
X-PUBLISHED-TTL:PT1H
BEGIN:VTIMEZONE
TZID:America/Los_Angeles
BEGIN:DAYLIGHT
TZOFFSETFROM:-0800
TZOFFSETTO:-0700
TZNAME:PDT
DTSTART:20230312T100000
END:DAYLIGHT
BEGIN:STANDARD
TZOFFSETFROM:-0700
TZOFFSETTO:-0800
TZNAME:PST
DTSTART:20231105T090000
END:STANDARD
BEGIN:DAYLIGHT
TZOFFSETFROM:-0800
TZOFFSETTO:-0700
TZNAME:PDT
DTSTART:20240310T100000
END:DAYLIGHT
BEGIN:STANDARD
TZOFFSETFROM:-0700
TZOFFSETTO:-0800
TZNAME:PST
DTSTART:20241103T090000
END:STANDARD
BEGIN:DAYLIGHT
TZOFFSETFROM:-0800
TZOFFSETTO:-0700
TZNAME:PDT
DTSTART:20250309T100000
END:DAYLIGHT
BEGIN:STANDARD
TZOFFSETFROM:-0700
TZOFFSETTO:-0800
TZNAME:PST
DTSTART:20251102T090000
END:STANDARD
END:VTIMEZONE
BEGIN:VEVENT
DTSTART;TZID=America/Los_Angeles:20240217T140000
DTEND;TZID=America/Los_Angeles:20240217T180000
DTSTAMP:20260425T040059
CREATED:20240111T014906Z
LAST-MODIFIED:20240111T014907Z
UID:2621-1708178400-1708192800@westsoundbrewers.com
SUMMARY:STRANGE Brew uary
DESCRIPTION:Bring your strange brews to sample and compare. We will have a friendly competition for the best beer. everybody present will rank their top 3 favorites and a score will be computed based on these ballots. \n\n\n\nBring food to share because you may need energy to sample all of these beverages. \n\n\n\nPlease only bring homebrews and support our host by purchasing from her. Bring small bills to tip our host and servers. \n\n\n\nRemember to drink responsibly.
URL:https://westsoundbrewers.com/event/strange-brew-uary/
LOCATION:Ashley’s Pub\, 409 Pacific Ave Suite 105\, Bremerton\, WA\, 98337\, United States
CATEGORIES:Monthly Social
END:VEVENT
END:VCALENDAR