BEGIN:VCALENDAR
VERSION:2.0
PRODID:-//West Sound Brewers - ECPv6.15.20//NONSGML v1.0//EN
CALSCALE:GREGORIAN
METHOD:PUBLISH
X-ORIGINAL-URL:https://westsoundbrewers.com
X-WR-CALDESC:Events for West Sound Brewers
REFRESH-INTERVAL;VALUE=DURATION:PT1H
X-Robots-Tag:noindex
X-PUBLISHED-TTL:PT1H
BEGIN:VTIMEZONE
TZID:America/Los_Angeles
BEGIN:DAYLIGHT
TZOFFSETFROM:-0800
TZOFFSETTO:-0700
TZNAME:PDT
DTSTART:20240310T100000
END:DAYLIGHT
BEGIN:STANDARD
TZOFFSETFROM:-0700
TZOFFSETTO:-0800
TZNAME:PST
DTSTART:20241103T090000
END:STANDARD
BEGIN:DAYLIGHT
TZOFFSETFROM:-0800
TZOFFSETTO:-0700
TZNAME:PDT
DTSTART:20250309T100000
END:DAYLIGHT
BEGIN:STANDARD
TZOFFSETFROM:-0700
TZOFFSETTO:-0800
TZNAME:PST
DTSTART:20251102T090000
END:STANDARD
BEGIN:DAYLIGHT
TZOFFSETFROM:-0800
TZOFFSETTO:-0700
TZNAME:PDT
DTSTART:20260308T100000
END:DAYLIGHT
BEGIN:STANDARD
TZOFFSETFROM:-0700
TZOFFSETTO:-0800
TZNAME:PST
DTSTART:20261101T090000
END:STANDARD
END:VTIMEZONE
BEGIN:VEVENT
DTSTART;TZID=America/Los_Angeles:20250726T140000
DTEND;TZID=America/Los_Angeles:20250726T170000
DTSTAMP:20260424T014003
CREATED:20250410T033646Z
LAST-MODIFIED:20250707T012315Z
UID:3077-1753538400-1753549200@westsoundbrewers.com
SUMMARY:Scruffy Man hosts West Sound Brewers
DESCRIPTION:Bring your food\, beverages\, and camp chairs to celebrate Melissa and Dales’s house and summer. \n\n\n\nPlease RSVP (répondez s’il vous plaît) at the Google link for this event to tickle the secretary to send you an address at the email you give us. \n\n\n\nCarpool and/or drive responsibly.
URL:https://westsoundbrewers.com/event/july-taste-big-brew-results/
LOCATION:Washington
CATEGORIES:Monthly Social
END:VEVENT
END:VCALENDAR