BEGIN:VCALENDAR
VERSION:2.0
PRODID:-//West Sound Brewers - ECPv6.15.20//NONSGML v1.0//EN
CALSCALE:GREGORIAN
METHOD:PUBLISH
X-ORIGINAL-URL:https://westsoundbrewers.com
X-WR-CALDESC:Events for West Sound Brewers
REFRESH-INTERVAL;VALUE=DURATION:PT1H
X-Robots-Tag:noindex
X-PUBLISHED-TTL:PT1H
BEGIN:VTIMEZONE
TZID:America/Los_Angeles
BEGIN:DAYLIGHT
TZOFFSETFROM:-0800
TZOFFSETTO:-0700
TZNAME:PDT
DTSTART:20250309T100000
END:DAYLIGHT
BEGIN:STANDARD
TZOFFSETFROM:-0700
TZOFFSETTO:-0800
TZNAME:PST
DTSTART:20251102T090000
END:STANDARD
BEGIN:DAYLIGHT
TZOFFSETFROM:-0800
TZOFFSETTO:-0700
TZNAME:PDT
DTSTART:20260308T100000
END:DAYLIGHT
BEGIN:STANDARD
TZOFFSETFROM:-0700
TZOFFSETTO:-0800
TZNAME:PST
DTSTART:20261101T090000
END:STANDARD
BEGIN:DAYLIGHT
TZOFFSETFROM:-0800
TZOFFSETTO:-0700
TZNAME:PDT
DTSTART:20270314T100000
END:DAYLIGHT
BEGIN:STANDARD
TZOFFSETFROM:-0700
TZOFFSETTO:-0800
TZNAME:PST
DTSTART:20271107T090000
END:STANDARD
END:VTIMEZONE
BEGIN:VEVENT
DTSTART;TZID=America/Los_Angeles:20260217T173000
DTEND;TZID=America/Los_Angeles:20260217T190000
DTSTAMP:20260423T125622
CREATED:20260216T162207Z
LAST-MODIFIED:20260216T162212Z
UID:3325-1771349400-1771354800@westsoundbrewers.com
SUMMARY:Weekday Wet Your Whistle - Rainy Daze
DESCRIPTION:
URL:https://westsoundbrewers.com/event/weekday-wet-your-whistle-rainy-daze-7/
LOCATION:Rainy Daze Brewing\, 650 NW Bovela Ln Suite 3\, Poulsbo\, WA\, 98370\, United States
END:VEVENT
END:VCALENDAR