BEGIN:VCALENDAR
VERSION:2.0
PRODID:-//West Sound Brewers - ECPv6.15.20//NONSGML v1.0//EN
CALSCALE:GREGORIAN
METHOD:PUBLISH
X-WR-CALNAME:West Sound Brewers
X-ORIGINAL-URL:https://westsoundbrewers.com
X-WR-CALDESC:Events for West Sound Brewers
REFRESH-INTERVAL;VALUE=DURATION:PT1H
X-Robots-Tag:noindex
X-PUBLISHED-TTL:PT1H
BEGIN:VTIMEZONE
TZID:America/Los_Angeles
BEGIN:DAYLIGHT
TZOFFSETFROM:-0800
TZOFFSETTO:-0700
TZNAME:PDT
DTSTART:20250309T100000
END:DAYLIGHT
BEGIN:STANDARD
TZOFFSETFROM:-0700
TZOFFSETTO:-0800
TZNAME:PST
DTSTART:20251102T090000
END:STANDARD
BEGIN:DAYLIGHT
TZOFFSETFROM:-0800
TZOFFSETTO:-0700
TZNAME:PDT
DTSTART:20260308T100000
END:DAYLIGHT
BEGIN:STANDARD
TZOFFSETFROM:-0700
TZOFFSETTO:-0800
TZNAME:PST
DTSTART:20261101T090000
END:STANDARD
BEGIN:DAYLIGHT
TZOFFSETFROM:-0800
TZOFFSETTO:-0700
TZNAME:PDT
DTSTART:20270314T100000
END:DAYLIGHT
BEGIN:STANDARD
TZOFFSETFROM:-0700
TZOFFSETTO:-0800
TZNAME:PST
DTSTART:20271107T090000
END:STANDARD
END:VTIMEZONE
BEGIN:VEVENT
DTSTART;TZID=America/Los_Angeles:20260110T140000
DTEND;TZID=America/Los_Angeles:20260110T180000
DTSTAMP:20260423T142806
CREATED:20250901T013616Z
LAST-MODIFIED:20251228T024644Z
UID:3219-1768053600-1768068000@westsoundbrewers.com
SUMMARY:Big Beers - Western Red
DESCRIPTION:What: Social meeting with an “imperial” theme \n\n\n\nBring your beverages 10% ABV and higher to share. Plan on Uber or a designated driver so you get home safely. \n\n\n\nWith these high-octane beers\, we will need something to absorb the alcohol. Please bring a potluck dish to share.
URL:https://westsoundbrewers.com/event/big-beers-western-red/
LOCATION:Western Red Brewing\, 19168 Jensen Way NE Box 2905\, poulsbo\, Washington\, 98370\, United States
END:VEVENT
END:VCALENDAR