BEGIN:VCALENDAR
VERSION:2.0
PRODID:-//West Sound Brewers - ECPv6.15.20//NONSGML v1.0//EN
CALSCALE:GREGORIAN
METHOD:PUBLISH
X-ORIGINAL-URL:https://westsoundbrewers.com
X-WR-CALDESC:Events for West Sound Brewers
REFRESH-INTERVAL;VALUE=DURATION:PT1H
X-Robots-Tag:noindex
X-PUBLISHED-TTL:PT1H
BEGIN:VTIMEZONE
TZID:America/Los_Angeles
BEGIN:DAYLIGHT
TZOFFSETFROM:-0800
TZOFFSETTO:-0700
TZNAME:PDT
DTSTART:20240310T100000
END:DAYLIGHT
BEGIN:STANDARD
TZOFFSETFROM:-0700
TZOFFSETTO:-0800
TZNAME:PST
DTSTART:20241103T090000
END:STANDARD
BEGIN:DAYLIGHT
TZOFFSETFROM:-0800
TZOFFSETTO:-0700
TZNAME:PDT
DTSTART:20250309T100000
END:DAYLIGHT
BEGIN:STANDARD
TZOFFSETFROM:-0700
TZOFFSETTO:-0800
TZNAME:PST
DTSTART:20251102T090000
END:STANDARD
BEGIN:DAYLIGHT
TZOFFSETFROM:-0800
TZOFFSETTO:-0700
TZNAME:PDT
DTSTART:20260308T100000
END:DAYLIGHT
BEGIN:STANDARD
TZOFFSETFROM:-0700
TZOFFSETTO:-0800
TZNAME:PST
DTSTART:20261101T090000
END:STANDARD
END:VTIMEZONE
BEGIN:VEVENT
DTSTART;TZID=America/Los_Angeles:20251213T130000
DTEND;TZID=America/Los_Angeles:20251213T170000
DTSTAMP:20260423T155835
CREATED:20250928T230637Z
LAST-MODIFIED:20250928T231428Z
UID:3237-1765630800-1765645200@westsoundbrewers.com
SUMMARY:Officer Election & Holiday Party
DESCRIPTION:Bring a wrapped bottle for the gift exchange. Bring one\, Get one. \n\n\n\nBe prepared to vote for next year’s officers. Fill out a nomination beforehand\, if possible.
URL:https://westsoundbrewers.com/event/officer-election-holiday-party/
LOCATION:Ashley’s Pub\, 409 Pacific Ave Suite 105\, Bremerton\, WA\, 98337\, United States
END:VEVENT
END:VCALENDAR