BEGIN:VCALENDAR
VERSION:2.0
PRODID:-//West Sound Brewers - ECPv6.15.20//NONSGML v1.0//EN
CALSCALE:GREGORIAN
METHOD:PUBLISH
X-WR-CALNAME:West Sound Brewers
X-ORIGINAL-URL:https://westsoundbrewers.com
X-WR-CALDESC:Events for West Sound Brewers
REFRESH-INTERVAL;VALUE=DURATION:PT1H
X-Robots-Tag:noindex
X-PUBLISHED-TTL:PT1H
BEGIN:VTIMEZONE
TZID:America/Los_Angeles
BEGIN:DAYLIGHT
TZOFFSETFROM:-0800
TZOFFSETTO:-0700
TZNAME:PDT
DTSTART:20230312T100000
END:DAYLIGHT
BEGIN:STANDARD
TZOFFSETFROM:-0700
TZOFFSETTO:-0800
TZNAME:PST
DTSTART:20231105T090000
END:STANDARD
BEGIN:DAYLIGHT
TZOFFSETFROM:-0800
TZOFFSETTO:-0700
TZNAME:PDT
DTSTART:20240310T100000
END:DAYLIGHT
BEGIN:STANDARD
TZOFFSETFROM:-0700
TZOFFSETTO:-0800
TZNAME:PST
DTSTART:20241103T090000
END:STANDARD
BEGIN:DAYLIGHT
TZOFFSETFROM:-0800
TZOFFSETTO:-0700
TZNAME:PDT
DTSTART:20250309T100000
END:DAYLIGHT
BEGIN:STANDARD
TZOFFSETFROM:-0700
TZOFFSETTO:-0800
TZNAME:PST
DTSTART:20251102T090000
END:STANDARD
END:VTIMEZONE
BEGIN:VEVENT
DTSTART;TZID=America/Los_Angeles:20241211T180000
DTEND;TZID=America/Los_Angeles:20241211T200000
DTSTAMP:20260424T083924
CREATED:20241123T195904Z
LAST-MODIFIED:20241123T195908Z
UID:2930-1733940000-1733947200@westsoundbrewers.com
SUMMARY:Deep Dive: Barleywine
DESCRIPTION:Enid Lints is inviting you to a scheduled Zoom meeting.Join Zoom Meetinghttps://us06web.zoom.us/j/84484948989?pwd=7ElZCfB0dleSYqDb8duAibl1kTUIv3.1Meeting ID: 844 8494 8989Passcode: 447918—One tap mobile+12532158782\,\,84484948989#\,\,\,\,*447918# US (Tacoma)+12532050468\,\,84484948989#\,\,\,\,*447918# US—Dial by your location* +1 253 215 8782 US (Tacoma)* +1 253 205 0468 US* +1 719 359 4580 US* +1 346 248 7799 US (Houston)* +1 669 444 9171 US* +1 669 900 6833 US (San Jose)* +1 929 205 6099 US (New York)* +1 301 715 8592 US (Washington DC)* +1 305 224 1968 US* +1 309 205 3325 US* +1 312 626 6799 US (Chicago)* +1 360 209 5623 US* +1 386 347 5053 US* +1 507 473 4847 US* +1 564 217 2000 US* +1 646 931 3860 US* +1 689 278 1000 USMeeting ID: 844 8494 8989Passcode: 447918Find your local number: https://us06web.zoom.us/u/kdZqVOSjtO
URL:https://westsoundbrewers.com/event/deep-dive-barleywine/
LOCATION:WA
CATEGORIES:Technical Meeting
END:VEVENT
END:VCALENDAR