BEGIN:VCALENDAR
VERSION:2.0
PRODID:-//West Sound Brewers - ECPv6.15.20//NONSGML v1.0//EN
CALSCALE:GREGORIAN
METHOD:PUBLISH
X-ORIGINAL-URL:https://westsoundbrewers.com
X-WR-CALDESC:Events for West Sound Brewers
REFRESH-INTERVAL;VALUE=DURATION:PT1H
X-Robots-Tag:noindex
X-PUBLISHED-TTL:PT1H
BEGIN:VTIMEZONE
TZID:America/Los_Angeles
BEGIN:DAYLIGHT
TZOFFSETFROM:-0800
TZOFFSETTO:-0700
TZNAME:PDT
DTSTART:20220313T100000
END:DAYLIGHT
BEGIN:STANDARD
TZOFFSETFROM:-0700
TZOFFSETTO:-0800
TZNAME:PST
DTSTART:20221106T090000
END:STANDARD
BEGIN:DAYLIGHT
TZOFFSETFROM:-0800
TZOFFSETTO:-0700
TZNAME:PDT
DTSTART:20230312T100000
END:DAYLIGHT
BEGIN:STANDARD
TZOFFSETFROM:-0700
TZOFFSETTO:-0800
TZNAME:PST
DTSTART:20231105T090000
END:STANDARD
BEGIN:DAYLIGHT
TZOFFSETFROM:-0800
TZOFFSETTO:-0700
TZNAME:PDT
DTSTART:20240310T100000
END:DAYLIGHT
BEGIN:STANDARD
TZOFFSETFROM:-0700
TZOFFSETTO:-0800
TZNAME:PST
DTSTART:20241103T090000
END:STANDARD
END:VTIMEZONE
BEGIN:VEVENT
DTSTART;TZID=America/Los_Angeles:20231104T000000
DTEND;TZID=America/Los_Angeles:20231104T235959
DTSTAMP:20260425T041549
CREATED:20230920T190716Z
LAST-MODIFIED:20230920T190717Z
UID:342-1699056000-1699142399@westsoundbrewers.com
SUMMARY:Novembeerfest Judging
DESCRIPTION:Judging for this event \n\n\n\nhttps://beerawardsplatform.com/novembeerfest-23 \n\n\n\nRegistration is Oct 13th thru Oct 28th. Judging Nov 4th. Drop off locations TBA.
URL:https://westsoundbrewers.com/event/novembeerfest-judging/
LOCATION:WA
END:VEVENT
BEGIN:VEVENT
DTSTART;TZID=America/Los_Angeles:20231104T080000
DTEND;TZID=America/Los_Angeles:20231104T170000
DTSTAMP:20260425T041549
CREATED:20230124T045008Z
LAST-MODIFIED:20230124T045010Z
UID:94-1699084800-1699117200@westsoundbrewers.com
SUMMARY:Teach a Friend to Brew
DESCRIPTION:details to come
URL:https://westsoundbrewers.com/event/teach-a-friend-to-brew/
LOCATION:WA
END:VEVENT
END:VCALENDAR