BEGIN:VCALENDAR
VERSION:2.0
PRODID:-//West Sound Brewers - ECPv6.15.20//NONSGML v1.0//EN
CALSCALE:GREGORIAN
METHOD:PUBLISH
X-WR-CALNAME:West Sound Brewers
X-ORIGINAL-URL:https://westsoundbrewers.com
X-WR-CALDESC:Events for West Sound Brewers
REFRESH-INTERVAL;VALUE=DURATION:PT1H
X-Robots-Tag:noindex
X-PUBLISHED-TTL:PT1H
BEGIN:VTIMEZONE
TZID:America/Los_Angeles
BEGIN:DAYLIGHT
TZOFFSETFROM:-0800
TZOFFSETTO:-0700
TZNAME:PDT
DTSTART:20220313T100000
END:DAYLIGHT
BEGIN:STANDARD
TZOFFSETFROM:-0700
TZOFFSETTO:-0800
TZNAME:PST
DTSTART:20221106T090000
END:STANDARD
BEGIN:DAYLIGHT
TZOFFSETFROM:-0800
TZOFFSETTO:-0700
TZNAME:PDT
DTSTART:20230312T100000
END:DAYLIGHT
BEGIN:STANDARD
TZOFFSETFROM:-0700
TZOFFSETTO:-0800
TZNAME:PST
DTSTART:20231105T090000
END:STANDARD
BEGIN:DAYLIGHT
TZOFFSETFROM:-0800
TZOFFSETTO:-0700
TZNAME:PDT
DTSTART:20240310T100000
END:DAYLIGHT
BEGIN:STANDARD
TZOFFSETFROM:-0700
TZOFFSETTO:-0800
TZNAME:PST
DTSTART:20241103T090000
END:STANDARD
END:VTIMEZONE
BEGIN:VEVENT
DTSTART;TZID=America/Los_Angeles:20230929T000000
DTEND;TZID=America/Los_Angeles:20231013T235959
DTSTAMP:20260425T054136
CREATED:20230514T040656Z
LAST-MODIFIED:20230514T040658Z
UID:219-1695945600-1697241599@westsoundbrewers.com
SUMMARY:Lights Out - drop off at Oly Brew?
DESCRIPTION:https://reggiebeer.com/ReggieEntry.php?CompetitionID=LOXYUN1000794
URL:https://westsoundbrewers.com/event/lights-out-drop-off-at-oly-brew/
LOCATION:WA
END:VEVENT
BEGIN:VEVENT
DTSTART;TZID=America/Los_Angeles:20231004T173000
DTEND;TZID=America/Los_Angeles:20231004T200000
DTSTAMP:20260425T054136
CREATED:20231003T002146Z
LAST-MODIFIED:20231003T002150Z
UID:347-1696440600-1696449600@westsoundbrewers.com
SUMMARY:Weekday Wet your Whistle - Moe's on Liberty Bay
DESCRIPTION:https://moesonlibertybay.com/ Although the website was flagged as suspicious
URL:https://westsoundbrewers.com/event/weekday-wet-your-whistle-moes-on-liberty-bay/
LOCATION:WA
END:VEVENT
END:VCALENDAR