BEGIN:VCALENDAR
VERSION:2.0
PRODID:-//West Sound Brewers - ECPv6.15.20//NONSGML v1.0//EN
CALSCALE:GREGORIAN
METHOD:PUBLISH
X-WR-CALNAME:West Sound Brewers
X-ORIGINAL-URL:https://westsoundbrewers.com
X-WR-CALDESC:Events for West Sound Brewers
REFRESH-INTERVAL;VALUE=DURATION:PT1H
X-Robots-Tag:noindex
X-PUBLISHED-TTL:PT1H
BEGIN:VTIMEZONE
TZID:America/Los_Angeles
BEGIN:DAYLIGHT
TZOFFSETFROM:-0800
TZOFFSETTO:-0700
TZNAME:PDT
DTSTART:20220313T100000
END:DAYLIGHT
BEGIN:STANDARD
TZOFFSETFROM:-0700
TZOFFSETTO:-0800
TZNAME:PST
DTSTART:20221106T090000
END:STANDARD
BEGIN:DAYLIGHT
TZOFFSETFROM:-0800
TZOFFSETTO:-0700
TZNAME:PDT
DTSTART:20230312T100000
END:DAYLIGHT
BEGIN:STANDARD
TZOFFSETFROM:-0700
TZOFFSETTO:-0800
TZNAME:PST
DTSTART:20231105T090000
END:STANDARD
BEGIN:DAYLIGHT
TZOFFSETFROM:-0800
TZOFFSETTO:-0700
TZNAME:PDT
DTSTART:20240310T100000
END:DAYLIGHT
BEGIN:STANDARD
TZOFFSETFROM:-0700
TZOFFSETTO:-0800
TZNAME:PST
DTSTART:20241103T090000
END:STANDARD
END:VTIMEZONE
BEGIN:VEVENT
DTSTART;TZID=America/Los_Angeles:20230718T000000
DTEND;TZID=America/Los_Angeles:20230729T235959
DTSTAMP:20260425T100047
CREATED:20230514T040506Z
LAST-MODIFIED:20230514T040508Z
UID:217-1689638400-1690675199@westsoundbrewers.com
SUMMARY:Best of the Bay - drop off at Oly Brew
DESCRIPTION:https://bellinghamhomebrewersguild.org/bestofthebay/
URL:https://westsoundbrewers.com/event/best-of-the-bay-drop-off-at-oly-brew/
LOCATION:WA
END:VEVENT
BEGIN:VEVENT
DTSTART;TZID=America/Los_Angeles:20230722T140000
DTEND;TZID=America/Los_Angeles:20230722T190000
DTSTAMP:20260425T100047
CREATED:20230414T043145Z
LAST-MODIFIED:20230720T044142Z
UID:182-1690034400-1690052400@westsoundbrewers.com
SUMMARY:July Picnic
DESCRIPTION:Potluck Barbeque. Bring your A game for smoking\, grilling\, or BBQ (there could be bragging rights for the best). Also be sure to bring sides. \n\n\n\nEquipment Swap/Sale. Bring your no longer used equipment and beer memorabilia to trade/sell. Contact Curt Dawson for details. \n\n\n\nhttps://www.google.com/maps/place/47%C2%B041’06.1%22N+122%C2%B038’24.7%22W/@47.6850278\,-122.6401944\,18z/data=!3m1!4b1!4m4!3m3!8m2!3d47.6850278!4d-122.6401944?entry=ttu \n\n\n\nOk\, there will be 4 picnic tables and 5 folding tables at the site. You need to bring chairs and FOOD! If grilling/BBQing\, you’ll need to bring your grill etc.  \n\n\n\nThere are plenty of outlets for crock pots etc. It is a picnic/potluck. We’ll need sides and desserts along with main dish meats etc. \n\n\n\nAny beer is acceptable. Home brew\, commercial\, stolen\, whatever! \n\n\n\nThere is a playground\, tennis courts\, beach volleyball\, horseshoes and baseball field
URL:https://westsoundbrewers.com/event/july-picnic/
LOCATION:WA
END:VEVENT
END:VCALENDAR