BEGIN:VCALENDAR
VERSION:2.0
PRODID:-//West Sound Brewers - ECPv6.15.20//NONSGML v1.0//EN
CALSCALE:GREGORIAN
METHOD:PUBLISH
X-WR-CALNAME:West Sound Brewers
X-ORIGINAL-URL:https://westsoundbrewers.com
X-WR-CALDESC:Events for West Sound Brewers
REFRESH-INTERVAL;VALUE=DURATION:PT1H
X-Robots-Tag:noindex
X-PUBLISHED-TTL:PT1H
BEGIN:VTIMEZONE
TZID:America/Los_Angeles
BEGIN:DAYLIGHT
TZOFFSETFROM:-0800
TZOFFSETTO:-0700
TZNAME:PDT
DTSTART:20220313T100000
END:DAYLIGHT
BEGIN:STANDARD
TZOFFSETFROM:-0700
TZOFFSETTO:-0800
TZNAME:PST
DTSTART:20221106T090000
END:STANDARD
BEGIN:DAYLIGHT
TZOFFSETFROM:-0800
TZOFFSETTO:-0700
TZNAME:PDT
DTSTART:20230312T100000
END:DAYLIGHT
BEGIN:STANDARD
TZOFFSETFROM:-0700
TZOFFSETTO:-0800
TZNAME:PST
DTSTART:20231105T090000
END:STANDARD
BEGIN:DAYLIGHT
TZOFFSETFROM:-0800
TZOFFSETTO:-0700
TZNAME:PDT
DTSTART:20240310T100000
END:DAYLIGHT
BEGIN:STANDARD
TZOFFSETFROM:-0700
TZOFFSETTO:-0800
TZNAME:PST
DTSTART:20241103T090000
END:STANDARD
END:VTIMEZONE
BEGIN:VEVENT
DTSTART;TZID=America/Los_Angeles:20230610T110000
DTEND;TZID=America/Los_Angeles:20230610T190000
DTSTAMP:20260425T112150
CREATED:20230522T043339Z
LAST-MODIFIED:20230522T160641Z
UID:237-1686394800-1686423600@westsoundbrewers.com
SUMMARY:Tacoma Pub Crawl
DESCRIPTION:WestSound Brewers has scheduled a pub crawl of the Tacoma Brewery District for June 10\, 2023\, a Saturday. The brewery district includes 7 Seas Brewery (opens at 11 AM)\, Camp Colvos (opens at noon)\, E9 Brewing (opens at noon)\, Sig Brewing (opens at noon)\, and Black Fleet Brewing (opens at 3 PM). Incline Cider (opens at noon) is another option for those who also enjoy a good cider. The first four breweries have food options. \n\n\n\nRegarding transportation: there is bus service from Tacoma Community College to downtown Tacoma. Pierce Transit Bus #2 runs from a park and ride on campus at South 19th and Mildred Street. The parking lot is free and there are security cameras. The bus cost is $2 each way and exact change is required. If you choose to ride the bus\, your stop will be S 19th and Market. From the corner look to your right\, you will see 7 Seas Brewery. \n\n\n\nIf you choose to drive to Tacoma\, you will find free parking on the streets in the Brewery District on Jefferson and C Street and on other streets. I drove through the streets that people would park on and saw no signs of broken glass indicating car prowls. I also talked to Camp Colvos workers and people who frequently visit the district and they said they have had no car prowl issues recently. \n\n\n\nPeople are encouraged to car pool and communicate via cell phones to hook-up if you are unable to join the kick-off at 7 Seas at 11 AM. It should be a great deal of fun and a good chance to mingle. \n\n\n\nCheers\, \n\n\n\nTerry Clements \n\n\n\n(360) 434-8596
URL:https://westsoundbrewers.com/event/tacoma-pub-crawl/
LOCATION:WA
END:VEVENT
END:VCALENDAR